BEGIN:VCALENDAR
VERSION:2.0
PRODID:-//Maison de la Famille des Basques - ECPv6.15.16//NONSGML v1.0//EN
CALSCALE:GREGORIAN
METHOD:PUBLISH
X-ORIGINAL-URL:https://mdfbasques.com
X-WR-CALDESC:Évènements pour Maison de la Famille des Basques
REFRESH-INTERVAL;VALUE=DURATION:PT1H
X-Robots-Tag:noindex
X-PUBLISHED-TTL:PT1H
BEGIN:VTIMEZONE
TZID:America/New_York
BEGIN:DAYLIGHT
TZOFFSETFROM:-0500
TZOFFSETTO:-0400
TZNAME:EDT
DTSTART:20220313T070000
END:DAYLIGHT
BEGIN:STANDARD
TZOFFSETFROM:-0400
TZOFFSETTO:-0500
TZNAME:EST
DTSTART:20221106T060000
END:STANDARD
BEGIN:DAYLIGHT
TZOFFSETFROM:-0500
TZOFFSETTO:-0400
TZNAME:EDT
DTSTART:20230312T070000
END:DAYLIGHT
BEGIN:STANDARD
TZOFFSETFROM:-0400
TZOFFSETTO:-0500
TZNAME:EST
DTSTART:20231105T060000
END:STANDARD
BEGIN:DAYLIGHT
TZOFFSETFROM:-0500
TZOFFSETTO:-0400
TZNAME:EDT
DTSTART:20240310T070000
END:DAYLIGHT
BEGIN:STANDARD
TZOFFSETFROM:-0400
TZOFFSETTO:-0500
TZNAME:EST
DTSTART:20241103T060000
END:STANDARD
BEGIN:DAYLIGHT
TZOFFSETFROM:-0500
TZOFFSETTO:-0400
TZNAME:EDT
DTSTART:20250309T070000
END:DAYLIGHT
BEGIN:STANDARD
TZOFFSETFROM:-0400
TZOFFSETTO:-0500
TZNAME:EST
DTSTART:20251102T060000
END:STANDARD
END:VTIMEZONE
BEGIN:VEVENT
DTSTART;TZID=America/New_York:20240321T090000
DTEND;TZID=America/New_York:20240321T113000
DTSTAMP:20260420T133612
CREATED:20240215T141549Z
LAST-MODIFIED:20250326T175620Z
UID:10002912-1711011600-1711020600@mdfbasques.com
SUMMARY:Maison de la Famille mobile Saint-Simon
DESCRIPTION:La maison de la famille vous dévoile son nouveau projet! \nNotre espace-famille (milieu de vie) se déplace maintenant dans votre municipalité! \nIl n’est pas obligatoire de s’inscrire\, nous vous attendons à la salle Desjardins (366\, route 132) à Saint-Simon-de-Rimouski. \nPour plus d’informations : 418-851-2662 poste 303 (Vicky) ou 304 (Rosemary) \nMerci à la municipalité de leur collaboration. \nLa Maison de la Famille mobile est réalisé par les Alliances pour la solidarité\, en collaboration avec le ministère du Travail\, de l’Emploi et de la Solidarité sociale. 
URL:https://mdfbasques.com/evenement/maison-de-la-famille-mobile-saint-eloi-7__trashed/
LOCATION:Salle Desjardins\, 366\, roue 132\, Saint-Simon-de-Rimouski\, Québec\, Canada
ATTACH;FMTTYPE=image/png:https://mdfbasques.com/wp-content/uploads/2024/02/MDF-mobile-Saint-Simon.png
END:VEVENT
BEGIN:VEVENT
DTSTART;TZID=America/New_York:20230906T163000
DTEND;TZID=America/New_York:20230906T183000
DTSTAMP:20260420T133612
CREATED:20230821T154647Z
LAST-MODIFIED:20250326T175555Z
UID:10001830-1694017800-1694025000@mdfbasques.com
SUMMARY:Cuisine en famille à Saint-Simon
DESCRIPTION:Viens cuisiner et manger avec nous! \n16h30 à 18h30 \nÀ la Salle Desjardins \n366 route 132 à Saint-Simon \nActivité gratuite pour les membres! \nPlaces limitées et inscriptions obligatoires \nmdfbasques.com ou 418-851-2662 poste 303 Vicky
URL:https://mdfbasques.com/evenement/cuisine-en-famille-a-saint-simon__trashed/
LOCATION:Salle Desjardins\, 366\, roue 132\, Saint-Simon-de-Rimouski\, Québec\, Canada
END:VEVENT
END:VCALENDAR