BEGIN:VCALENDAR
VERSION:2.0
PRODID:-//Maison de la Famille des Basques - ECPv6.15.16//NONSGML v1.0//EN
CALSCALE:GREGORIAN
METHOD:PUBLISH
X-ORIGINAL-URL:https://mdfbasques.com
X-WR-CALDESC:Évènements pour Maison de la Famille des Basques
REFRESH-INTERVAL;VALUE=DURATION:PT1H
X-Robots-Tag:noindex
X-PUBLISHED-TTL:PT1H
BEGIN:VTIMEZONE
TZID:America/New_York
BEGIN:DAYLIGHT
TZOFFSETFROM:-0500
TZOFFSETTO:-0400
TZNAME:EDT
DTSTART:20220313T070000
END:DAYLIGHT
BEGIN:STANDARD
TZOFFSETFROM:-0400
TZOFFSETTO:-0500
TZNAME:EST
DTSTART:20221106T060000
END:STANDARD
BEGIN:DAYLIGHT
TZOFFSETFROM:-0500
TZOFFSETTO:-0400
TZNAME:EDT
DTSTART:20230312T070000
END:DAYLIGHT
BEGIN:STANDARD
TZOFFSETFROM:-0400
TZOFFSETTO:-0500
TZNAME:EST
DTSTART:20231105T060000
END:STANDARD
BEGIN:DAYLIGHT
TZOFFSETFROM:-0500
TZOFFSETTO:-0400
TZNAME:EDT
DTSTART:20240310T070000
END:DAYLIGHT
BEGIN:STANDARD
TZOFFSETFROM:-0400
TZOFFSETTO:-0500
TZNAME:EST
DTSTART:20241103T060000
END:STANDARD
END:VTIMEZONE
BEGIN:VEVENT
DTSTART;TZID=America/New_York:20230401T083000
DTEND;TZID=America/New_York:20230401T113000
DTSTAMP:20260422T003124
CREATED:20221210T193237Z
LAST-MODIFIED:20250326T175536Z
UID:10001168-1680337800-1680348600@mdfbasques.com
SUMMARY:Salle de psychomotricité
DESCRIPTION:Vous ne savez pas quoi faire ce samedi? Eh bien bonne nouvelle!!! La salle de psychomotricité sera ouverte!!!! \nLa salle est gratuite pour les enfants de 18 mois et moins ainsi que pour les adultes. Pour les enfants de 18 mois et plus : 3$. \nMaintenant\, nous ne prenons plus de réservations pour la salle de psychomotricité. Venez directement à la maison de la famille.
URL:https://mdfbasques.com/evenement/salle-de-psychomotricite-4-2-2-2-3-5__trashed/
LOCATION:Maison de la Famille des Basques\, 340\, rue Jean Rioux\, Trois-Pistoles\, Québec\, G0L 4K0\, Canada
CATEGORIES:Salle de psychomotricité
ATTACH;FMTTYPE=image/jpeg:https://mdfbasques.com/wp-content/uploads/2022/08/salle-psycho-samedi-am.jpg
END:VEVENT
BEGIN:VEVENT
DTSTART;TZID=America/New_York:20230408T083000
DTEND;TZID=America/New_York:20230408T113000
DTSTAMP:20260422T003124
CREATED:20221210T193237Z
LAST-MODIFIED:20250326T175537Z
UID:10001246-1680942600-1680953400@mdfbasques.com
SUMMARY:Espace famille
DESCRIPTION:Tu as besoin de changer d’air\, de voir des gens? De bouger et de sortir de chez toi? La Maison de la Famille est ouverte pour ta famille les samedis matins. Venez jouer librement! \nBonne nouvelle\, la salle de psychomotricité est gratuite pour tous durant l’espace famille. \nMaintenant\, nous ne prenons plus de réservations pour la salle de psychomotricité. Venez directement à la maison de la famille.
URL:https://mdfbasques.com/evenement/salle-de-psychomotricite-4-2-2-2-3-5-3__trashed/
LOCATION:Maison de la Famille des Basques\, 340\, rue Jean Rioux\, Trois-Pistoles\, Québec\, G0L 4K0\, Canada
CATEGORIES:Espace Famille,Salle de psychomotricité
ATTACH;FMTTYPE=image/png:https://mdfbasques.com/wp-content/uploads/2022/12/Billet-espace-famille-samedi1200-×-628-px.png
END:VEVENT
BEGIN:VEVENT
DTSTART;TZID=America/New_York:20230414T173000
DTEND;TZID=America/New_York:20230414T200000
DTSTAMP:20260422T003124
CREATED:20221210T193237Z
LAST-MODIFIED:20250326T175538Z
UID:10001247-1681493400-1681502400@mdfbasques.com
SUMMARY:Espace famille
DESCRIPTION:Tu as besoin de changer d’air\, de voir des gens? De bouger et de sortir de chez toi? La Maison de la Famille est ouverte pour ta famille les vendredis soirs. Venez jouer librement! \nBonne nouvelle\, la salle de psychomotricité est gratuite pour tous durant l’espace famille. \nMaintenant\, nous ne prenons plus de réservations pour la salle de psychomotricité. Venez directement à la maison de la famille.
URL:https://mdfbasques.com/evenement/salle-de-psychomotricite-4-2-2-3-2-3-4-2-3-3__trashed/
LOCATION:Maison de la Famille des Basques\, 340\, rue Jean Rioux\, Trois-Pistoles\, Québec\, G0L 4K0\, Canada
CATEGORIES:Espace Famille,Salle de psychomotricité
ATTACH;FMTTYPE=image/png:https://mdfbasques.com/wp-content/uploads/2022/12/Billet-espace-famille-vendredi1200-×-628-px.png
END:VEVENT
BEGIN:VEVENT
DTSTART;TZID=America/New_York:20230415T083000
DTEND;TZID=America/New_York:20230415T113000
DTSTAMP:20260422T003124
CREATED:20221210T193237Z
LAST-MODIFIED:20250326T175539Z
UID:10001250-1681547400-1681558200@mdfbasques.com
SUMMARY:Espace famille
DESCRIPTION:Tu as besoin de changer d’air\, de voir des gens? De bouger et de sortir de chez toi? La Maison de la Famille est ouverte pour ta famille les samedis matins. Venez jouer librement! \nBonne nouvelle\, la salle de psychomotricité est gratuite pour tous durant l’espace famille. \nMaintenant\, nous ne prenons plus de réservations pour la salle de psychomotricité. Venez directement à la maison de la famille.
URL:https://mdfbasques.com/evenement/salle-de-psychomotricite-4-2-2-2-3-5-3-2__trashed/
LOCATION:Maison de la Famille des Basques\, 340\, rue Jean Rioux\, Trois-Pistoles\, Québec\, G0L 4K0\, Canada
CATEGORIES:Salle de psychomotricité
ATTACH;FMTTYPE=image/png:https://mdfbasques.com/wp-content/uploads/2022/12/Billet-espace-famille-samedi1200-×-628-px.png
END:VEVENT
BEGIN:VEVENT
DTSTART;TZID=America/New_York:20230421T173000
DTEND;TZID=America/New_York:20230421T200000
DTSTAMP:20260422T003124
CREATED:20221210T193237Z
LAST-MODIFIED:20250326T175540Z
UID:10001248-1682098200-1682107200@mdfbasques.com
SUMMARY:Espace famille
DESCRIPTION:Tu as besoin de changer d’air\, de voir des gens? De bouger et de sortir de chez toi? La Maison de la Famille est ouverte pour ta famille les vendredis soirs. Venez jouer librement! \nBonne nouvelle\, la salle de psychomotricité est gratuite pour tous durant l’espace famille. \nMaintenant\, nous ne prenons plus de réservations pour la salle de psychomotricité. Venez directement à la maison de la famille.
URL:https://mdfbasques.com/evenement/salle-de-psychomotricite-4-2-2-3-2-3-4-2-3-3-2__trashed/
LOCATION:Maison de la Famille des Basques\, 340\, rue Jean Rioux\, Trois-Pistoles\, Québec\, G0L 4K0\, Canada
CATEGORIES:Espace Famille,Salle de psychomotricité
ATTACH;FMTTYPE=image/png:https://mdfbasques.com/wp-content/uploads/2022/12/Billet-espace-famille-vendredi1200-×-628-px.png
END:VEVENT
BEGIN:VEVENT
DTSTART;TZID=America/New_York:20230422T083000
DTEND;TZID=America/New_York:20230422T113000
DTSTAMP:20260422T003124
CREATED:20221210T193237Z
LAST-MODIFIED:20250326T175540Z
UID:10001251-1682152200-1682163000@mdfbasques.com
SUMMARY:Espace famille
DESCRIPTION:Tu as besoin de changer d’air\, de voir des gens? De bouger et de sortir de chez toi? La Maison de la Famille est ouverte pour ta famille les samedis matins. Venez jouer librement! \nBonne nouvelle\, la salle de psychomotricité est gratuite pour tous durant l’espace famille. \nMaintenant\, nous ne prenons plus de réservations pour la salle de psychomotricité. Venez directement à la maison de la famille.
URL:https://mdfbasques.com/evenement/salle-de-psychomotricite-4-2-2-2-3-5-3-2-2__trashed/
LOCATION:Maison de la Famille des Basques\, 340\, rue Jean Rioux\, Trois-Pistoles\, Québec\, G0L 4K0\, Canada
CATEGORIES:Espace Famille,Salle de psychomotricité
ATTACH;FMTTYPE=image/png:https://mdfbasques.com/wp-content/uploads/2022/12/Billet-espace-famille-samedi1200-×-628-px.png
END:VEVENT
BEGIN:VEVENT
DTSTART;TZID=America/New_York:20230428T173000
DTEND;TZID=America/New_York:20230428T200000
DTSTAMP:20260422T003124
CREATED:20221210T193237Z
LAST-MODIFIED:20250326T175541Z
UID:10001249-1682703000-1682712000@mdfbasques.com
SUMMARY:Espace famille
DESCRIPTION:Tu as besoin de changer d’air\, de voir des gens? De bouger et de sortir de chez toi? La Maison de la Famille est ouverte pour ta famille les vendredis soirs. Venez jouer librement! \nBonne nouvelle\, la salle de psychomotricité est gratuite pour tous durant l’espace famille. \nMaintenant\, nous ne prenons plus de réservations pour la salle de psychomotricité. Venez directement à la maison de la famille.
URL:https://mdfbasques.com/evenement/salle-de-psychomotricite-4-2-2-3-2-3-4-2-3-3-2-2__trashed/
LOCATION:Maison de la Famille des Basques\, 340\, rue Jean Rioux\, Trois-Pistoles\, Québec\, G0L 4K0\, Canada
CATEGORIES:Espace Famille,Salle de psychomotricité
ATTACH;FMTTYPE=image/png:https://mdfbasques.com/wp-content/uploads/2022/12/Billet-espace-famille-vendredi1200-×-628-px.png
END:VEVENT
END:VCALENDAR