BEGIN:VCALENDAR
VERSION:2.0
PRODID:-//Maison de la Famille des Basques - ECPv6.15.16//NONSGML v1.0//EN
CALSCALE:GREGORIAN
METHOD:PUBLISH
X-ORIGINAL-URL:https://mdfbasques.com
X-WR-CALDESC:Évènements pour Maison de la Famille des Basques
REFRESH-INTERVAL;VALUE=DURATION:PT1H
X-Robots-Tag:noindex
X-PUBLISHED-TTL:PT1H
BEGIN:VTIMEZONE
TZID:America/New_York
BEGIN:DAYLIGHT
TZOFFSETFROM:-0500
TZOFFSETTO:-0400
TZNAME:EDT
DTSTART:20220313T070000
END:DAYLIGHT
BEGIN:STANDARD
TZOFFSETFROM:-0400
TZOFFSETTO:-0500
TZNAME:EST
DTSTART:20221106T060000
END:STANDARD
BEGIN:DAYLIGHT
TZOFFSETFROM:-0500
TZOFFSETTO:-0400
TZNAME:EDT
DTSTART:20230312T070000
END:DAYLIGHT
BEGIN:STANDARD
TZOFFSETFROM:-0400
TZOFFSETTO:-0500
TZNAME:EST
DTSTART:20231105T060000
END:STANDARD
BEGIN:DAYLIGHT
TZOFFSETFROM:-0500
TZOFFSETTO:-0400
TZNAME:EDT
DTSTART:20240310T070000
END:DAYLIGHT
BEGIN:STANDARD
TZOFFSETFROM:-0400
TZOFFSETTO:-0500
TZNAME:EST
DTSTART:20241103T060000
END:STANDARD
END:VTIMEZONE
BEGIN:VEVENT
DTSTART;TZID=America/New_York:20230304T083000
DTEND;TZID=America/New_York:20230304T113000
DTSTAMP:20260421T225537
CREATED:20221210T193237Z
LAST-MODIFIED:20250326T175532Z
UID:10001139-1677918600-1677929400@mdfbasques.com
SUMMARY:Salle de psychomotricité
DESCRIPTION:Vous ne savez pas quoi faire ce samedi? Eh bien bonne nouvelle!!! La salle de psychomotricité sera ouverte!!!! \nLa salle est gratuite pour les enfants de 18 mois et moins ainsi que pour les adultes. Pour les enfants de 18 mois et plus : 3$. \nMaintenant\, nous ne prenons plus de réservations pour la salle de psychomotricité. Venez directement à la maison de la famille.
URL:https://mdfbasques.com/evenement/salle-de-psychomotricite-4-2-2-2-3__trashed/
LOCATION:Maison de la Famille des Basques\, 340\, rue Jean Rioux\, Trois-Pistoles\, Québec\, G0L 4K0\, Canada
CATEGORIES:Salle de psychomotricité
ATTACH;FMTTYPE=image/jpeg:https://mdfbasques.com/wp-content/uploads/2022/08/salle-psycho-samedi-am.jpg
END:VEVENT
BEGIN:VEVENT
DTSTART;TZID=America/New_York:20230317T173000
DTEND;TZID=America/New_York:20230317T200000
DTSTAMP:20260421T225537
CREATED:20221210T193237Z
LAST-MODIFIED:20250326T175534Z
UID:10001154-1679074200-1679083200@mdfbasques.com
SUMMARY:Salle de psychomotricité
DESCRIPTION:Nouvelle plage horaire pour venir vous amusez dans la salle de psychomotricité avec vos enfants\, le vendredi soir de 17h30 à 20h00. \nLa salle est gratuite pour les enfants de 18 mois et moins ainsi que pour les adultes. Pour les enfants de 18 mois et plus : 3$. \nMaintenant\, nous ne prenons plus de réservations pour la salle de psychomotricité. Venez directement à la maison de la famille.
URL:https://mdfbasques.com/evenement/salle-de-psychomotricite-4-2-2-3-2-3-3__trashed/
LOCATION:Maison de la Famille des Basques\, 340\, rue Jean Rioux\, Trois-Pistoles\, Québec\, G0L 4K0\, Canada
CATEGORIES:Salle de psychomotricité
ATTACH;FMTTYPE=image/jpeg:https://mdfbasques.com/wp-content/uploads/2022/12/2a2074f8-6192-4479-bfff-02a18d1fb0ac.jpg
END:VEVENT
BEGIN:VEVENT
DTSTART;TZID=America/New_York:20230318T083000
DTEND;TZID=America/New_York:20230318T113000
DTSTAMP:20260421T225537
CREATED:20221210T193237Z
LAST-MODIFIED:20250326T175534Z
UID:10001151-1679128200-1679139000@mdfbasques.com
SUMMARY:Salle de psychomotricité
DESCRIPTION:Vous ne savez pas quoi faire ce samedi? Eh bien bonne nouvelle!!! La salle de psychomotricité sera ouverte!!!! \nLa salle est gratuite pour les enfants de 18 mois et moins ainsi que pour les adultes. Pour les enfants de 18 mois et plus : 3$. \nIl n’est pas obligatoire d’avoir une réservation\, venez nous rejoindre directement à la Maison de la famille.
URL:https://mdfbasques.com/evenement/salle-de-psychomotricite-4-2-2-2-3-3__trashed/
LOCATION:Maison de la Famille des Basques\, 340\, rue Jean Rioux\, Trois-Pistoles\, Québec\, G0L 4K0\, Canada
CATEGORIES:Salle de psychomotricité
ATTACH;FMTTYPE=image/jpeg:https://mdfbasques.com/wp-content/uploads/2022/08/salle-psycho-samedi-am.jpg
END:VEVENT
BEGIN:VEVENT
DTSTART;TZID=America/New_York:20230324T173000
DTEND;TZID=America/New_York:20230324T200000
DTSTAMP:20260421T225537
CREATED:20221210T193237Z
LAST-MODIFIED:20250326T175535Z
UID:10001160-1679679000-1679688000@mdfbasques.com
SUMMARY:Salle de psychomotricité
DESCRIPTION:Nouvelle plage horaire pour venir vous amusez dans la salle de psychomotricité avec vos enfants\, le vendredi soir de 17h30 à 20h00. \nLa salle est gratuite pour les enfants de 18 mois et moins ainsi que pour les adultes. Pour les enfants de 18 mois et plus : 3$. \nMaintenant\, nous ne prenons plus de réservations pour la salle de psychomotricité. Venez directement à la maison de la famille.
URL:https://mdfbasques.com/evenement/salle-de-psychomotricite-4-2-2-3-2-3-4__trashed/
LOCATION:Maison de la Famille des Basques\, 340\, rue Jean Rioux\, Trois-Pistoles\, Québec\, G0L 4K0\, Canada
CATEGORIES:Salle de psychomotricité
ATTACH;FMTTYPE=image/jpeg:https://mdfbasques.com/wp-content/uploads/2022/12/2a2074f8-6192-4479-bfff-02a18d1fb0ac.jpg
END:VEVENT
BEGIN:VEVENT
DTSTART;TZID=America/New_York:20230325T083000
DTEND;TZID=America/New_York:20230325T113000
DTSTAMP:20260421T225537
CREATED:20221210T193237Z
LAST-MODIFIED:20250326T175535Z
UID:10001161-1679733000-1679743800@mdfbasques.com
SUMMARY:Salle de psychomotricité
DESCRIPTION:Vous ne savez pas quoi faire ce samedi? Eh bien bonne nouvelle!!! La salle de psychomotricité sera ouverte!!!! \nLa salle est gratuite pour les enfants de 18 mois et moins ainsi que pour les adultes. Pour les enfants de 18 mois et plus : 3$. \nMaintenant\, nous ne prenons plus de réservations pour la salle de psychomotricité. Venez directement à la maison de la famille.
URL:https://mdfbasques.com/evenement/salle-de-psychomotricite-4-2-2-2-3-4__trashed/
LOCATION:Maison de la Famille des Basques\, 340\, rue Jean Rioux\, Trois-Pistoles\, Québec\, G0L 4K0\, Canada
CATEGORIES:Salle de psychomotricité
ATTACH;FMTTYPE=image/jpeg:https://mdfbasques.com/wp-content/uploads/2022/08/salle-psycho-samedi-am.jpg
END:VEVENT
BEGIN:VEVENT
DTSTART;TZID=America/New_York:20230331T173000
DTEND;TZID=America/New_York:20230331T200000
DTSTAMP:20260421T225537
CREATED:20221210T193237Z
LAST-MODIFIED:20250326T175536Z
UID:10001167-1680283800-1680292800@mdfbasques.com
SUMMARY:Salle de psychomotricité
DESCRIPTION:Nouvelle plage horaire pour venir vous amusez dans la salle de psychomotricité avec vos enfants\, le vendredi soir de 17h30 à 20h00. \nLa salle est gratuite pour les enfants de 18 mois et moins ainsi que pour les adultes. Pour les enfants de 18 mois et plus : 3$. \nMaintenant\, nous ne prenons plus de réservations pour la salle de psychomotricité. Venez directement à la maison de la famille.
URL:https://mdfbasques.com/evenement/salle-de-psychomotricite-4-2-2-3-2-3-4-2__trashed/
LOCATION:Maison de la Famille des Basques\, 340\, rue Jean Rioux\, Trois-Pistoles\, Québec\, G0L 4K0\, Canada
CATEGORIES:Salle de psychomotricité
ATTACH;FMTTYPE=image/jpeg:https://mdfbasques.com/wp-content/uploads/2022/12/2a2074f8-6192-4479-bfff-02a18d1fb0ac.jpg
END:VEVENT
END:VCALENDAR