BEGIN:VCALENDAR
VERSION:2.0
PRODID:-//Maison de la Famille des Basques - ECPv6.15.16//NONSGML v1.0//EN
CALSCALE:GREGORIAN
METHOD:PUBLISH
X-WR-CALNAME:Maison de la Famille des Basques
X-ORIGINAL-URL:https://mdfbasques.com
X-WR-CALDESC:Évènements pour Maison de la Famille des Basques
REFRESH-INTERVAL;VALUE=DURATION:PT1H
X-Robots-Tag:noindex
X-PUBLISHED-TTL:PT1H
BEGIN:VTIMEZONE
TZID:America/New_York
BEGIN:DAYLIGHT
TZOFFSETFROM:-0500
TZOFFSETTO:-0400
TZNAME:EDT
DTSTART:20220313T070000
END:DAYLIGHT
BEGIN:STANDARD
TZOFFSETFROM:-0400
TZOFFSETTO:-0500
TZNAME:EST
DTSTART:20221106T060000
END:STANDARD
BEGIN:DAYLIGHT
TZOFFSETFROM:-0500
TZOFFSETTO:-0400
TZNAME:EDT
DTSTART:20230312T070000
END:DAYLIGHT
BEGIN:STANDARD
TZOFFSETFROM:-0400
TZOFFSETTO:-0500
TZNAME:EST
DTSTART:20231105T060000
END:STANDARD
BEGIN:DAYLIGHT
TZOFFSETFROM:-0500
TZOFFSETTO:-0400
TZNAME:EDT
DTSTART:20240310T070000
END:DAYLIGHT
BEGIN:STANDARD
TZOFFSETFROM:-0400
TZOFFSETTO:-0500
TZNAME:EST
DTSTART:20241103T060000
END:STANDARD
END:VTIMEZONE
BEGIN:VEVENT
DTSTART;TZID=America/New_York:20230204T083000
DTEND;TZID=America/New_York:20230204T113000
DTSTAMP:20260421T211010
CREATED:20221210T193237Z
LAST-MODIFIED:20250326T175525Z
UID:10000904-1675499400-1675510200@mdfbasques.com
SUMMARY:Salle de psychomotricité
DESCRIPTION:Vous ne savez pas quoi faire ce samedi? Eh bien bonne nouvelle!!! La salle de psychomotricité sera ouverte!!!! \nLa salle est gratuite pour les enfants de 18 mois et moins ainsi que pour les adultes. Pour les enfants de 18 mois et plus : 3$.
URL:https://mdfbasques.com/evenement/salle-de-psychomotricite-4-2__trashed/
LOCATION:Maison de la Famille des Basques\, 340\, rue Jean Rioux\, Trois-Pistoles\, Québec\, G0L 4K0\, Canada
CATEGORIES:Salle de psychomotricité
ATTACH;FMTTYPE=image/jpeg:https://mdfbasques.com/wp-content/uploads/2022/08/salle-psycho-samedi-am.jpg
END:VEVENT
BEGIN:VEVENT
DTSTART;TZID=America/New_York:20230210T173000
DTEND;TZID=America/New_York:20230210T200000
DTSTAMP:20260421T211010
CREATED:20221210T193237Z
LAST-MODIFIED:20250326T175527Z
UID:10001131-1676050200-1676059200@mdfbasques.com
SUMMARY:Salle de psychomotricité
DESCRIPTION:Nouvelle plage horaire pour venir vous amusez dans la salle de psychomotricité avec vos enfants\, le vendredi soir de 17h30 à 20h00. Il n’y a pas de réservation obligatoire d’avance\, présentez vous sur place à la Maison de la Famille. \nLa salle est gratuite pour les enfants de 18 mois et moins ainsi que pour les adultes. Pour les enfants de 18 mois et plus : 3$.
URL:https://mdfbasques.com/evenement/salle-de-psychomotricite-4-2-2-3__trashed/
LOCATION:Maison de la Famille des Basques\, 340\, rue Jean Rioux\, Trois-Pistoles\, Québec\, G0L 4K0\, Canada
CATEGORIES:Salle de psychomotricité
ATTACH;FMTTYPE=image/jpeg:https://mdfbasques.com/wp-content/uploads/2022/12/2a2074f8-6192-4479-bfff-02a18d1fb0ac.jpg
END:VEVENT
BEGIN:VEVENT
DTSTART;TZID=America/New_York:20230211T083000
DTEND;TZID=America/New_York:20230211T113000
DTSTAMP:20260421T211010
CREATED:20221210T193237Z
LAST-MODIFIED:20250326T175527Z
UID:10000905-1676104200-1676115000@mdfbasques.com
SUMMARY:Salle de psychomotricité
DESCRIPTION:Vous ne savez pas quoi faire ce samedi? Eh bien bonne nouvelle!!! La salle de psychomotricité sera ouverte!!!! \nLa salle est gratuite pour les enfants de 18 mois et moins ainsi que pour les adultes. Pour les enfants de 18 mois et plus : 3$.
URL:https://mdfbasques.com/evenement/salle-de-psychomotricite-4-2-2__trashed/
LOCATION:Maison de la Famille des Basques\, 340\, rue Jean Rioux\, Trois-Pistoles\, Québec\, G0L 4K0\, Canada
CATEGORIES:Salle de psychomotricité
ATTACH;FMTTYPE=image/jpeg:https://mdfbasques.com/wp-content/uploads/2022/08/salle-psycho-samedi-am.jpg
END:VEVENT
BEGIN:VEVENT
DTSTART;TZID=America/New_York:20230217T173000
DTEND;TZID=America/New_York:20230217T200000
DTSTAMP:20260421T211010
CREATED:20221210T193237Z
LAST-MODIFIED:20250326T175529Z
UID:10001132-1676655000-1676664000@mdfbasques.com
SUMMARY:Salle de psychomotricité/ ANNULÉ TEMPÊTE
DESCRIPTION:Nouvelle plage horaire pour venir vous amusez dans la salle de psychomotricité avec vos enfants\, le vendredi soir de 17h30 à 20h00. Il n’y a pas de réservation obligatoire d’avance\, présentez vous sur place à la Maison de la Famille. \nLa salle est gratuite pour les enfants de 18 mois et moins ainsi que pour les adultes. Pour les enfants de 18 mois et plus : 3$.
URL:https://mdfbasques.com/evenement/salle-de-psychomotricite-4-2-2-3-2__trashed/
LOCATION:Maison de la Famille des Basques\, 340\, rue Jean Rioux\, Trois-Pistoles\, Québec\, G0L 4K0\, Canada
CATEGORIES:Salle de psychomotricité
ATTACH;FMTTYPE=image/jpeg:https://mdfbasques.com/wp-content/uploads/2022/12/2a2074f8-6192-4479-bfff-02a18d1fb0ac.jpg
END:VEVENT
BEGIN:VEVENT
DTSTART;TZID=America/New_York:20230218T083000
DTEND;TZID=America/New_York:20230218T113000
DTSTAMP:20260421T211010
CREATED:20221210T193237Z
LAST-MODIFIED:20250326T175529Z
UID:10000906-1676709000-1676719800@mdfbasques.com
SUMMARY:Salle de psychomotricité
DESCRIPTION:Vous ne savez pas quoi faire ce samedi? Eh bien bonne nouvelle!!! La salle de psychomotricité sera ouverte!!!! \nLa salle est gratuite pour les enfants de 18 mois et moins ainsi que pour les adultes. Pour les enfants de 18 mois et plus : 3$.
URL:https://mdfbasques.com/evenement/salle-de-psychomotricite-4-2-2-2__trashed/
LOCATION:Maison de la Famille des Basques\, 340\, rue Jean Rioux\, Trois-Pistoles\, Québec\, G0L 4K0\, Canada
CATEGORIES:Salle de psychomotricité
ATTACH;FMTTYPE=image/jpeg:https://mdfbasques.com/wp-content/uploads/2022/08/salle-psycho-samedi-am.jpg
END:VEVENT
BEGIN:VEVENT
DTSTART;TZID=America/New_York:20230224T173000
DTEND;TZID=America/New_York:20230224T200000
DTSTAMP:20260421T211010
CREATED:20221210T193237Z
LAST-MODIFIED:20250326T175530Z
UID:10001133-1677259800-1677268800@mdfbasques.com
SUMMARY:Salle de psychomotricité
DESCRIPTION:Nouvelle plage horaire pour venir vous amusez dans la salle de psychomotricité avec vos enfants\, le vendredi soir de 17h30 à 20h00. Il n’y a pas de réservation obligatoire d’avance\, présentez vous sur place à la Maison de la Famille. \nLa salle est gratuite pour les enfants de 18 mois et moins ainsi que pour les adultes. Pour les enfants de 18 mois et plus : 3$.
URL:https://mdfbasques.com/evenement/salle-de-psychomotricite-4-2-2-3-2-2__trashed/
LOCATION:Maison de la Famille des Basques\, 340\, rue Jean Rioux\, Trois-Pistoles\, Québec\, G0L 4K0\, Canada
CATEGORIES:Salle de psychomotricité
ATTACH;FMTTYPE=image/jpeg:https://mdfbasques.com/wp-content/uploads/2022/12/2a2074f8-6192-4479-bfff-02a18d1fb0ac.jpg
END:VEVENT
BEGIN:VEVENT
DTSTART;TZID=America/New_York:20230225T083000
DTEND;TZID=America/New_York:20230225T113000
DTSTAMP:20260421T211010
CREATED:20221210T193237Z
LAST-MODIFIED:20250326T175530Z
UID:10000907-1677313800-1677324600@mdfbasques.com
SUMMARY:Salle de psychomotricité
DESCRIPTION:Vous ne savez pas quoi faire ce samedi? Eh bien bonne nouvelle!!! La salle de psychomotricité sera ouverte!!!! \nLa salle est gratuite pour les enfants de 18 mois et moins ainsi que pour les adultes. Pour les enfants de 18 mois et plus : 3$.
URL:https://mdfbasques.com/evenement/salle-de-psychomotricite-4-2-2-2-2__trashed/
LOCATION:Maison de la Famille des Basques\, 340\, rue Jean Rioux\, Trois-Pistoles\, Québec\, G0L 4K0\, Canada
CATEGORIES:Salle de psychomotricité
ATTACH;FMTTYPE=image/jpeg:https://mdfbasques.com/wp-content/uploads/2022/08/salle-psycho-samedi-am.jpg
END:VEVENT
END:VCALENDAR