BEGIN:VCALENDAR
VERSION:2.0
PRODID:-//Maison de la Famille des Basques - ECPv6.15.16//NONSGML v1.0//EN
CALSCALE:GREGORIAN
METHOD:PUBLISH
X-ORIGINAL-URL:https://mdfbasques.com
X-WR-CALDESC:Évènements pour Maison de la Famille des Basques
REFRESH-INTERVAL;VALUE=DURATION:PT1H
X-Robots-Tag:noindex
X-PUBLISHED-TTL:PT1H
BEGIN:VTIMEZONE
TZID:America/New_York
BEGIN:DAYLIGHT
TZOFFSETFROM:-0500
TZOFFSETTO:-0400
TZNAME:EDT
DTSTART:20220313T070000
END:DAYLIGHT
BEGIN:STANDARD
TZOFFSETFROM:-0400
TZOFFSETTO:-0500
TZNAME:EST
DTSTART:20221106T060000
END:STANDARD
BEGIN:DAYLIGHT
TZOFFSETFROM:-0500
TZOFFSETTO:-0400
TZNAME:EDT
DTSTART:20230312T070000
END:DAYLIGHT
BEGIN:STANDARD
TZOFFSETFROM:-0400
TZOFFSETTO:-0500
TZNAME:EST
DTSTART:20231105T060000
END:STANDARD
BEGIN:DAYLIGHT
TZOFFSETFROM:-0500
TZOFFSETTO:-0400
TZNAME:EDT
DTSTART:20240310T070000
END:DAYLIGHT
BEGIN:STANDARD
TZOFFSETFROM:-0400
TZOFFSETTO:-0500
TZNAME:EST
DTSTART:20241103T060000
END:STANDARD
END:VTIMEZONE
BEGIN:VEVENT
DTSTART;TZID=America/New_York:20230912T090000
DTEND;TZID=America/New_York:20230912T100000
DTSTAMP:20260424T171318
CREATED:20230809T180717Z
LAST-MODIFIED:20250326T175556Z
UID:10001353-1694509200-1694512800@mdfbasques.com
SUMMARY:STEP POUSSETTE!!!
DESCRIPTION:Venez vous dégourdir avec votre bébé et les enfants tout en socialisant et prendre l’air! Pour information contactez Vicky 418-851-2662 poste 303. \nvous pouvez vous inscrire en ligne\, par téléphone ou Messenger par notre page facebook \nGratuit pour les membres \nà noter que les cartes de membres sont à renouveler à partir du 1 septembre 2023 pour l’année. \nTout les mardis de 9h à 10h00 au camping municipal de Trois-Pistoles
URL:https://mdfbasques.com/evenement/step-poussette-4__trashed/
LOCATION:Maison de la Famille des Basques\, 340\, rue Jean Rioux\, Trois-Pistoles\, Québec\, G0L 4K0\, Canada
CATEGORIES:Activités,Événements,Step-poussette
END:VEVENT
BEGIN:VEVENT
DTSTART;TZID=America/New_York:20230919T090000
DTEND;TZID=America/New_York:20230919T100000
DTSTAMP:20260424T171318
CREATED:20230809T180928Z
LAST-MODIFIED:20250326T175557Z
UID:10001354-1695114000-1695117600@mdfbasques.com
SUMMARY:STEP POUSSETTE!!!
DESCRIPTION:Venez vous dégourdir avec votre bébé et les enfants tout en socialisant et prendre l’air! Pour information contactez Vicky 418-851-2662 poste 303. \nvous pouvez vous inscrire en ligne\, par téléphone ou Messenger par notre page facebook \nGratuit pour les membres \nà noter que les cartes de membres sont à renouveler à partir du 1 septembre 2023 pour l’année. \nTout les mardis de 9h à 10h00 au camping municipal de Trois-Pistoles \n 
URL:https://mdfbasques.com/evenement/step-poussette-5__trashed/
LOCATION:Maison de la Famille des Basques\, 340\, rue Jean Rioux\, Trois-Pistoles\, Québec\, G0L 4K0\, Canada
CATEGORIES:Activités,Événements,Step-poussette
END:VEVENT
BEGIN:VEVENT
DTSTART;TZID=America/New_York:20230926T090000
DTEND;TZID=America/New_York:20230926T100000
DTSTAMP:20260424T171318
CREATED:20230809T181657Z
LAST-MODIFIED:20250326T175558Z
UID:10001355-1695718800-1695722400@mdfbasques.com
SUMMARY:STEP POUSSETTE
DESCRIPTION:Venez vous dégourdir avec votre bébé et les enfants tout en socialisant et prendre l’air! Pour information contactez Vicky 418-851-2662 poste 303. \nvous pouvez vous inscrire en ligne\, par téléphone ou Messenger par notre page facebook \nGratuit pour les membres \nà noter que les cartes de membres sont à renouveler à partir du 1 septembre 2023 pour l’année. \nTout les mardis de 9h à 10h00 au camping municipal de Trois-Pistoles
URL:https://mdfbasques.com/evenement/step-poussette-6__trashed/
LOCATION:Maison de la Famille des Basques\, 340\, rue Jean Rioux\, Trois-Pistoles\, Québec\, G0L 4K0\, Canada
CATEGORIES:Activités,Événements,Step-poussette
END:VEVENT
END:VCALENDAR