BEGIN:VCALENDAR
VERSION:2.0
PRODID:-//Maison de la Famille des Basques - ECPv6.15.16//NONSGML v1.0//EN
CALSCALE:GREGORIAN
METHOD:PUBLISH
X-ORIGINAL-URL:https://mdfbasques.com
X-WR-CALDESC:Évènements pour Maison de la Famille des Basques
REFRESH-INTERVAL;VALUE=DURATION:PT1H
X-Robots-Tag:noindex
X-PUBLISHED-TTL:PT1H
BEGIN:VTIMEZONE
TZID:America/New_York
BEGIN:DAYLIGHT
TZOFFSETFROM:-0500
TZOFFSETTO:-0400
TZNAME:EDT
DTSTART:20240310T070000
END:DAYLIGHT
BEGIN:STANDARD
TZOFFSETFROM:-0400
TZOFFSETTO:-0500
TZNAME:EST
DTSTART:20241103T060000
END:STANDARD
BEGIN:DAYLIGHT
TZOFFSETFROM:-0500
TZOFFSETTO:-0400
TZNAME:EDT
DTSTART:20250309T070000
END:DAYLIGHT
BEGIN:STANDARD
TZOFFSETFROM:-0400
TZOFFSETTO:-0500
TZNAME:EST
DTSTART:20251102T060000
END:STANDARD
BEGIN:DAYLIGHT
TZOFFSETFROM:-0500
TZOFFSETTO:-0400
TZNAME:EDT
DTSTART:20260308T070000
END:DAYLIGHT
BEGIN:STANDARD
TZOFFSETFROM:-0400
TZOFFSETTO:-0500
TZNAME:EST
DTSTART:20261101T060000
END:STANDARD
END:VTIMEZONE
BEGIN:VEVENT
DTSTART;TZID=America/New_York:20250501T090000
DTEND;TZID=America/New_York:20250501T120000
DTSTAMP:20260419T113549
CREATED:20250331T151541Z
LAST-MODIFIED:20250331T151636Z
UID:10003488-1746090000-1746100800@mdfbasques.com
SUMMARY:Halte-garderie
DESCRIPTION:Vous avez besoin d’un moment de répit pour vous reposer? Vous voulez aller à un rendez-vous ? Vous aimeriez que votre enfant socialise avec d’autres enfants? La halte-garderie est disponible pour vous! \nApportez ce que votre enfant aura besoin (par exemple\, couches\, lingettes\, repas\, collations\, objets de réconfort\, etc). \n3$ de l’heure ou 7$ pour la demi-journée.\nVeuillez noter qu’il faut être membre pour utiliser le service. \nPour réserver une place\, inscrivez vous sur le site web. Si vous avez des questions\, vous pouvez nous joindre sur Facebook (Messenger) ou par téléphone au 418-851-2662 poste 308.
URL:https://mdfbasques.com/evenement/23041/
LOCATION:Maison de la Famille des Basques\, 340\, rue Jean Rioux\, Trois-Pistoles\, Québec\, G0L 4K0\, Canada
CATEGORIES:Halte-garderie
ATTACH;FMTTYPE=image/png:https://mdfbasques.com/wp-content/uploads/2025/03/Halte-garderie-hiver-20252.png
END:VEVENT
BEGIN:VEVENT
DTSTART;TZID=America/New_York:20250502T173000
DTEND;TZID=America/New_York:20250502T203000
DTSTAMP:20260419T113549
CREATED:20250224T203424Z
LAST-MODIFIED:20250326T175651Z
UID:10003332-1746207000-1746217800@mdfbasques.com
SUMMARY:Halte-garderie
DESCRIPTION:Vous avez besoin d’un moment de répit pour vous reposer? Vous voulez aller à un rendez-vous ? Vous aimeriez que votre enfant socialise avec d’autres enfants? La halte-garderie est disponible pour vous! \nApportez ce que votre enfant aura besoin (par exemple\, couches\, lingettes\, repas\, collations\, objets de réconfort\, etc). \n3$ de l’heure\n7$ pour la demi-journée\n15$ pour la journée complète \nVeuillez noter qu’il faut être membre pour utiliser le service. \nPour réserver une place\, inscrivez vous sur le site web. Si vous avez des questions\, vous pouvez nous joindre sur Facebook (Messenger) ou par téléphone au 418-851-2662 poste 308.
URL:https://mdfbasques.com/evenement/halte-garderie-85__trashed/
LOCATION:Maison de la Famille des Basques\, 340\, rue Jean Rioux\, Trois-Pistoles\, Québec\, G0L 4K0\, Canada
CATEGORIES:Halte-garderie
ATTACH;FMTTYPE=image/png:https://mdfbasques.com/wp-content/uploads/2024/12/Halte-garderie-du-vendredi.png
END:VEVENT
BEGIN:VEVENT
DTSTART;TZID=America/New_York:20250503T090000
DTEND;TZID=America/New_York:20250503T120000
DTSTAMP:20260419T113549
CREATED:20250419T163058Z
LAST-MODIFIED:20250419T163231Z
UID:10003501-1746262800-1746273600@mdfbasques.com
SUMMARY:Halte-garderie
DESCRIPTION:Vous avez besoin d’un moment de répit pour vous reposer? Vous voulez aller à un rendez-vous ? Vous aimeriez que votre enfant socialise avec d’autres enfants? La halte-garderie est disponible pour vous! \nApportez ce que votre enfant aura besoin (par exemple\, couches\, lingettes\, repas\, collations\, objets de réconfort\, etc). \n3$ de l’heure ou 7$ pour la demi-journée.\nVeuillez noter qu’il faut être membre pour utiliser le service. \nPour réserver une place\, inscrivez vous sur le site web. Si vous avez des questions\, vous pouvez nous joindre sur Facebook (Messenger) ou par téléphone au 418-851-2662 poste 308.
URL:https://mdfbasques.com/evenement/halte-garderie-21/
LOCATION:Maison de la Famille des Basques\, 340\, rue Jean Rioux\, Trois-Pistoles\, Québec\, G0L 4K0\, Canada
CATEGORIES:Halte-garderie
ATTACH;FMTTYPE=image/png:https://mdfbasques.com/wp-content/uploads/2025/03/Halte-garderie-hiver-20252.png
END:VEVENT
BEGIN:VEVENT
DTSTART;TZID=America/New_York:20250505T090000
DTEND;TZID=America/New_York:20250505T160000
DTSTAMP:20260419T113549
CREATED:20250331T145412Z
LAST-MODIFIED:20250331T145412Z
UID:10003484-1746435600-1746460800@mdfbasques.com
SUMMARY:Halte-garderie
DESCRIPTION:Vous avez besoin d’un moment de répit pour vous reposer? Vous voulez aller à un rendez-vous ? Vous aimeriez que votre enfant socialise avec d’autres enfants? La halte-garderie est disponible pour vous! \nApportez ce que votre enfant aura besoin (par exemple\, couches\, lingettes\, repas\, collations\, objets de réconfort\, etc). \n3$ de l’heure ou 7$ pour la demi-journée.\nVeuillez noter qu’il faut être membre pour utiliser le service. \nPour réserver une place\, inscrivez vous sur le site web. Si vous avez des questions\, vous pouvez nous joindre sur Facebook (Messenger) ou par téléphone au 418-851-2662 poste 308.
URL:https://mdfbasques.com/evenement/halte-garderie-10/
LOCATION:Maison de la Famille des Basques\, 340\, rue Jean Rioux\, Trois-Pistoles\, Québec\, G0L 4K0\, Canada
CATEGORIES:Halte-garderie
ATTACH;FMTTYPE=image/png:https://mdfbasques.com/wp-content/uploads/2025/03/Halte-garderie-hiver-20252.png
END:VEVENT
BEGIN:VEVENT
DTSTART;TZID=America/New_York:20250506T090000
DTEND;TZID=America/New_York:20250506T160000
DTSTAMP:20260419T113549
CREATED:20250331T152038Z
LAST-MODIFIED:20250331T152038Z
UID:10003489-1746522000-1746547200@mdfbasques.com
SUMMARY:Halte-garderie
DESCRIPTION:Vous avez besoin d’un moment de répit pour vous reposer? Vous voulez aller à un rendez-vous ? Vous aimeriez que votre enfant socialise avec d’autres enfants? La halte-garderie est disponible pour vous! \nApportez ce que votre enfant aura besoin (par exemple\, couches\, lingettes\, repas\, collations\, objets de réconfort\, etc). \n3$ de l’heure ou 7$ pour la demi-journée.\nVeuillez noter qu’il faut être membre pour utiliser le service. \nPour réserver une place\, inscrivez vous sur le site web. Si vous avez des questions\, vous pouvez nous joindre sur Facebook (Messenger) ou par téléphone au 418-851-2662 poste 308.
URL:https://mdfbasques.com/evenement/halte-garderie-14/
LOCATION:Maison de la Famille des Basques\, 340\, rue Jean Rioux\, Trois-Pistoles\, Québec\, G0L 4K0\, Canada
CATEGORIES:Halte-garderie
ATTACH;FMTTYPE=image/png:https://mdfbasques.com/wp-content/uploads/2025/03/Halte-garderie-hiver-20252.png
END:VEVENT
BEGIN:VEVENT
DTSTART;TZID=America/New_York:20250508T090000
DTEND;TZID=America/New_York:20250508T120000
DTSTAMP:20260419T113549
CREATED:20250331T152653Z
LAST-MODIFIED:20250331T152653Z
UID:10003491-1746694800-1746705600@mdfbasques.com
SUMMARY:Halte-garderie
DESCRIPTION:Vous avez besoin d’un moment de répit pour vous reposer? Vous voulez aller à un rendez-vous ? Vous aimeriez que votre enfant socialise avec d’autres enfants? La halte-garderie est disponible pour vous! \nApportez ce que votre enfant aura besoin (par exemple\, couches\, lingettes\, repas\, collations\, objets de réconfort\, etc). \n3$ de l’heure ou 7$ pour la demi-journée.\nVeuillez noter qu’il faut être membre pour utiliser le service. \nPour réserver une place\, inscrivez vous sur le site web. Si vous avez des questions\, vous pouvez nous joindre sur Facebook (Messenger) ou par téléphone au 418-851-2662 poste 308.
URL:https://mdfbasques.com/evenement/halte-garderie-15/
LOCATION:Maison de la Famille des Basques\, 340\, rue Jean Rioux\, Trois-Pistoles\, Québec\, G0L 4K0\, Canada
CATEGORIES:Halte-garderie
ATTACH;FMTTYPE=image/png:https://mdfbasques.com/wp-content/uploads/2025/03/Halte-garderie-hiver-20252.png
END:VEVENT
BEGIN:VEVENT
DTSTART;TZID=America/New_York:20250509T173000
DTEND;TZID=America/New_York:20250509T203000
DTSTAMP:20260419T113549
CREATED:20250224T203632Z
LAST-MODIFIED:20250326T175652Z
UID:10003333-1746811800-1746822600@mdfbasques.com
SUMMARY:Halte-garderie
DESCRIPTION:Vous avez besoin d’un moment de répit pour vous reposer? Vous voulez aller à un rendez-vous ? Vous aimeriez que votre enfant socialise avec d’autres enfants? La halte-garderie est disponible pour vous! \nApportez ce que votre enfant aura besoin (par exemple\, couches\, lingettes\, repas\, collations\, objets de réconfort\, etc). \n3$ de l’heure\n7$ pour la demi-journée\n15$ pour la journée complète \nVeuillez noter qu’il faut être membre pour utiliser le service. \nPour réserver une place\, inscrivez vous sur le site web. Si vous avez des questions\, vous pouvez nous joindre sur Facebook (Messenger) ou par téléphone au 418-851-2662 poste 308.
URL:https://mdfbasques.com/evenement/halte-garderie-86__trashed/
LOCATION:Maison de la Famille des Basques\, 340\, rue Jean Rioux\, Trois-Pistoles\, Québec\, G0L 4K0\, Canada
CATEGORIES:Halte-garderie
ATTACH;FMTTYPE=image/png:https://mdfbasques.com/wp-content/uploads/2024/12/Halte-garderie-du-vendredi.png
END:VEVENT
BEGIN:VEVENT
DTSTART;TZID=America/New_York:20250510T090000
DTEND;TZID=America/New_York:20250510T120000
DTSTAMP:20260419T113549
CREATED:20250419T163723Z
LAST-MODIFIED:20250419T163723Z
UID:10003502-1746867600-1746878400@mdfbasques.com
SUMMARY:Halte-garderie
DESCRIPTION:Vous avez besoin d’un moment de répit pour vous reposer? Vous voulez aller à un rendez-vous ? Vous aimeriez que votre enfant socialise avec d’autres enfants? La halte-garderie est disponible pour vous! \nApportez ce que votre enfant aura besoin (par exemple\, couches\, lingettes\, repas\, collations\, objets de réconfort\, etc). \n3$ de l’heure ou 7$ pour la demi-journée.\nVeuillez noter qu’il faut être membre pour utiliser le service. \nPour réserver une place\, inscrivez vous sur le site web. Si vous avez des questions\, vous pouvez nous joindre sur Facebook (Messenger) ou par téléphone au 418-851-2662 poste 308.
URL:https://mdfbasques.com/evenement/halte-garderie-22/
LOCATION:Maison de la Famille des Basques\, 340\, rue Jean Rioux\, Trois-Pistoles\, Québec\, G0L 4K0\, Canada
CATEGORIES:Halte-garderie
ATTACH;FMTTYPE=image/png:https://mdfbasques.com/wp-content/uploads/2025/03/Halte-garderie-hiver-20252.png
END:VEVENT
BEGIN:VEVENT
DTSTART;TZID=America/New_York:20250513T090000
DTEND;TZID=America/New_York:20250513T160000
DTSTAMP:20260419T113549
CREATED:20250331T153206Z
LAST-MODIFIED:20250331T153227Z
UID:10003493-1747126800-1747152000@mdfbasques.com
SUMMARY:Halte-garderie
DESCRIPTION:Vous avez besoin d’un moment de répit pour vous reposer? Vous voulez aller à un rendez-vous ? Vous aimeriez que votre enfant socialise avec d’autres enfants? La halte-garderie est disponible pour vous! \nApportez ce que votre enfant aura besoin (par exemple\, couches\, lingettes\, repas\, collations\, objets de réconfort\, etc). \n3$ de l’heure ou 7$ pour la demi-journée.\nVeuillez noter qu’il faut être membre pour utiliser le service. \nPour réserver une place\, inscrivez vous sur le site web. Si vous avez des questions\, vous pouvez nous joindre sur Facebook (Messenger) ou par téléphone au 418-851-2662 poste 308.
URL:https://mdfbasques.com/evenement/23059/
LOCATION:Maison de la Famille des Basques\, 340\, rue Jean Rioux\, Trois-Pistoles\, Québec\, G0L 4K0\, Canada
CATEGORIES:Halte-garderie
ATTACH;FMTTYPE=image/png:https://mdfbasques.com/wp-content/uploads/2025/03/Halte-garderie-hiver-20252.png
END:VEVENT
BEGIN:VEVENT
DTSTART;TZID=America/New_York:20250520T090000
DTEND;TZID=America/New_York:20250520T160000
DTSTAMP:20260419T113549
CREATED:20250331T155058Z
LAST-MODIFIED:20250331T155058Z
UID:10003496-1747731600-1747756800@mdfbasques.com
SUMMARY:Halte-garderie
DESCRIPTION:Vous avez besoin d’un moment de répit pour vous reposer? Vous voulez aller à un rendez-vous ? Vous aimeriez que votre enfant socialise avec d’autres enfants? La halte-garderie est disponible pour vous! \nApportez ce que votre enfant aura besoin (par exemple\, couches\, lingettes\, repas\, collations\, objets de réconfort\, etc). \n3$ de l’heure ou 7$ pour la demi-journée.\nVeuillez noter qu’il faut être membre pour utiliser le service. \nPour réserver une place\, inscrivez vous sur le site web. Si vous avez des questions\, vous pouvez nous joindre sur Facebook (Messenger) ou par téléphone au 418-851-2662 poste 308.
URL:https://mdfbasques.com/evenement/halte-garderie-17/
LOCATION:Maison de la Famille des Basques\, 340\, rue Jean Rioux\, Trois-Pistoles\, Québec\, G0L 4K0\, Canada
CATEGORIES:Halte-garderie
ATTACH;FMTTYPE=image/png:https://mdfbasques.com/wp-content/uploads/2025/03/Halte-garderie-hiver-20252.png
END:VEVENT
BEGIN:VEVENT
DTSTART;TZID=America/New_York:20250522T090000
DTEND;TZID=America/New_York:20250522T120000
DTSTAMP:20260419T113549
CREATED:20250331T170429Z
LAST-MODIFIED:20250331T170429Z
UID:10003499-1747904400-1747915200@mdfbasques.com
SUMMARY:Halte-garderie
DESCRIPTION:Vous avez besoin d’un moment de répit pour vous reposer? Vous voulez aller à un rendez-vous ? Vous aimeriez que votre enfant socialise avec d’autres enfants? La halte-garderie est disponible pour vous! \nApportez ce que votre enfant aura besoin (par exemple\, couches\, lingettes\, repas\, collations\, objets de réconfort\, etc). \n3$ de l’heure ou 7$ pour la demi-journée.\nVeuillez noter qu’il faut être membre pour utiliser le service. \nPour réserver une place\, inscrivez vous sur le site web. Si vous avez des questions\, vous pouvez nous joindre sur Facebook (Messenger) ou par téléphone au 418-851-2662 poste 308.
URL:https://mdfbasques.com/evenement/halte-garderie-20/
LOCATION:Maison de la Famille des Basques\, 340\, rue Jean Rioux\, Trois-Pistoles\, Québec\, G0L 4K0\, Canada
CATEGORIES:Halte-garderie
ATTACH;FMTTYPE=image/png:https://mdfbasques.com/wp-content/uploads/2025/03/Halte-garderie-hiver-20252.png
END:VEVENT
BEGIN:VEVENT
DTSTART;TZID=America/New_York:20250523T180000
DTEND;TZID=America/New_York:20250523T203000
DTSTAMP:20260419T113549
CREATED:20250224T204040Z
LAST-MODIFIED:20250522T000032Z
UID:10003335-1748023200-1748032200@mdfbasques.com
SUMMARY:Halte-garderie
DESCRIPTION:Vous avez besoin d’un moment de répit pour vous reposer? Vous voulez aller à un rendez-vous ? Vous aimeriez que votre enfant socialise avec d’autres enfants? La halte-garderie est disponible pour vous! \nApportez ce que votre enfant aura besoin (par exemple\, couches\, lingettes\, repas\, collations\, objets de réconfort\, etc). \n3$ de l’heure\n7$ pour la demi-journée\n15$ pour la journée complète \nVeuillez noter qu’il faut être membre pour utiliser le service. \nPour réserver une place\, inscrivez vous sur le site web. Si vous avez des questions\, vous pouvez nous joindre sur Facebook (Messenger) ou par téléphone au 418-851-2662 poste 308.
URL:https://mdfbasques.com/evenement/halte-garderie-88__trashed/
LOCATION:Maison de la Famille des Basques\, 340\, rue Jean Rioux\, Trois-Pistoles\, Québec\, G0L 4K0\, Canada
CATEGORIES:Halte-garderie
ATTACH;FMTTYPE=image/png:https://mdfbasques.com/wp-content/uploads/2024/12/Halte-garderie-du-vendredi.png
END:VEVENT
BEGIN:VEVENT
DTSTART;TZID=America/New_York:20250524T090000
DTEND;TZID=America/New_York:20250524T120000
DTSTAMP:20260419T113549
CREATED:20250419T163956Z
LAST-MODIFIED:20250419T163956Z
UID:10003503-1748077200-1748088000@mdfbasques.com
SUMMARY:Halte-garderie
DESCRIPTION:Vous avez besoin d’un moment de répit pour vous reposer? Vous voulez aller à un rendez-vous ? Vous aimeriez que votre enfant socialise avec d’autres enfants? La halte-garderie est disponible pour vous! \nApportez ce que votre enfant aura besoin (par exemple\, couches\, lingettes\, repas\, collations\, objets de réconfort\, etc). \n3$ de l’heure ou 7$ pour la demi-journée.\nVeuillez noter qu’il faut être membre pour utiliser le service. \nPour réserver une place\, inscrivez vous sur le site web. Si vous avez des questions\, vous pouvez nous joindre sur Facebook (Messenger) ou par téléphone au 418-851-2662 poste 308.
URL:https://mdfbasques.com/evenement/halte-garderie-23/
LOCATION:Maison de la Famille des Basques\, 340\, rue Jean Rioux\, Trois-Pistoles\, Québec\, G0L 4K0\, Canada
CATEGORIES:Halte-garderie
ATTACH;FMTTYPE=image/png:https://mdfbasques.com/wp-content/uploads/2025/03/Halte-garderie-hiver-20252.png
END:VEVENT
BEGIN:VEVENT
DTSTART;TZID=America/New_York:20250526T090000
DTEND;TZID=America/New_York:20250526T160000
DTSTAMP:20260419T113549
CREATED:20250331T150808Z
LAST-MODIFIED:20250331T150808Z
UID:10003487-1748250000-1748275200@mdfbasques.com
SUMMARY:Halte-garderie
DESCRIPTION:Vous avez besoin d’un moment de répit pour vous reposer? Vous voulez aller à un rendez-vous ? Vous aimeriez que votre enfant socialise avec d’autres enfants? La halte-garderie est disponible pour vous! \nApportez ce que votre enfant aura besoin (par exemple\, couches\, lingettes\, repas\, collations\, objets de réconfort\, etc). \n3$ de l’heure ou 7$ pour la demi-journée.\nVeuillez noter qu’il faut être membre pour utiliser le service. \nPour réserver une place\, inscrivez vous sur le site web. Si vous avez des questions\, vous pouvez nous joindre sur Facebook (Messenger) ou par téléphone au 418-851-2662 poste 308.
URL:https://mdfbasques.com/evenement/halte-garderie-13/
LOCATION:Maison de la Famille des Basques\, 340\, rue Jean Rioux\, Trois-Pistoles\, Québec\, G0L 4K0\, Canada
CATEGORIES:Halte-garderie
ATTACH;FMTTYPE=image/png:https://mdfbasques.com/wp-content/uploads/2025/03/Halte-garderie-hiver-20252.png
END:VEVENT
BEGIN:VEVENT
DTSTART;TZID=America/New_York:20250527T090000
DTEND;TZID=America/New_York:20250527T160000
DTSTAMP:20260419T113549
CREATED:20250331T163129Z
LAST-MODIFIED:20250331T163129Z
UID:10003498-1748336400-1748361600@mdfbasques.com
SUMMARY:Halte-garderie
DESCRIPTION:Vous avez besoin d’un moment de répit pour vous reposer? Vous voulez aller à un rendez-vous ? Vous aimeriez que votre enfant socialise avec d’autres enfants? La halte-garderie est disponible pour vous! \nApportez ce que votre enfant aura besoin (par exemple\, couches\, lingettes\, repas\, collations\, objets de réconfort\, etc). \n3$ de l’heure ou 7$ pour la demi-journée.\nVeuillez noter qu’il faut être membre pour utiliser le service. \nPour réserver une place\, inscrivez vous sur le site web. Si vous avez des questions\, vous pouvez nous joindre sur Facebook (Messenger) ou par téléphone au 418-851-2662 poste 308.
URL:https://mdfbasques.com/evenement/halte-garderie-19/
LOCATION:Maison de la Famille des Basques\, 340\, rue Jean Rioux\, Trois-Pistoles\, Québec\, G0L 4K0\, Canada
CATEGORIES:Halte-garderie
ATTACH;FMTTYPE=image/png:https://mdfbasques.com/wp-content/uploads/2025/03/Halte-garderie-hiver-20252.png
END:VEVENT
BEGIN:VEVENT
DTSTART;TZID=America/New_York:20250529T090000
DTEND;TZID=America/New_York:20250529T120000
DTSTAMP:20260419T113549
CREATED:20250522T000505Z
LAST-MODIFIED:20250522T000735Z
UID:10003581-1748509200-1748520000@mdfbasques.com
SUMMARY:Halte-garderie
DESCRIPTION:Vous avez besoin d’un moment de répit pour vous reposer? Vous voulez aller à un rendez-vous ? Vous aimeriez que votre enfant socialise avec d’autres enfants? La halte-garderie est disponible pour vous! \nApportez ce que votre enfant aura besoin (par exemple\, couches\, lingettes\, repas\, collations\, objets de réconfort\, etc). \n3$ de l’heure ou 7$ pour la demi-journée.\nVeuillez noter qu’il faut être membre pour utiliser le service. \nPour réserver une place\, inscrivez vous sur le site web. Si vous avez des questions\, vous pouvez nous joindre sur Facebook (Messenger) ou par téléphone au 418-851-2662 poste 308.
URL:https://mdfbasques.com/evenement/halte-garderie-18/
LOCATION:Maison de la Famille des Basques\, 340\, rue Jean Rioux\, Trois-Pistoles\, Québec\, G0L 4K0\, Canada
CATEGORIES:Halte-garderie
END:VEVENT
BEGIN:VEVENT
DTSTART;TZID=America/New_York:20250530T173000
DTEND;TZID=America/New_York:20250530T203000
DTSTAMP:20260419T113549
CREATED:20250224T204233Z
LAST-MODIFIED:20250326T175652Z
UID:10003336-1748626200-1748637000@mdfbasques.com
SUMMARY:Halte-garderie
DESCRIPTION:Vous avez besoin d’un moment de répit pour vous reposer? Vous voulez aller à un rendez-vous ? Vous aimeriez que votre enfant socialise avec d’autres enfants? La halte-garderie est disponible pour vous! \nApportez ce que votre enfant aura besoin (par exemple\, couches\, lingettes\, repas\, collations\, objets de réconfort\, etc). \n3$ de l’heure\n7$ pour la demi-journée\n15$ pour la journée complète \nVeuillez noter qu’il faut être membre pour utiliser le service. \nPour réserver une place\, inscrivez vous sur le site web. Si vous avez des questions\, vous pouvez nous joindre sur Facebook (Messenger) ou par téléphone au 418-851-2662 poste 308.
URL:https://mdfbasques.com/evenement/halte-garderie-89__trashed/
LOCATION:Maison de la Famille des Basques\, 340\, rue Jean Rioux\, Trois-Pistoles\, Québec\, G0L 4K0\, Canada
CATEGORIES:Halte-garderie
ATTACH;FMTTYPE=image/png:https://mdfbasques.com/wp-content/uploads/2024/12/Halte-garderie-du-vendredi.png
END:VEVENT
END:VCALENDAR