BEGIN:VCALENDAR
VERSION:2.0
PRODID:-//Maison de la Famille des Basques - ECPv6.15.16//NONSGML v1.0//EN
CALSCALE:GREGORIAN
METHOD:PUBLISH
X-ORIGINAL-URL:https://mdfbasques.com
X-WR-CALDESC:Évènements pour Maison de la Famille des Basques
REFRESH-INTERVAL;VALUE=DURATION:PT1H
X-Robots-Tag:noindex
X-PUBLISHED-TTL:PT1H
BEGIN:VTIMEZONE
TZID:America/New_York
BEGIN:DAYLIGHT
TZOFFSETFROM:-0500
TZOFFSETTO:-0400
TZNAME:EDT
DTSTART:20240310T070000
END:DAYLIGHT
BEGIN:STANDARD
TZOFFSETFROM:-0400
TZOFFSETTO:-0500
TZNAME:EST
DTSTART:20241103T060000
END:STANDARD
BEGIN:DAYLIGHT
TZOFFSETFROM:-0500
TZOFFSETTO:-0400
TZNAME:EDT
DTSTART:20250309T070000
END:DAYLIGHT
BEGIN:STANDARD
TZOFFSETFROM:-0400
TZOFFSETTO:-0500
TZNAME:EST
DTSTART:20251102T060000
END:STANDARD
BEGIN:DAYLIGHT
TZOFFSETFROM:-0500
TZOFFSETTO:-0400
TZNAME:EDT
DTSTART:20260308T070000
END:DAYLIGHT
BEGIN:STANDARD
TZOFFSETFROM:-0400
TZOFFSETTO:-0500
TZNAME:EST
DTSTART:20261101T060000
END:STANDARD
END:VTIMEZONE
BEGIN:VEVENT
DTSTART;TZID=America/New_York:20250401T090000
DTEND;TZID=America/New_York:20250401T160000
DTSTAMP:20260419T131543
CREATED:20250228T184811Z
LAST-MODIFIED:20250326T190444Z
UID:10003348-1743498000-1743523200@mdfbasques.com
SUMMARY:Halte-garderie
DESCRIPTION:Vous avez besoin d’un moment de répit pour vous reposer? Vous voulez aller à un rendez-vous ? Vous aimeriez que votre enfant socialise avec d’autres enfants? La halte-garderie est disponible pour vous! \nApportez ce que votre enfant aura besoin (par exemple\, couches\, lingettes\, repas\, collations\, objets de réconfort\, etc). \n3$ de l’heure ou 7$ pour la demi-journée.\nVeuillez noter qu’il faut être membre pour utiliser le service. \nPour réserver une place\, inscrivez vous sur le site web. Si vous avez des questions\, vous pouvez nous joindre sur Facebook (Messenger) ou par téléphone au 418-851-2662 poste 308.
URL:https://mdfbasques.com/evenement/halte-garderie-97__trashed/
LOCATION:Maison de la Famille des Basques\, 340\, rue Jean Rioux\, Trois-Pistoles\, Québec\, G0L 4K0\, Canada
CATEGORIES:Halte-garderie
ATTACH;FMTTYPE=image/png:https://mdfbasques.com/wp-content/uploads/2025/03/Halte-garderie-hiver-20252.png
END:VEVENT
BEGIN:VEVENT
DTSTART;TZID=America/New_York:20250403T090000
DTEND;TZID=America/New_York:20250403T120000
DTSTAMP:20260419T131543
CREATED:20250324T193542Z
LAST-MODIFIED:20250326T175649Z
UID:10003412-1743670800-1743681600@mdfbasques.com
SUMMARY:Halte-garderie
DESCRIPTION:Vous avez besoin d’un moment de répit pour vous reposer? Vous voulez aller à un rendez-vous ? Vous aimeriez que votre enfant socialise avec d’autres enfants? La halte-garderie est disponible pour vous! \nApportez ce que votre enfant aura besoin (par exemple\, couches\, lingettes\, repas\, collations\, objets de réconfort\, etc). \n3$ de l’heure ou 7$ pour la demi-journée.\nVeuillez noter qu’il faut être membre pour utiliser le service. \nPour réserver une place\, inscrivez vous sur le site web. Si vous avez des questions\, vous pouvez nous joindre sur Facebook (Messenger) ou par téléphone au 418-851-2662 poste 308.
URL:https://mdfbasques.com/evenement/halte-garderie-99__trashed/
LOCATION:Maison de la Famille des Basques\, 340\, rue Jean Rioux\, Trois-Pistoles\, Québec\, G0L 4K0\, Canada
CATEGORIES:Halte-garderie
ATTACH;FMTTYPE=image/png:https://mdfbasques.com/wp-content/uploads/2025/03/Halte-garderie-hiver-20251.png
END:VEVENT
BEGIN:VEVENT
DTSTART;TZID=America/New_York:20250407T090000
DTEND;TZID=America/New_York:20250407T160000
DTSTAMP:20260419T131543
CREATED:20250324T194001Z
LAST-MODIFIED:20250403T173051Z
UID:10003413-1744016400-1744041600@mdfbasques.com
SUMMARY:Halte-garderie
DESCRIPTION:Vous avez besoin d’un moment de répit pour vous reposer? Vous voulez aller à un rendez-vous ? Vous aimeriez que votre enfant socialise avec d’autres enfants? La halte-garderie est disponible pour vous! \nApportez ce que votre enfant aura besoin (par exemple\, couches\, lingettes\, repas\, collations\, objets de réconfort\, etc). \n3$ de l’heure ou 7$ pour la demi-journée.\nVeuillez noter qu’il faut être membre pour utiliser le service. \nPour réserver une place\, inscrivez vous sur le site web. Si vous avez des questions\, vous pouvez nous joindre sur Facebook (Messenger) ou par téléphone au 418-851-2662 poste 308.
URL:https://mdfbasques.com/evenement/halte-garderie-100__trashed/
LOCATION:Maison de la Famille des Basques\, 340\, rue Jean Rioux\, Trois-Pistoles\, Québec\, G0L 4K0\, Canada
CATEGORIES:Halte-garderie
ATTACH;FMTTYPE=image/png:https://mdfbasques.com/wp-content/uploads/2025/03/Halte-garderie-hiver-20251.png
END:VEVENT
BEGIN:VEVENT
DTSTART;TZID=America/New_York:20250408T090000
DTEND;TZID=America/New_York:20250408T160000
DTSTAMP:20260419T131543
CREATED:20250228T185031Z
LAST-MODIFIED:20250326T190643Z
UID:10003349-1744102800-1744128000@mdfbasques.com
SUMMARY:Halte-garderie
DESCRIPTION:Vous avez besoin d’un moment de répit pour vous reposer? Vous voulez aller à un rendez-vous ? Vous aimeriez que votre enfant socialise avec d’autres enfants? La halte-garderie est disponible pour vous! \nApportez ce que votre enfant aura besoin (par exemple\, couches\, lingettes\, repas\, collations\, objets de réconfort\, etc). \n3$ de l’heure ou 7$ pour la demi-journée.\nVeuillez noter qu’il faut être membre pour utiliser le service. \nPour réserver une place\, inscrivez vous sur le site web. Si vous avez des questions\, vous pouvez nous joindre sur Facebook (Messenger) ou par téléphone au 418-851-2662 poste 308.
URL:https://mdfbasques.com/evenement/halte-garderie-98__trashed/
LOCATION:Maison de la Famille des Basques\, 340\, rue Jean Rioux\, Trois-Pistoles\, Québec\, G0L 4K0\, Canada
CATEGORIES:Halte-garderie
ATTACH;FMTTYPE=image/png:https://mdfbasques.com/wp-content/uploads/2025/01/Billet-halte-garderie-mardi-1200-×-628-px.png
END:VEVENT
BEGIN:VEVENT
DTSTART;TZID=America/New_York:20250410T090000
DTEND;TZID=America/New_York:20250410T120000
DTSTAMP:20260419T131543
CREATED:20250324T194326Z
LAST-MODIFIED:20250326T184839Z
UID:10003414-1744275600-1744286400@mdfbasques.com
SUMMARY:Halte-garderie
DESCRIPTION:Vous avez besoin d’un moment de répit pour vous reposer? Vous voulez aller à un rendez-vous ? Vous aimeriez que votre enfant socialise avec d’autres enfants? La halte-garderie est disponible pour vous! \nApportez ce que votre enfant aura besoin (par exemple\, couches\, lingettes\, repas\, collations\, objets de réconfort\, etc). \n3$ de l’heure ou 7$ pour la demi-journée.\nVeuillez noter qu’il faut être membre pour utiliser le service. \nPour réserver une place\, inscrivez vous sur le site web. Si vous avez des questions\, vous pouvez nous joindre sur Facebook (Messenger) ou par téléphone au 418-851-2662 poste 308.
URL:https://mdfbasques.com/evenement/halte-garderie-101__trashed/
LOCATION:Maison de la Famille des Basques\, 340\, rue Jean Rioux\, Trois-Pistoles\, Québec\, G0L 4K0\, Canada
CATEGORIES:Halte-garderie
ATTACH;FMTTYPE=image/png:https://mdfbasques.com/wp-content/uploads/2025/03/Halte-garderie-hiver-20251.png
END:VEVENT
BEGIN:VEVENT
DTSTART;TZID=America/New_York:20250411T173000
DTEND;TZID=America/New_York:20250411T203000
DTSTAMP:20260419T131543
CREATED:20250224T204620Z
LAST-MODIFIED:20250326T175650Z
UID:10003337-1744392600-1744403400@mdfbasques.com
SUMMARY:Halte-garderie
DESCRIPTION:Vous avez besoin d’un moment de répit pour vous reposer? Vous voulez aller à un rendez-vous ? Vous aimeriez que votre enfant socialise avec d’autres enfants? La halte-garderie est disponible pour vous! \nApportez ce que votre enfant aura besoin (par exemple\, couches\, lingettes\, repas\, collations\, objets de réconfort\, etc). \n3$ de l’heure\n7$ pour la demi-journée\n15$ pour la journée complète \nVeuillez noter qu’il faut être membre pour utiliser le service. \nPour réserver une place\, inscrivez vous sur le site web. Si vous avez des questions\, vous pouvez nous joindre sur Facebook (Messenger) ou par téléphone au 418-851-2662 poste 308.
URL:https://mdfbasques.com/evenement/halte-garderie-90__trashed/
LOCATION:Maison de la Famille des Basques\, 340\, rue Jean Rioux\, Trois-Pistoles\, Québec\, G0L 4K0\, Canada
CATEGORIES:Halte-garderie
ATTACH;FMTTYPE=image/png:https://mdfbasques.com/wp-content/uploads/2024/12/Halte-garderie-du-vendredi.png
END:VEVENT
BEGIN:VEVENT
DTSTART;TZID=America/New_York:20250412T090000
DTEND;TZID=America/New_York:20250412T120000
DTSTAMP:20260419T131543
CREATED:20250228T183630Z
LAST-MODIFIED:20250326T175650Z
UID:10003345-1744448400-1744459200@mdfbasques.com
SUMMARY:Halte-garderie
DESCRIPTION:Vous avez besoin d’un moment de répit pour vous reposer? Vous voulez aller à un rendez-vous ? Vous aimeriez que votre enfant socialise avec d’autres enfants? La halte-garderie est disponible pour vous! \nApportez ce que votre enfant aura besoin (par exemple\, couches\, lingettes\, repas\, collations\, objets de réconfort\, etc). \n3$ de l’heure ou 7$ pour la demi-journée.\nVeuillez noter qu’il faut être membre pour utiliser le service. \nPour réserver une place\, inscrivez vous sur le site web. Si vous avez des questions\, vous pouvez nous joindre sur Facebook (Messenger) ou par téléphone au 418-851-2662 poste 308.
URL:https://mdfbasques.com/evenement/hlte-garderie__trashed/
LOCATION:Maison de la Famille des Basques\, 340\, rue Jean Rioux\, Trois-Pistoles\, Québec\, G0L 4K0\, Canada
CATEGORIES:Halte-garderie
ATTACH;FMTTYPE=image/png:https://mdfbasques.com/wp-content/uploads/2024/12/Halte-garderie-du-vendredi.png
END:VEVENT
BEGIN:VEVENT
DTSTART;TZID=America/New_York:20250414T090000
DTEND;TZID=America/New_York:20250414T160000
DTSTAMP:20260419T131543
CREATED:20250326T185051Z
LAST-MODIFIED:20250326T191836Z
UID:10003474-1744621200-1744646400@mdfbasques.com
SUMMARY:Halte-garderie
DESCRIPTION:Vous avez besoin d’un moment de répit pour vous reposer? Vous voulez aller à un rendez-vous ? Vous aimeriez que votre enfant socialise avec d’autres enfants? La halte-garderie est disponible pour vous! \nApportez ce que votre enfant aura besoin (par exemple\, couches\, lingettes\, repas\, collations\, objets de réconfort\, etc). \n3$ de l’heure ou 7$ pour la demi-journée.\nVeuillez noter qu’il faut être membre pour utiliser le service. \nPour réserver une place\, inscrivez vous sur le site web. Si vous avez des questions\, vous pouvez nous joindre sur Facebook (Messenger) ou par téléphone au 418-851-2662 poste 308.
URL:https://mdfbasques.com/evenement/halte-garderie-3/
LOCATION:Maison de la Famille des Basques\, 340\, rue Jean Rioux\, Trois-Pistoles\, Québec\, G0L 4K0\, Canada
CATEGORIES:Halte-garderie
ATTACH;FMTTYPE=image/png:https://mdfbasques.com/wp-content/uploads/2025/03/Halte-garderie-hiver-20252.png
END:VEVENT
BEGIN:VEVENT
DTSTART;TZID=America/New_York:20250415T090000
DTEND;TZID=America/New_York:20250415T160000
DTSTAMP:20260419T131543
CREATED:20250326T185702Z
LAST-MODIFIED:20250326T191214Z
UID:10003475-1744707600-1744732800@mdfbasques.com
SUMMARY:Halte-garderie
DESCRIPTION:Vous avez besoin d’un moment de répit pour vous reposer? Vous voulez aller à un rendez-vous ? Vous aimeriez que votre enfant socialise avec d’autres enfants? La halte-garderie est disponible pour vous! \nApportez ce que votre enfant aura besoin (par exemple\, couches\, lingettes\, repas\, collations\, objets de réconfort\, etc). \n3$ de l’heure ou 7$ pour la demi-journée.\nVeuillez noter qu’il faut être membre pour utiliser le service. \nPour réserver une place\, inscrivez vous sur le site web. Si vous avez des questions\, vous pouvez nous joindre sur Facebook (Messenger) ou par téléphone au 418-851-2662 poste 308.
URL:https://mdfbasques.com/evenement/halte-garderie-4/
LOCATION:Maison de la Famille des Basques\, 340\, rue Jean Rioux\, Trois-Pistoles\, Québec\, G0L 4K0\, Canada
CATEGORIES:Halte-garderie
ATTACH;FMTTYPE=image/png:https://mdfbasques.com/wp-content/uploads/2025/03/Halte-garderie-hiver-20252.png
END:VEVENT
BEGIN:VEVENT
DTSTART;TZID=America/New_York:20250417T090000
DTEND;TZID=America/New_York:20250417T120000
DTSTAMP:20260419T131543
CREATED:20250326T190028Z
LAST-MODIFIED:20250326T190028Z
UID:10003476-1744880400-1744891200@mdfbasques.com
SUMMARY:Halte-garderie
DESCRIPTION:Vous avez besoin d’un moment de répit pour vous reposer? Vous voulez aller à un rendez-vous ? Vous aimeriez que votre enfant socialise avec d’autres enfants? La halte-garderie est disponible pour vous! \nApportez ce que votre enfant aura besoin (par exemple\, couches\, lingettes\, repas\, collations\, objets de réconfort\, etc). \n3$ de l’heure ou 7$ pour la demi-journée.\nVeuillez noter qu’il faut être membre pour utiliser le service. \nPour réserver une place\, inscrivez vous sur le site web. Si vous avez des questions\, vous pouvez nous joindre sur Facebook (Messenger) ou par téléphone au 418-851-2662 poste 308.
URL:https://mdfbasques.com/evenement/halte-garderie-5/
LOCATION:Maison de la Famille des Basques\, 340\, rue Jean Rioux\, Trois-Pistoles\, Québec\, G0L 4K0\, Canada
CATEGORIES:Halte-garderie
ATTACH;FMTTYPE=image/png:https://mdfbasques.com/wp-content/uploads/2025/03/Halte-garderie-hiver-20252.png
END:VEVENT
BEGIN:VEVENT
DTSTART;TZID=America/New_York:20250419T090000
DTEND;TZID=America/New_York:20250419T120000
DTSTAMP:20260419T131543
CREATED:20250228T184102Z
LAST-MODIFIED:20250326T175651Z
UID:10003346-1745053200-1745064000@mdfbasques.com
SUMMARY:Halte-garderie
DESCRIPTION:Vous avez besoin d’un moment de répit pour vous reposer? Vous voulez aller à un rendez-vous ? Vous aimeriez que votre enfant socialise avec d’autres enfants? La halte-garderie est disponible pour vous! \nApportez ce que votre enfant aura besoin (par exemple\, couches\, lingettes\, repas\, collations\, objets de réconfort\, etc). \n3$ de l’heure ou 7$ pour la demi-journée.\nVeuillez noter qu’il faut être membre pour utiliser le service. \nPour réserver une place\, inscrivez vous sur le site web. Si vous avez des questions\, vous pouvez nous joindre sur Facebook (Messenger) ou par téléphone au 418-851-2662 poste 308.
URL:https://mdfbasques.com/evenement/halte-garderie-95__trashed/
LOCATION:Maison de la Famille des Basques\, 340\, rue Jean Rioux\, Trois-Pistoles\, Québec\, G0L 4K0\, Canada
CATEGORIES:Halte-garderie
ATTACH;FMTTYPE=image/png:https://mdfbasques.com/wp-content/uploads/2024/12/Halte-garderie-du-vendredi.png
END:VEVENT
BEGIN:VEVENT
DTSTART;TZID=America/New_York:20250422T090000
DTEND;TZID=America/New_York:20250422T160000
DTSTAMP:20260419T131543
CREATED:20250326T192956Z
LAST-MODIFIED:20250326T192956Z
UID:10003477-1745312400-1745337600@mdfbasques.com
SUMMARY:Halte-garderie
DESCRIPTION:Vous avez besoin d’un moment de répit pour vous reposer? Vous voulez aller à un rendez-vous ? Vous aimeriez que votre enfant socialise avec d’autres enfants? La halte-garderie est disponible pour vous! \nApportez ce que votre enfant aura besoin (par exemple\, couches\, lingettes\, repas\, collations\, objets de réconfort\, etc). \n3$ de l’heure ou 7$ pour la demi-journée.\nVeuillez noter qu’il faut être membre pour utiliser le service. \nPour réserver une place\, inscrivez vous sur le site web. Si vous avez des questions\, vous pouvez nous joindre sur Facebook (Messenger) ou par téléphone au 418-851-2662 poste 308.
URL:https://mdfbasques.com/evenement/halte-garderie-6/
LOCATION:Maison de la Famille des Basques\, 340\, rue Jean Rioux\, Trois-Pistoles\, Québec\, G0L 4K0\, Canada
CATEGORIES:Halte-garderie
ATTACH;FMTTYPE=image/png:https://mdfbasques.com/wp-content/uploads/2025/03/Halte-garderie-hiver-20252.png
END:VEVENT
BEGIN:VEVENT
DTSTART;TZID=America/New_York:20250424T090000
DTEND;TZID=America/New_York:20250424T120000
DTSTAMP:20260419T131543
CREATED:20250326T193304Z
LAST-MODIFIED:20250326T193304Z
UID:10003478-1745485200-1745496000@mdfbasques.com
SUMMARY:Halte-garderie
DESCRIPTION:Vous avez besoin d’un moment de répit pour vous reposer? Vous voulez aller à un rendez-vous ? Vous aimeriez que votre enfant socialise avec d’autres enfants? La halte-garderie est disponible pour vous! \nApportez ce que votre enfant aura besoin (par exemple\, couches\, lingettes\, repas\, collations\, objets de réconfort\, etc). \n3$ de l’heure ou 7$ pour la demi-journée.\nVeuillez noter qu’il faut être membre pour utiliser le service. \nPour réserver une place\, inscrivez vous sur le site web. Si vous avez des questions\, vous pouvez nous joindre sur Facebook (Messenger) ou par téléphone au 418-851-2662 poste 308.
URL:https://mdfbasques.com/evenement/halte-garderie-7/
LOCATION:Maison de la Famille des Basques\, 340\, rue Jean Rioux\, Trois-Pistoles\, Québec\, G0L 4K0\, Canada
CATEGORIES:Halte-garderie
ATTACH;FMTTYPE=image/png:https://mdfbasques.com/wp-content/uploads/2025/03/Halte-garderie-hiver-20252.png
END:VEVENT
BEGIN:VEVENT
DTSTART;TZID=America/New_York:20250425T173000
DTEND;TZID=America/New_York:20250425T203000
DTSTAMP:20260419T131543
CREATED:20250224T203156Z
LAST-MODIFIED:20250326T175651Z
UID:10003331-1745602200-1745613000@mdfbasques.com
SUMMARY:Halte-garderie
DESCRIPTION:Vous avez besoin d’un moment de répit pour vous reposer? Vous voulez aller à un rendez-vous ? Vous aimeriez que votre enfant socialise avec d’autres enfants? La halte-garderie est disponible pour vous! \nApportez ce que votre enfant aura besoin (par exemple\, couches\, lingettes\, repas\, collations\, objets de réconfort\, etc). \n3$ de l’heure\n7$ pour la demi-journée\n15$ pour la journée complète \nVeuillez noter qu’il faut être membre pour utiliser le service. \nPour réserver une place\, inscrivez vous sur le site web. Si vous avez des questions\, vous pouvez nous joindre sur Facebook (Messenger) ou par téléphone au 418-851-2662 poste 308.
URL:https://mdfbasques.com/evenement/halte-garderie-84__trashed/
LOCATION:Maison de la Famille des Basques\, 340\, rue Jean Rioux\, Trois-Pistoles\, Québec\, G0L 4K0\, Canada
CATEGORIES:Halte-garderie
ATTACH;FMTTYPE=image/png:https://mdfbasques.com/wp-content/uploads/2024/12/Halte-garderie-du-vendredi.png
END:VEVENT
BEGIN:VEVENT
DTSTART;TZID=America/New_York:20250426T090000
DTEND;TZID=America/New_York:20250426T120000
DTSTAMP:20260419T131543
CREATED:20250228T184434Z
LAST-MODIFIED:20250326T175651Z
UID:10003347-1745658000-1745668800@mdfbasques.com
SUMMARY:Halte-garderie
DESCRIPTION:Vous avez besoin d’un moment de répit pour vous reposer? Vous voulez aller à un rendez-vous ? Vous aimeriez que votre enfant socialise avec d’autres enfants? La halte-garderie est disponible pour vous! \nApportez ce que votre enfant aura besoin (par exemple\, couches\, lingettes\, repas\, collations\, objets de réconfort\, etc). \n3$ de l’heure ou 7$ pour la demi-journée.\nVeuillez noter qu’il faut être membre pour utiliser le service. \nPour réserver une place\, inscrivez vous sur le site web. Si vous avez des questions\, vous pouvez nous joindre sur Facebook (Messenger) ou par téléphone au 418-851-2662 poste 308.
URL:https://mdfbasques.com/evenement/halte-garderie-96__trashed/
LOCATION:Maison de la Famille des Basques\, 340\, rue Jean Rioux\, Trois-Pistoles\, Québec\, G0L 4K0\, Canada
CATEGORIES:Halte-garderie
ATTACH;FMTTYPE=image/png:https://mdfbasques.com/wp-content/uploads/2024/12/Halte-garderie-du-vendredi.png
END:VEVENT
BEGIN:VEVENT
DTSTART;TZID=America/New_York:20250428T090000
DTEND;TZID=America/New_York:20250428T120000
DTSTAMP:20260419T131543
CREATED:20250326T200125Z
LAST-MODIFIED:20250419T162041Z
UID:10003479-1745830800-1745841600@mdfbasques.com
SUMMARY:Halte-garderie
DESCRIPTION:Vous avez besoin d’un moment de répit pour vous reposer? Vous voulez aller à un rendez-vous ? Vous aimeriez que votre enfant socialise avec d’autres enfants? La halte-garderie est disponible pour vous! \nApportez ce que votre enfant aura besoin (par exemple\, couches\, lingettes\, repas\, collations\, objets de réconfort\, etc). \n3$ de l’heure ou 7$ pour la demi-journée.\nVeuillez noter qu’il faut être membre pour utiliser le service. \nPour réserver une place\, inscrivez vous sur le site web. Si vous avez des questions\, vous pouvez nous joindre sur Facebook (Messenger) ou par téléphone au 418-851-2662 poste 308.
URL:https://mdfbasques.com/evenement/halte-garderie-8/
LOCATION:Maison de la Famille des Basques\, 340\, rue Jean Rioux\, Trois-Pistoles\, Québec\, G0L 4K0\, Canada
CATEGORIES:Halte-garderie
ATTACH;FMTTYPE=image/png:https://mdfbasques.com/wp-content/uploads/2025/03/Halte-garderie-hiver-20252.png
END:VEVENT
BEGIN:VEVENT
DTSTART;TZID=America/New_York:20250429T090000
DTEND;TZID=America/New_York:20250429T160000
DTSTAMP:20260419T131543
CREATED:20250326T200625Z
LAST-MODIFIED:20250326T200625Z
UID:10003480-1745917200-1745942400@mdfbasques.com
SUMMARY:Halte-garderie
DESCRIPTION:Vous avez besoin d’un moment de répit pour vous reposer? Vous voulez aller à un rendez-vous ? Vous aimeriez que votre enfant socialise avec d’autres enfants? La halte-garderie est disponible pour vous! \nApportez ce que votre enfant aura besoin (par exemple\, couches\, lingettes\, repas\, collations\, objets de réconfort\, etc). \n3$ de l’heure ou 7$ pour la demi-journée.\nVeuillez noter qu’il faut être membre pour utiliser le service. \nPour réserver une place\, inscrivez vous sur le site web. Si vous avez des questions\, vous pouvez nous joindre sur Facebook (Messenger) ou par téléphone au 418-851-2662 poste 308.
URL:https://mdfbasques.com/evenement/halte-garderie-9/
LOCATION:Maison de la Famille des Basques\, 340\, rue Jean Rioux\, Trois-Pistoles\, Québec\, G0L 4K0\, Canada
CATEGORIES:Halte-garderie
ATTACH;FMTTYPE=image/png:https://mdfbasques.com/wp-content/uploads/2025/03/Halte-garderie-hiver-20252.png
END:VEVENT
END:VCALENDAR