BEGIN:VCALENDAR
VERSION:2.0
PRODID:-//Maison de la Famille des Basques - ECPv6.15.16//NONSGML v1.0//EN
CALSCALE:GREGORIAN
METHOD:PUBLISH
X-WR-CALNAME:Maison de la Famille des Basques
X-ORIGINAL-URL:https://mdfbasques.com
X-WR-CALDESC:Évènements pour Maison de la Famille des Basques
REFRESH-INTERVAL;VALUE=DURATION:PT1H
X-Robots-Tag:noindex
X-PUBLISHED-TTL:PT1H
BEGIN:VTIMEZONE
TZID:America/New_York
BEGIN:DAYLIGHT
TZOFFSETFROM:-0500
TZOFFSETTO:-0400
TZNAME:EDT
DTSTART:20240310T070000
END:DAYLIGHT
BEGIN:STANDARD
TZOFFSETFROM:-0400
TZOFFSETTO:-0500
TZNAME:EST
DTSTART:20241103T060000
END:STANDARD
BEGIN:DAYLIGHT
TZOFFSETFROM:-0500
TZOFFSETTO:-0400
TZNAME:EDT
DTSTART:20250309T070000
END:DAYLIGHT
BEGIN:STANDARD
TZOFFSETFROM:-0400
TZOFFSETTO:-0500
TZNAME:EST
DTSTART:20251102T060000
END:STANDARD
BEGIN:DAYLIGHT
TZOFFSETFROM:-0500
TZOFFSETTO:-0400
TZNAME:EDT
DTSTART:20260308T070000
END:DAYLIGHT
BEGIN:STANDARD
TZOFFSETFROM:-0400
TZOFFSETTO:-0500
TZNAME:EST
DTSTART:20261101T060000
END:STANDARD
END:VTIMEZONE
BEGIN:VEVENT
DTSTART;TZID=America/New_York:20250301T090000
DTEND;TZID=America/New_York:20250301T120000
DTSTAMP:20260419T144657
CREATED:20241217T154511Z
LAST-MODIFIED:20250326T175643Z
UID:10003186-1740819600-1740830400@mdfbasques.com
SUMMARY:Halte-garderie
DESCRIPTION:Vous avez besoin d’un moment de répit pour vous reposer? Vous voulez aller à un rendez-vous ? Vous aimeriez que votre enfant socialise avec d’autres enfants? La halte-garderie est disponible pour vous! \nApportez ce que votre enfant aura besoin (par exemple\, couches\, lingettes\, repas\, collations\, objets de réconfort\, etc). \n3$ de l’heure\n7$ pour la demi-journée\n15$ pour la journée complète \nVeuillez noter qu’il faut être membre pour utiliser le service. \nPour réserver une place\, inscrivez vous sur le site web. Si vous avez des questions\, vous pouvez nous joindre sur Facebook (Messenger) ou par téléphone au 418-851-2662 poste 308.
URL:https://mdfbasques.com/evenement/halte-garderie-41__trashed/
LOCATION:Maison de la Famille des Basques\, 340\, rue Jean Rioux\, Trois-Pistoles\, Québec\, G0L 4K0\, Canada
CATEGORIES:Halte-garderie
ATTACH;FMTTYPE=image/png:https://mdfbasques.com/wp-content/uploads/2024/12/Halte-garderie-du-vendredi.png
END:VEVENT
BEGIN:VEVENT
DTSTART;TZID=America/New_York:20250308T090000
DTEND;TZID=America/New_York:20250308T120000
DTSTAMP:20260419T144657
CREATED:20250121T202159Z
LAST-MODIFIED:20250326T175644Z
UID:10003304-1741424400-1741435200@mdfbasques.com
SUMMARY:Halte-garderie
DESCRIPTION:Vous avez besoin d’un moment de répit pour vous reposer? Vous voulez aller à un rendez-vous ? Vous aimeriez que votre enfant socialise avec d’autres enfants? La halte-garderie est disponible pour vous! \nApportez ce que votre enfant aura besoin (par exemple\, couches\, lingettes\, repas\, collations\, objets de réconfort\, etc). \n3$ de l’heure ou 7$ pour la demi-journée.\nVeuillez noter qu’il faut être membre pour utiliser le service. \nPour réserver une place\, inscrivez vous sur le site web. Si vous avez des questions\, vous pouvez nous joindre sur Facebook (Messenger) ou par téléphone au 418-851-2662 poste 308.
URL:https://mdfbasques.com/evenement/halte-garderie-70__trashed/
LOCATION:Maison de la Famille des Basques\, 340\, rue Jean Rioux\, Trois-Pistoles\, Québec\, G0L 4K0\, Canada
CATEGORIES:Halte-garderie
ATTACH;FMTTYPE=image/png:https://mdfbasques.com/wp-content/uploads/2024/12/Halte-garderie-du-vendredi.png
END:VEVENT
BEGIN:VEVENT
DTSTART;TZID=America/New_York:20250311T090000
DTEND;TZID=America/New_York:20250311T160000
DTSTAMP:20260419T144657
CREATED:20250120T203537Z
LAST-MODIFIED:20250326T175645Z
UID:10003228-1741683600-1741708800@mdfbasques.com
SUMMARY:Halte-garderie
DESCRIPTION:Vous avez besoin d’un moment de répit pour vous reposer? Vous voulez aller à un rendez-vous ? Vous aimeriez que votre enfant socialise avec d’autres enfants? La halte-garderie est disponible pour vous! \nApportez ce que votre enfant aura besoin (par exemple\, couches\, lingettes\, repas\, collations\, objets de réconfort\, etc). \n3$ de l’heure ou 7$ pour la demi-journée.\nVeuillez noter qu’il faut être membre pour utiliser le service. \nPour réserver une place\, inscrivez vous sur le site web. Si vous avez des questions\, vous pouvez nous joindre sur Facebook (Messenger) ou par téléphone au 418-851-2662 poste 308.
URL:https://mdfbasques.com/evenement/halte-garderie-58__trashed/
LOCATION:Maison de la Famille des Basques\, 340\, rue Jean Rioux\, Trois-Pistoles\, Québec\, G0L 4K0\, Canada
CATEGORIES:Halte-garderie
ATTACH;FMTTYPE=image/png:https://mdfbasques.com/wp-content/uploads/2025/01/Billet-halte-garderie-mardi-1200-×-628-px.png
END:VEVENT
BEGIN:VEVENT
DTSTART;TZID=America/New_York:20250313T083000
DTEND;TZID=America/New_York:20250313T120000
DTSTAMP:20260419T144657
CREATED:20250120T205951Z
LAST-MODIFIED:20250326T175646Z
UID:10003236-1741854600-1741867200@mdfbasques.com
SUMMARY:Halte-garderie
DESCRIPTION:Vous avez besoin d’un moment de répit pour vous reposer? Vous voulez aller à un rendez-vous ? Vous aimeriez que votre enfant socialise avec d’autres enfants? La halte-garderie est disponible pour vous! \nApportez ce que votre enfant aura besoin (par exemple\, couches\, lingettes\, repas\, collations\, objets de réconfort\, etc). \n3$ de l’heure ou 7$ pour la demi-journée.\nVeuillez noter qu’il faut être membre pour utiliser le service. \nPour réserver une place\, inscrivez vous sur le site web. Si vous avez des questions\, vous pouvez nous joindre sur Facebook (Messenger) ou par téléphone au 418-851-2662 poste 308.
URL:https://mdfbasques.com/evenement/halte-garderie-66__trashed/
LOCATION:Maison de la Famille des Basques\, 340\, rue Jean Rioux\, Trois-Pistoles\, Québec\, G0L 4K0\, Canada
CATEGORIES:Halte-garderie
ATTACH;FMTTYPE=image/png:https://mdfbasques.com/wp-content/uploads/2025/01/Billet-halte-garderie-jeudi-1200-×-628-px.png
END:VEVENT
BEGIN:VEVENT
DTSTART;TZID=America/New_York:20250314T133000
DTEND;TZID=America/New_York:20250314T163000
DTSTAMP:20260419T144657
CREATED:20250121T203304Z
LAST-MODIFIED:20250326T175646Z
UID:10003308-1741959000-1741969800@mdfbasques.com
SUMMARY:Halte-garderie
DESCRIPTION:Vous avez besoin d’un moment de répit pour vous reposer? Vous voulez aller à un rendez-vous ? Vous aimeriez que votre enfant socialise avec d’autres enfants? La halte-garderie est disponible pour vous! \nApportez ce que votre enfant aura besoin (par exemple\, couches\, lingettes\, repas\, collations\, objets de réconfort\, etc). \n3$ de l’heure ou 7$ pour la demi-journée.\nVeuillez noter qu’il faut être membre pour utiliser le service. \nPour réserver une place\, inscrivez vous sur le site web. Si vous avez des questions\, vous pouvez nous joindre sur Facebook (Messenger) ou par téléphone au 418-851-2662 poste 308.
URL:https://mdfbasques.com/evenement/halte-garderie-74__trashed/
LOCATION:Maison de la Famille des Basques\, 340\, rue Jean Rioux\, Trois-Pistoles\, Québec\, G0L 4K0\, Canada
CATEGORIES:Halte-garderie
ATTACH;FMTTYPE=image/png:https://mdfbasques.com/wp-content/uploads/2025/01/Billet-halte-garderie-vendredi-pm-1200-×-628-px.png
END:VEVENT
BEGIN:VEVENT
DTSTART;TZID=America/New_York:20250315T090000
DTEND;TZID=America/New_York:20250315T120000
DTSTAMP:20260419T144657
CREATED:20250224T204804Z
LAST-MODIFIED:20250326T175646Z
UID:10003338-1742029200-1742040000@mdfbasques.com
SUMMARY:Halte-garderie
DESCRIPTION:Vous avez besoin d’un moment de répit pour vous reposer? Vous voulez aller à un rendez-vous ? Vous aimeriez que votre enfant socialise avec d’autres enfants? La halte-garderie est disponible pour vous! \nApportez ce que votre enfant aura besoin (par exemple\, couches\, lingettes\, repas\, collations\, objets de réconfort\, etc). \n3$ de l’heure\n7$ pour la demi-journée\n15$ pour la journée complète \nVeuillez noter qu’il faut être membre pour utiliser le service. \nPour réserver une place\, inscrivez vous sur le site web. Si vous avez des questions\, vous pouvez nous joindre sur Facebook (Messenger) ou par téléphone au 418-851-2662 poste 308.
URL:https://mdfbasques.com/evenement/halte-garderie-91__trashed/
LOCATION:Maison de la Famille des Basques\, 340\, rue Jean Rioux\, Trois-Pistoles\, Québec\, G0L 4K0\, Canada
CATEGORIES:Halte-garderie
ATTACH;FMTTYPE=image/png:https://mdfbasques.com/wp-content/uploads/2024/12/Halte-garderie-du-vendredi.png
END:VEVENT
BEGIN:VEVENT
DTSTART;TZID=America/New_York:20250317T083000
DTEND;TZID=America/New_York:20250317T113000
DTSTAMP:20260419T144657
CREATED:20250120T201726Z
LAST-MODIFIED:20250326T175646Z
UID:10003220-1742200200-1742211000@mdfbasques.com
SUMMARY:Halte-garderie
DESCRIPTION:Vous avez besoin d’un moment de répit pour vous reposer? Vous voulez aller à un rendez-vous ? Vous aimeriez que votre enfant socialise avec d’autres enfants? La halte-garderie est disponible pour vous! \nApportez ce que votre enfant aura besoin (par exemple\, couches\, lingettes\, repas\, collations\, objets de réconfort\, etc). \n3$ de l’heure ou 7$ pour la demi-journée.\nVeuillez noter qu’il faut être membre pour utiliser le service. \nPour réserver une place\, inscrivez vous sur le site web. Si vous avez des questions\, vous pouvez nous joindre sur Facebook (Messenger) ou par téléphone au 418-851-2662 poste 308.
URL:https://mdfbasques.com/evenement/halte-garderie-50__trashed/
LOCATION:Maison de la Famille des Basques\, 340\, rue Jean Rioux\, Trois-Pistoles\, Québec\, G0L 4K0\, Canada
CATEGORIES:Halte-garderie
ATTACH;FMTTYPE=image/png:https://mdfbasques.com/wp-content/uploads/2025/01/Billet-halte-garderie-lundi-1200-×-628-px.png
END:VEVENT
BEGIN:VEVENT
DTSTART;TZID=America/New_York:20250318T090000
DTEND;TZID=America/New_York:20250318T160000
DTSTAMP:20260419T144657
CREATED:20250120T203808Z
LAST-MODIFIED:20250326T175647Z
UID:10003229-1742288400-1742313600@mdfbasques.com
SUMMARY:Halte-garderie
DESCRIPTION:Vous avez besoin d’un moment de répit pour vous reposer? Vous voulez aller à un rendez-vous ? Vous aimeriez que votre enfant socialise avec d’autres enfants? La halte-garderie est disponible pour vous! \nApportez ce que votre enfant aura besoin (par exemple\, couches\, lingettes\, repas\, collations\, objets de réconfort\, etc). \n3$ de l’heure ou 7$ pour la demi-journée.\nVeuillez noter qu’il faut être membre pour utiliser le service. \nPour réserver une place\, inscrivez vous sur le site web. Si vous avez des questions\, vous pouvez nous joindre sur Facebook (Messenger) ou par téléphone au 418-851-2662 poste 308.
URL:https://mdfbasques.com/evenement/halte-garderie-59__trashed/
LOCATION:Maison de la Famille des Basques\, 340\, rue Jean Rioux\, Trois-Pistoles\, Québec\, G0L 4K0\, Canada
CATEGORIES:Halte-garderie
ATTACH;FMTTYPE=image/png:https://mdfbasques.com/wp-content/uploads/2025/01/Billet-halte-garderie-mardi-1200-×-628-px.png
END:VEVENT
BEGIN:VEVENT
DTSTART;TZID=America/New_York:20250320T083000
DTEND;TZID=America/New_York:20250320T120000
DTSTAMP:20260419T144657
CREATED:20250120T210136Z
LAST-MODIFIED:20250326T175647Z
UID:10003237-1742459400-1742472000@mdfbasques.com
SUMMARY:Halte-garderie
DESCRIPTION:Vous avez besoin d’un moment de répit pour vous reposer? Vous voulez aller à un rendez-vous ? Vous aimeriez que votre enfant socialise avec d’autres enfants? La halte-garderie est disponible pour vous! \nApportez ce que votre enfant aura besoin (par exemple\, couches\, lingettes\, repas\, collations\, objets de réconfort\, etc). \n3$ de l’heure ou 7$ pour la demi-journée.\nVeuillez noter qu’il faut être membre pour utiliser le service. \nPour réserver une place\, inscrivez vous sur le site web. Si vous avez des questions\, vous pouvez nous joindre sur Facebook (Messenger) ou par téléphone au 418-851-2662 poste 308.
URL:https://mdfbasques.com/evenement/halte-garderie-67__trashed/
LOCATION:Maison de la Famille des Basques\, 340\, rue Jean Rioux\, Trois-Pistoles\, Québec\, G0L 4K0\, Canada
CATEGORIES:Halte-garderie
ATTACH;FMTTYPE=image/png:https://mdfbasques.com/wp-content/uploads/2025/01/Billet-halte-garderie-jeudi-1200-×-628-px.png
END:VEVENT
BEGIN:VEVENT
DTSTART;TZID=America/New_York:20250321T133000
DTEND;TZID=America/New_York:20250321T160000
DTSTAMP:20260419T144657
CREATED:20250121T203516Z
LAST-MODIFIED:20250326T175647Z
UID:10003309-1742563800-1742572800@mdfbasques.com
SUMMARY:Halte-garderie
DESCRIPTION:Vous avez besoin d’un moment de répit pour vous reposer? Vous voulez aller à un rendez-vous ? Vous aimeriez que votre enfant socialise avec d’autres enfants? La halte-garderie est disponible pour vous! \nApportez ce que votre enfant aura besoin (par exemple\, couches\, lingettes\, repas\, collations\, objets de réconfort\, etc). \n3$ de l’heure ou 7$ pour la demi-journée.\nVeuillez noter qu’il faut être membre pour utiliser le service. \nPour réserver une place\, inscrivez vous sur le site web. Si vous avez des questions\, vous pouvez nous joindre sur Facebook (Messenger) ou par téléphone au 418-851-2662 poste 308.
URL:https://mdfbasques.com/evenement/halte-garderie-75__trashed/
LOCATION:Maison de la Famille des Basques\, 340\, rue Jean Rioux\, Trois-Pistoles\, Québec\, G0L 4K0\, Canada
CATEGORIES:Halte-garderie
ATTACH;FMTTYPE=image/png:https://mdfbasques.com/wp-content/uploads/2025/01/Billet-halte-garderie-vendredi-pm-1200-×-628-px.png
END:VEVENT
BEGIN:VEVENT
DTSTART;TZID=America/New_York:20250321T173000
DTEND;TZID=America/New_York:20250321T203000
DTSTAMP:20260419T144657
CREATED:20250224T202342Z
LAST-MODIFIED:20250326T175647Z
UID:10003327-1742578200-1742589000@mdfbasques.com
SUMMARY:Halte-garderie
DESCRIPTION:Vous avez besoin d’un moment de répit pour vous reposer? Vous voulez aller à un rendez-vous ? Vous aimeriez que votre enfant socialise avec d’autres enfants? La halte-garderie est disponible pour vous! \nApportez ce que votre enfant aura besoin (par exemple\, couches\, lingettes\, repas\, collations\, objets de réconfort\, etc). \n3$ de l’heure\n7$ pour la demi-journée\n15$ pour la journée complète \nVeuillez noter qu’il faut être membre pour utiliser le service. \nPour réserver une place\, inscrivez vous sur le site web. Si vous avez des questions\, vous pouvez nous joindre sur Facebook (Messenger) ou par téléphone au 418-851-2662 poste 308.
URL:https://mdfbasques.com/evenement/halte-garderie-80__trashed/
LOCATION:Maison de la Famille des Basques\, 340\, rue Jean Rioux\, Trois-Pistoles\, Québec\, G0L 4K0\, Canada
CATEGORIES:Halte-garderie
ATTACH;FMTTYPE=image/png:https://mdfbasques.com/wp-content/uploads/2024/12/Halte-garderie-du-vendredi.png
END:VEVENT
BEGIN:VEVENT
DTSTART;TZID=America/New_York:20250322T090000
DTEND;TZID=America/New_York:20250322T120000
DTSTAMP:20260419T144657
CREATED:20250228T181150Z
LAST-MODIFIED:20250326T175647Z
UID:10003339-1742634000-1742644800@mdfbasques.com
SUMMARY:Halte-garderie
DESCRIPTION:Vous avez besoin d’un moment de répit pour vous reposer? Vous voulez aller à un rendez-vous ? Vous aimeriez que votre enfant socialise avec d’autres enfants? La halte-garderie est disponible pour vous! \nApportez ce que votre enfant aura besoin (par exemple\, couches\, lingettes\, repas\, collations\, objets de réconfort\, etc). \n3$ de l’heure ou 7$ pour la demi-journée.\nVeuillez noter qu’il faut être membre pour utiliser le service. \nPour réserver une place\, inscrivez vous sur le site web. Si vous avez des questions\, vous pouvez nous joindre sur Facebook (Messenger) ou par téléphone au 418-851-2662 poste 308.
URL:https://mdfbasques.com/evenement/halte-garderie-92__trashed/
LOCATION:Maison de la Famille des Basques\, 340\, rue Jean Rioux\, Trois-Pistoles\, Québec\, G0L 4K0\, Canada
CATEGORIES:Halte-garderie
ATTACH;FMTTYPE=image/png:https://mdfbasques.com/wp-content/uploads/2024/12/Halte-garderie-du-vendredi.png
END:VEVENT
BEGIN:VEVENT
DTSTART;TZID=America/New_York:20250322T090000
DTEND;TZID=America/New_York:20250322T120000
DTSTAMP:20260419T144657
CREATED:20250228T181338Z
LAST-MODIFIED:20250326T175648Z
UID:10003340-1742634000-1742644800@mdfbasques.com
SUMMARY:
DESCRIPTION:Vous avez besoin d’un moment de répit pour vous reposer? Vous voulez aller à un rendez-vous ? Vous aimeriez que votre enfant socialise avec d’autres enfants? La halte-garderie est disponible pour vous! \nApportez ce que votre enfant aura besoin (par exemple\, couches\, lingettes\, repas\, collations\, objets de réconfort\, etc). \n3$ de l’heure ou 7$ pour la demi-journée.\nVeuillez noter qu’il faut être membre pour utiliser le service. \nPour réserver une place\, inscrivez vous sur le site web. Si vous avez des questions\, vous pouvez nous joindre sur Facebook (Messenger) ou par téléphone au 418-851-2662 poste 308.
URL:https://mdfbasques.com/evenement/22553__trashed/
LOCATION:Maison de la Famille des Basques\, 340\, rue Jean Rioux\, Trois-Pistoles\, Québec\, G0L 4K0\, Canada
CATEGORIES:Halte-garderie
ATTACH;FMTTYPE=image/png:https://mdfbasques.com/wp-content/uploads/2024/12/Halte-garderie-du-vendredi.png
END:VEVENT
BEGIN:VEVENT
DTSTART;TZID=America/New_York:20250324T083000
DTEND;TZID=America/New_York:20250324T113000
DTSTAMP:20260419T144657
CREATED:20250120T202001Z
LAST-MODIFIED:20250326T175648Z
UID:10003221-1742805000-1742815800@mdfbasques.com
SUMMARY:Halte-garderie
DESCRIPTION:Vous avez besoin d’un moment de répit pour vous reposer? Vous voulez aller à un rendez-vous ? Vous aimeriez que votre enfant socialise avec d’autres enfants? La halte-garderie est disponible pour vous! \nApportez ce que votre enfant aura besoin (par exemple\, couches\, lingettes\, repas\, collations\, objets de réconfort\, etc). \n3$ de l’heure ou 7$ pour la demi-journée.\nVeuillez noter qu’il faut être membre pour utiliser le service. \nPour réserver une place\, inscrivez vous sur le site web. Si vous avez des questions\, vous pouvez nous joindre sur Facebook (Messenger) ou par téléphone au 418-851-2662 poste 308.
URL:https://mdfbasques.com/evenement/halte-garderie-51__trashed/
LOCATION:Maison de la Famille des Basques\, 340\, rue Jean Rioux\, Trois-Pistoles\, Québec\, G0L 4K0\, Canada
CATEGORIES:Halte-garderie
ATTACH;FMTTYPE=image/png:https://mdfbasques.com/wp-content/uploads/2025/01/Billet-halte-garderie-lundi-1200-×-628-px.png
END:VEVENT
BEGIN:VEVENT
DTSTART;TZID=America/New_York:20250325T090000
DTEND;TZID=America/New_York:20250325T160000
DTSTAMP:20260419T144657
CREATED:20250120T203956Z
LAST-MODIFIED:20250326T175648Z
UID:10003230-1742893200-1742918400@mdfbasques.com
SUMMARY:Halte-garderie
DESCRIPTION:Vous avez besoin d’un moment de répit pour vous reposer? Vous voulez aller à un rendez-vous ? Vous aimeriez que votre enfant socialise avec d’autres enfants? La halte-garderie est disponible pour vous! \nApportez ce que votre enfant aura besoin (par exemple\, couches\, lingettes\, repas\, collations\, objets de réconfort\, etc). \n3$ de l’heure ou 7$ pour la demi-journée.\nVeuillez noter qu’il faut être membre pour utiliser le service. \nPour réserver une place\, inscrivez vous sur le site web. Si vous avez des questions\, vous pouvez nous joindre sur Facebook (Messenger) ou par téléphone au 418-851-2662 poste 308.
URL:https://mdfbasques.com/evenement/halte-garderie-60__trashed/
LOCATION:Maison de la Famille des Basques\, 340\, rue Jean Rioux\, Trois-Pistoles\, Québec\, G0L 4K0\, Canada
CATEGORIES:Halte-garderie
ATTACH;FMTTYPE=image/png:https://mdfbasques.com/wp-content/uploads/2025/01/Billet-halte-garderie-mardi-1200-×-628-px.png
END:VEVENT
BEGIN:VEVENT
DTSTART;TZID=America/New_York:20250327T083000
DTEND;TZID=America/New_York:20250327T120000
DTSTAMP:20260419T144657
CREATED:20250120T210318Z
LAST-MODIFIED:20250326T181359Z
UID:10003238-1743064200-1743076800@mdfbasques.com
SUMMARY:Halte-garderie
DESCRIPTION:Vous avez besoin d’un moment de répit pour vous reposer? Vous voulez aller à un rendez-vous ? Vous aimeriez que votre enfant socialise avec d’autres enfants? La halte-garderie est disponible pour vous! \nApportez ce que votre enfant aura besoin (par exemple\, couches\, lingettes\, repas\, collations\, objets de réconfort\, etc). \n3$ de l’heure ou 7$ pour la demi-journée.\nVeuillez noter qu’il faut être membre pour utiliser le service. \nPour réserver une place\, inscrivez vous sur le site web. Si vous avez des questions\, vous pouvez nous joindre sur Facebook (Messenger) ou par téléphone au 418-851-2662 poste 308.
URL:https://mdfbasques.com/evenement/halte-garderie-68/
LOCATION:Maison de la Famille des Basques\, 340\, rue Jean Rioux\, Trois-Pistoles\, Québec\, G0L 4K0\, Canada
CATEGORIES:Halte-garderie
ATTACH;FMTTYPE=image/png:https://mdfbasques.com/wp-content/uploads/2025/01/Billet-halte-garderie-jeudi-1200-×-628-px.png
END:VEVENT
BEGIN:VEVENT
DTSTART;TZID=America/New_York:20250328T123000
DTEND;TZID=America/New_York:20250328T160000
DTSTAMP:20260419T144657
CREATED:20250121T203715Z
LAST-MODIFIED:20250326T182005Z
UID:10003310-1743165000-1743177600@mdfbasques.com
SUMMARY:Halte-garderie
DESCRIPTION:Vous avez besoin d’un moment de répit pour vous reposer? Vous voulez aller à un rendez-vous ? Vous aimeriez que votre enfant socialise avec d’autres enfants? La halte-garderie est disponible pour vous! \nApportez ce que votre enfant aura besoin (par exemple\, couches\, lingettes\, repas\, collations\, objets de réconfort\, etc). \n3$ de l’heure ou 7$ pour la demi-journée.\nVeuillez noter qu’il faut être membre pour utiliser le service. \nPour réserver une place\, inscrivez vous sur le site web. Si vous avez des questions\, vous pouvez nous joindre sur Facebook (Messenger) ou par téléphone au 418-851-2662 poste 308.
URL:https://mdfbasques.com/evenement/halte-garderie-76/
LOCATION:Maison de la Famille des Basques\, 340\, rue Jean Rioux\, Trois-Pistoles\, Québec\, G0L 4K0\, Canada
CATEGORIES:Halte-garderie
ATTACH;FMTTYPE=image/png:https://mdfbasques.com/wp-content/uploads/2025/01/Billet-halte-garderie-vendredi-pm-1200-×-628-px.png
END:VEVENT
BEGIN:VEVENT
DTSTART;TZID=America/New_York:20250328T173000
DTEND;TZID=America/New_York:20250328T203000
DTSTAMP:20260419T144657
CREATED:20250224T202522Z
LAST-MODIFIED:20250326T181930Z
UID:10003328-1743183000-1743193800@mdfbasques.com
SUMMARY:Halte-garderie
DESCRIPTION:Vous avez besoin d’un moment de répit pour vous reposer? Vous voulez aller à un rendez-vous ? Vous aimeriez que votre enfant socialise avec d’autres enfants? La halte-garderie est disponible pour vous! \nApportez ce que votre enfant aura besoin (par exemple\, couches\, lingettes\, repas\, collations\, objets de réconfort\, etc). \n3$ de l’heure\n7$ pour la demi-journée\n15$ pour la journée complète \nVeuillez noter qu’il faut être membre pour utiliser le service. \nPour réserver une place\, inscrivez vous sur le site web. Si vous avez des questions\, vous pouvez nous joindre sur Facebook (Messenger) ou par téléphone au 418-851-2662 poste 308.
URL:https://mdfbasques.com/evenement/halte-garderie-81/
LOCATION:Maison de la Famille des Basques\, 340\, rue Jean Rioux\, Trois-Pistoles\, Québec\, G0L 4K0\, Canada
CATEGORIES:Halte-garderie
ATTACH;FMTTYPE=image/png:https://mdfbasques.com/wp-content/uploads/2024/12/Halte-garderie-du-vendredi.png
END:VEVENT
BEGIN:VEVENT
DTSTART;TZID=America/New_York:20250329T090000
DTEND;TZID=America/New_York:20250329T120000
DTSTAMP:20260419T144657
CREATED:20250228T181602Z
LAST-MODIFIED:20250326T182044Z
UID:10003341-1743238800-1743249600@mdfbasques.com
SUMMARY:Halte-garderie
DESCRIPTION:Vous avez besoin d’un moment de répit pour vous reposer? Vous voulez aller à un rendez-vous ? Vous aimeriez que votre enfant socialise avec d’autres enfants? La halte-garderie est disponible pour vous! \nApportez ce que votre enfant aura besoin (par exemple\, couches\, lingettes\, repas\, collations\, objets de réconfort\, etc). \n3$ de l’heure ou 7$ pour la demi-journée.\nVeuillez noter qu’il faut être membre pour utiliser le service. \nPour réserver une place\, inscrivez vous sur le site web. Si vous avez des questions\, vous pouvez nous joindre sur Facebook (Messenger) ou par téléphone au 418-851-2662 poste 308.
URL:https://mdfbasques.com/evenement/halte-garderie-93/
LOCATION:Maison de la Famille des Basques\, 340\, rue Jean Rioux\, Trois-Pistoles\, Québec\, G0L 4K0\, Canada
CATEGORIES:Halte-garderie
ATTACH;FMTTYPE=image/png:https://mdfbasques.com/wp-content/uploads/2024/12/Halte-garderie-du-vendredi.png
END:VEVENT
BEGIN:VEVENT
DTSTART;TZID=America/New_York:20250331T090000
DTEND;TZID=America/New_York:20250331T160000
DTSTAMP:20260419T144657
CREATED:20250120T202251Z
LAST-MODIFIED:20250326T190311Z
UID:10003222-1743411600-1743436800@mdfbasques.com
SUMMARY:Halte-garderie
DESCRIPTION:Vous avez besoin d’un moment de répit pour vous reposer? Vous voulez aller à un rendez-vous ? Vous aimeriez que votre enfant socialise avec d’autres enfants? La halte-garderie est disponible pour vous! \nApportez ce que votre enfant aura besoin (par exemple\, couches\, lingettes\, repas\, collations\, objets de réconfort\, etc). \n3$ de l’heure ou 7$ pour la demi-journée.\nVeuillez noter qu’il faut être membre pour utiliser le service. \nPour réserver une place\, inscrivez vous sur le site web. Si vous avez des questions\, vous pouvez nous joindre sur Facebook (Messenger) ou par téléphone au 418-851-2662 poste 308.
URL:https://mdfbasques.com/evenement/halte-garderie-52__trashed/
LOCATION:Maison de la Famille des Basques\, 340\, rue Jean Rioux\, Trois-Pistoles\, Québec\, G0L 4K0\, Canada
CATEGORIES:Halte-garderie
ATTACH;FMTTYPE=image/png:https://mdfbasques.com/wp-content/uploads/2025/03/Halte-garderie-hiver-20252.png
END:VEVENT
END:VCALENDAR