BEGIN:VCALENDAR
VERSION:2.0
PRODID:-//Maison de la Famille des Basques - ECPv6.15.16//NONSGML v1.0//EN
CALSCALE:GREGORIAN
METHOD:PUBLISH
X-ORIGINAL-URL:https://mdfbasques.com
X-WR-CALDESC:Évènements pour Maison de la Famille des Basques
REFRESH-INTERVAL;VALUE=DURATION:PT1H
X-Robots-Tag:noindex
X-PUBLISHED-TTL:PT1H
BEGIN:VTIMEZONE
TZID:America/New_York
BEGIN:DAYLIGHT
TZOFFSETFROM:-0500
TZOFFSETTO:-0400
TZNAME:EDT
DTSTART:20240310T070000
END:DAYLIGHT
BEGIN:STANDARD
TZOFFSETFROM:-0400
TZOFFSETTO:-0500
TZNAME:EST
DTSTART:20241103T060000
END:STANDARD
BEGIN:DAYLIGHT
TZOFFSETFROM:-0500
TZOFFSETTO:-0400
TZNAME:EDT
DTSTART:20250309T070000
END:DAYLIGHT
BEGIN:STANDARD
TZOFFSETFROM:-0400
TZOFFSETTO:-0500
TZNAME:EST
DTSTART:20251102T060000
END:STANDARD
BEGIN:DAYLIGHT
TZOFFSETFROM:-0500
TZOFFSETTO:-0400
TZNAME:EDT
DTSTART:20260308T070000
END:DAYLIGHT
BEGIN:STANDARD
TZOFFSETFROM:-0400
TZOFFSETTO:-0500
TZNAME:EST
DTSTART:20261101T060000
END:STANDARD
END:VTIMEZONE
BEGIN:VEVENT
DTSTART;TZID=America/New_York:20250106T083000
DTEND;TZID=America/New_York:20250106T160000
DTSTAMP:20260419T180735
CREATED:20241128T142020Z
LAST-MODIFIED:20250326T175636Z
UID:10003165-1736152200-1736179200@mdfbasques.com
SUMMARY:Halte-garderie
DESCRIPTION:Vous avez besoin d’un moment de répit pour vous reposer? Vous voulez aller à un rendez-vous ? Vous aimeriez que votre enfant socialise avec d’autres enfants? La halte-garderie est disponible pour vous! \nApportez ce que votre enfant aura besoin (par exemple\, couches\, lingettes\, repas\, collations\, objets de réconfort\, etc). \n3$ de l’heure\n7$ pour la demi-journée\n15$ pour la journée complète \nVeuillez noter qu’il faut être membre pour utiliser le service. \nPour réserver une place\, inscrivez vous sur le site web. Si vous avez des questions\, vous pouvez nous joindre sur Facebook (messenger) ou par téléphone au 418-851-2662 poste 308.
URL:https://mdfbasques.com/evenement/halte-garderie-23__trashed/
LOCATION:Maison de la Famille des Basques\, 340\, rue Jean Rioux\, Trois-Pistoles\, Québec\, G0L 4K0\, Canada
CATEGORIES:Halte-garderie
ATTACH;FMTTYPE=image/png:https://mdfbasques.com/wp-content/uploads/2024/11/Halte-garderie-hiver-2024-1.png
END:VEVENT
BEGIN:VEVENT
DTSTART;TZID=America/New_York:20250107T083000
DTEND;TZID=America/New_York:20250107T160000
DTSTAMP:20260419T180735
CREATED:20241128T142341Z
LAST-MODIFIED:20250326T175636Z
UID:10003166-1736238600-1736265600@mdfbasques.com
SUMMARY:Halte-garderie
DESCRIPTION:Vous avez besoin d’un moment de répit pour vous reposer? Vous voulez aller à un rendez-vous ? Vous aimeriez que votre enfant socialise avec d’autres enfants? La halte-garderie est disponible pour vous! \nApportez ce que votre enfant aura besoin (par exemple\, couches\, lingettes\, repas\, collations\, objets de réconfort\, etc). \n3$ de l’heure\n7$ pour la demi-journée\n15$ pour la journée complète \nVeuillez noter qu’il faut être membre pour utiliser le service. \nPour réserver une place\, inscrivez vous sur le site web. Si vous avez des questions\, vous pouvez nous joindre sur Facebook (messenger) ou par téléphone au 418-851-2662 poste 308.
URL:https://mdfbasques.com/evenement/halte-garderie-24__trashed/
LOCATION:Maison de la Famille des Basques\, 340\, rue Jean Rioux\, Trois-Pistoles\, Québec\, G0L 4K0\, Canada
CATEGORIES:Halte-garderie
ATTACH;FMTTYPE=image/png:https://mdfbasques.com/wp-content/uploads/2024/11/Halte-garderie-hiver-2024-1.png
END:VEVENT
BEGIN:VEVENT
DTSTART;TZID=America/New_York:20250109T083000
DTEND;TZID=America/New_York:20250109T120000
DTSTAMP:20260419T180735
CREATED:20241128T142901Z
LAST-MODIFIED:20250326T175637Z
UID:10003167-1736411400-1736424000@mdfbasques.com
SUMMARY:Halte-garderie
DESCRIPTION:Vous avez besoin d’un moment de répit pour vous reposer? Vous voulez aller à un rendez-vous ? Vous aimeriez que votre enfant socialise avec d’autres enfants? La halte-garderie est disponible pour vous! \nApportez ce que votre enfant aura besoin (par exemple\, couches\, lingettes\, repas\, collations\, objets de réconfort\, etc). \n3$ de l’heure\n7$ pour la demi-journée\n15$ pour la journée complète \nVeuillez noter qu’il faut être membre pour utiliser le service. \nPour réserver une place\, inscrivez vous sur le site web. Si vous avez des questions\, vous pouvez nous joindre sur Facebook (messenger) ou par téléphone au 418-851-2662 poste 308.
URL:https://mdfbasques.com/evenement/halte-garderie-25__trashed/
LOCATION:Maison de la Famille des Basques\, 340\, rue Jean Rioux\, Trois-Pistoles\, Québec\, G0L 4K0\, Canada
CATEGORIES:Halte-garderie
ATTACH;FMTTYPE=image/png:https://mdfbasques.com/wp-content/uploads/2024/11/Halte-garderie-hiver-2024-1.png
END:VEVENT
BEGIN:VEVENT
DTSTART;TZID=America/New_York:20250110T173000
DTEND;TZID=America/New_York:20250110T203000
DTSTAMP:20260419T180735
CREATED:20241211T034403Z
LAST-MODIFIED:20250326T175637Z
UID:10003171-1736530200-1736541000@mdfbasques.com
SUMMARY:Halte-garderie
DESCRIPTION:Vous avez besoin d’un moment de répit pour vous reposer? Vous voulez aller à un rendez-vous ? Vous aimeriez que votre enfant socialise avec d’autres enfants? La halte-garderie est disponible pour vous! \nApportez ce que votre enfant aura besoin (par exemple\, couches\, lingettes\, repas\, collations\, objets de réconfort\, etc). \n3$ de l’heure ou 7$ pour la demi-journée.\nVeuillez noter qu’il faut être membre pour utiliser le service. \nPour réserver une place\, inscrivez vous sur le site web. Si vous avez des questions\, vous pouvez nous joindre sur Facebook (messenger) ou par téléphone au 418-851-2662 poste 308.
URL:https://mdfbasques.com/evenement/halte-garderie-19__trashed/
LOCATION:Maison de la Famille des Basques\, 340\, rue Jean Rioux\, Trois-Pistoles\, Québec\, G0L 4K0\, Canada
CATEGORIES:Halte-garderie
ATTACH;FMTTYPE=image/png:https://mdfbasques.com/wp-content/uploads/2024/09/halte-fds-1.png
END:VEVENT
BEGIN:VEVENT
DTSTART;TZID=America/New_York:20250111T090000
DTEND;TZID=America/New_York:20250111T120000
DTSTAMP:20260419T180735
CREATED:20241211T034954Z
LAST-MODIFIED:20250326T175637Z
UID:10003172-1736586000-1736596800@mdfbasques.com
SUMMARY:Halte-garderie
DESCRIPTION:Vous avez besoin d’un moment de répit pour vous reposer? Vous voulez aller à un rendez-vous ? Vous aimeriez que votre enfant socialise avec d’autres enfants? La halte-garderie est disponible pour vous! \nApportez ce que votre enfant aura besoin (par exemple\, couches\, lingettes\, repas\, collations\, objets de réconfort\, etc). \n3$ de l’heure ou 7$ pour la demi-journée.\nVeuillez noter qu’il faut être membre pour utiliser le service. \nPour réserver une place\, inscrivez vous sur le site web. Si vous avez des questions\, vous pouvez nous joindre sur Facebook (messenger) ou par téléphone au 418-851-2662 poste 308.
URL:https://mdfbasques.com/evenement/halte-garderie-21__trashed/
LOCATION:Maison de la Famille des Basques\, 340\, rue Jean Rioux\, Trois-Pistoles\, Québec\, G0L 4K0\, Canada
CATEGORIES:Halte-garderie
ATTACH;FMTTYPE=image/png:https://mdfbasques.com/wp-content/uploads/2024/09/halte-fds-1.png
END:VEVENT
BEGIN:VEVENT
DTSTART;TZID=America/New_York:20250113T083000
DTEND;TZID=America/New_York:20250113T160000
DTSTAMP:20260419T180735
CREATED:20241128T140221Z
LAST-MODIFIED:20250326T175637Z
UID:10003164-1736757000-1736784000@mdfbasques.com
SUMMARY:Halte-garderie
DESCRIPTION:Vous avez besoin d’un moment de répit pour vous reposer? Vous voulez aller à un rendez-vous ? Vous aimeriez que votre enfant socialise avec d’autres enfants? La halte-garderie est disponible pour vous! \nApportez ce que votre enfant aura besoin (par exemple\, couches\, lingettes\, repas\, collations\, objets de réconfort\, etc). \n3$ de l’heure\n7$ pour la demi-journée\n15$ pour la journée complète \nVeuillez noter qu’il faut être membre pour utiliser le service. \nPour réserver une place\, inscrivez vous sur le site web. Si vous avez des questions\, vous pouvez nous joindre sur Facebook (messenger) ou par téléphone au 418-851-2662 poste 308.
URL:https://mdfbasques.com/evenement/halte-garderie-22__trashed/
LOCATION:Maison de la Famille des Basques\, 340\, rue Jean Rioux\, Trois-Pistoles\, Québec\, G0L 4K0\, Canada
CATEGORIES:Halte-garderie
ATTACH;FMTTYPE=image/png:https://mdfbasques.com/wp-content/uploads/2024/11/Halte-garderie-hiver-2024-2.png
END:VEVENT
BEGIN:VEVENT
DTSTART;TZID=America/New_York:20250114T083000
DTEND;TZID=America/New_York:20250114T160000
DTSTAMP:20260419T180735
CREATED:20241128T143851Z
LAST-MODIFIED:20250326T175637Z
UID:10003169-1736843400-1736870400@mdfbasques.com
SUMMARY:Halte-garderie
DESCRIPTION:Vous avez besoin d’un moment de répit pour vous reposer? Vous voulez aller à un rendez-vous ? Vous aimeriez que votre enfant socialise avec d’autres enfants? La halte-garderie est disponible pour vous! \nApportez ce que votre enfant aura besoin (par exemple\, couches\, lingettes\, repas\, collations\, objets de réconfort\, etc). \n3$ de l’heure\n7$ pour la demi-journée\n15$ pour la journée complète \nVeuillez noter qu’il faut être membre pour utiliser le service. \nPour réserver une place\, inscrivez vous sur le site web. Si vous avez des questions\, vous pouvez nous joindre sur Facebook (messenger) ou par téléphone au 418-851-2662 poste 308.
URL:https://mdfbasques.com/evenement/halte-garderie-27__trashed/
LOCATION:Maison de la Famille des Basques\, 340\, rue Jean Rioux\, Trois-Pistoles\, Québec\, G0L 4K0\, Canada
CATEGORIES:Halte-garderie
ATTACH;FMTTYPE=image/png:https://mdfbasques.com/wp-content/uploads/2024/11/Halte-garderie-hiver-2024-2.png
END:VEVENT
BEGIN:VEVENT
DTSTART;TZID=America/New_York:20250116T083000
DTEND;TZID=America/New_York:20250116T120000
DTSTAMP:20260419T180735
CREATED:20241128T143231Z
LAST-MODIFIED:20250326T175637Z
UID:10003168-1737016200-1737028800@mdfbasques.com
SUMMARY:Halte-garderie
DESCRIPTION:Vous avez besoin d’un moment de répit pour vous reposer? Vous voulez aller à un rendez-vous ? Vous aimeriez que votre enfant socialise avec d’autres enfants? La halte-garderie est disponible pour vous! \nApportez ce que votre enfant aura besoin (par exemple\, couches\, lingettes\, repas\, collations\, objets de réconfort\, etc). \n3$ de l’heure\n7$ pour la demi-journée\n15$ pour la journée complète \nVeuillez noter qu’il faut être membre pour utiliser le service. \nPour réserver une place\, inscrivez vous sur le site web. Si vous avez des questions\, vous pouvez nous joindre sur Facebook (messenger) ou par téléphone au 418-851-2662 poste 308.
URL:https://mdfbasques.com/evenement/halte-garderie-26__trashed/
LOCATION:Maison de la Famille des Basques\, 340\, rue Jean Rioux\, Trois-Pistoles\, Québec\, G0L 4K0\, Canada
CATEGORIES:Halte-garderie
ATTACH;FMTTYPE=image/png:https://mdfbasques.com/wp-content/uploads/2024/11/Halte-garderie-hiver-2024-2.png
END:VEVENT
BEGIN:VEVENT
DTSTART;TZID=America/New_York:20250117T173000
DTEND;TZID=America/New_York:20250117T203000
DTSTAMP:20260419T180735
CREATED:20241216T164114Z
LAST-MODIFIED:20250326T175637Z
UID:10003173-1737135000-1737145800@mdfbasques.com
SUMMARY:Halte-garderie
DESCRIPTION:Vous avez besoin d’un moment de répit pour vous reposer? Vous voulez aller à un rendez-vous ? Vous aimeriez que votre enfant socialise avec d’autres enfants? La halte-garderie est disponible pour vous! \nApportez ce que votre enfant aura besoin (par exemple\, couches\, lingettes\, repas\, collations\, objets de réconfort\, etc). \n3$ de l’heure ou 7$ pour la demi-journée.\nVeuillez noter qu’il faut être membre pour utiliser le service. \nPour réserver une place\, inscrivez vous sur le site web. Si vous avez des questions\, vous pouvez nous joindre sur Facebook (Messenger) ou par téléphone au 418-851-2662 poste 308.
URL:https://mdfbasques.com/evenement/halte-garderie-28__trashed/
LOCATION:Maison de la Famille des Basques\, 340\, rue Jean Rioux\, Trois-Pistoles\, Québec\, G0L 4K0\, Canada
CATEGORIES:Halte-garderie
ATTACH;FMTTYPE=image/png:https://mdfbasques.com/wp-content/uploads/2024/12/Halte-garderie-du-vendredi.png
END:VEVENT
BEGIN:VEVENT
DTSTART;TZID=America/New_York:20250118T090000
DTEND;TZID=America/New_York:20250118T120000
DTSTAMP:20260419T180735
CREATED:20241216T165452Z
LAST-MODIFIED:20250326T175637Z
UID:10003176-1737190800-1737201600@mdfbasques.com
SUMMARY:Halte-garderie
DESCRIPTION:Vous avez besoin d’un moment de répit pour vous reposer? Vous voulez aller à un rendez-vous ? Vous aimeriez que votre enfant socialise avec d’autres enfants? La halte-garderie est disponible pour vous! \nApportez ce que votre enfant aura besoin (par exemple\, couches\, lingettes\, repas\, collations\, objets de réconfort\, etc). \n3$ de l’heure ou 7$ pour la demi-journée.\nVeuillez noter qu’il faut être membre pour utiliser le service. \nPour réserver une place\, inscrivez vous sur le site web. Si vous avez des questions\, vous pouvez nous joindre sur Facebook (Messenger) ou par téléphone au 418-851-2662 poste 308.
URL:https://mdfbasques.com/evenement/halte-garderie-31__trashed/
LOCATION:Maison de la Famille des Basques\, 340\, rue Jean Rioux\, Trois-Pistoles\, Québec\, G0L 4K0\, Canada
CATEGORIES:Halte-garderie
ATTACH;FMTTYPE=image/png:https://mdfbasques.com/wp-content/uploads/2024/12/Halte-garderie-du-vendredi.png
END:VEVENT
BEGIN:VEVENT
DTSTART;TZID=America/New_York:20250120T083000
DTEND;TZID=America/New_York:20250120T133000
DTSTAMP:20260419T180735
CREATED:20250117T212632Z
LAST-MODIFIED:20250326T175638Z
UID:10003211-1737361800-1737379800@mdfbasques.com
SUMMARY:Halte-garderie
DESCRIPTION:Vous avez besoin d’un moment de répit pour vous reposer? Vous voulez aller à un rendez-vous ? Vous aimeriez que votre enfant socialise avec d’autres enfants? La halte-garderie est disponible pour vous! \nApportez ce que votre enfant aura besoin (par exemple\, couches\, lingettes\, repas\, collations\, objets de réconfort\, etc). \n3$ de l’heure ou 7$ pour la demi-journée.\nVeuillez noter qu’il faut être membre pour utiliser le service. \nPour réserver une place\, inscrivez vous sur le site web. Si vous avez des questions\, vous pouvez nous joindre sur Facebook (Messenger) ou par téléphone au 418-851-2662 poste 308.
URL:https://mdfbasques.com/evenement/halte-garderie-40__trashed/
LOCATION:Maison de la Famille des Basques\, 340\, rue Jean Rioux\, Trois-Pistoles\, Québec\, G0L 4K0\, Canada
CATEGORIES:Halte-garderie
END:VEVENT
BEGIN:VEVENT
DTSTART;TZID=America/New_York:20250121T090000
DTEND;TZID=America/New_York:20250121T160000
DTSTAMP:20260419T180735
CREATED:20250117T213336Z
LAST-MODIFIED:20250326T175638Z
UID:10003212-1737450000-1737475200@mdfbasques.com
SUMMARY:Halte-garderie
DESCRIPTION:Vous avez besoin d’un moment de répit pour vous reposer? Vous voulez aller à un rendez-vous ? Vous aimeriez que votre enfant socialise avec d’autres enfants? La halte-garderie est disponible pour vous! \nApportez ce que votre enfant aura besoin (par exemple\, couches\, lingettes\, repas\, collations\, objets de réconfort\, etc). \n3$ de l’heure ou 7$ pour la demi-journée.\nVeuillez noter qu’il faut être membre pour utiliser le service. \nPour réserver une place\, inscrivez vous sur le site web. Si vous avez des questions\, vous pouvez nous joindre sur Facebook (Messenger) ou par téléphone au 418-851-2662 poste 308.
URL:https://mdfbasques.com/evenement/halte-garderie-42__trashed/
LOCATION:Maison de la Famille des Basques\, 340\, rue Jean Rioux\, Trois-Pistoles\, Québec\, G0L 4K0\, Canada
CATEGORIES:Halte-garderie
ATTACH;FMTTYPE=image/png:https://mdfbasques.com/wp-content/uploads/2025/01/Billet-halte-garderie-mardi-1200-×-628-px.png
END:VEVENT
BEGIN:VEVENT
DTSTART;TZID=America/New_York:20250123T083000
DTEND;TZID=America/New_York:20250123T120000
DTSTAMP:20260419T180735
CREATED:20250117T213700Z
LAST-MODIFIED:20250326T175638Z
UID:10003213-1737621000-1737633600@mdfbasques.com
SUMMARY:Halte-garderie
DESCRIPTION:Vous avez besoin d’un moment de répit pour vous reposer? Vous voulez aller à un rendez-vous ? Vous aimeriez que votre enfant socialise avec d’autres enfants? La halte-garderie est disponible pour vous! \nApportez ce que votre enfant aura besoin (par exemple\, couches\, lingettes\, repas\, collations\, objets de réconfort\, etc). \n3$ de l’heure ou 7$ pour la demi-journée.\nVeuillez noter qu’il faut être membre pour utiliser le service. \nPour réserver une place\, inscrivez vous sur le site web. Si vous avez des questions\, vous pouvez nous joindre sur Facebook (Messenger) ou par téléphone au 418-851-2662 poste 308.
URL:https://mdfbasques.com/evenement/halte-garderie-43__trashed/
LOCATION:Maison de la Famille des Basques\, 340\, rue Jean Rioux\, Trois-Pistoles\, Québec\, G0L 4K0\, Canada
CATEGORIES:Halte-garderie
ATTACH;FMTTYPE=image/png:https://mdfbasques.com/wp-content/uploads/2025/01/Billet-halte-garderie-jeudi-1200-×-628-px.png
END:VEVENT
BEGIN:VEVENT
DTSTART;TZID=America/New_York:20250125T090000
DTEND;TZID=America/New_York:20250125T120000
DTSTAMP:20260419T180735
CREATED:20241216T165806Z
LAST-MODIFIED:20250326T175639Z
UID:10003177-1737795600-1737806400@mdfbasques.com
SUMMARY:Halte-garderie
DESCRIPTION:Vous avez besoin d’un moment de répit pour vous reposer? Vous voulez aller à un rendez-vous ? Vous aimeriez que votre enfant socialise avec d’autres enfants? La halte-garderie est disponible pour vous! \nApportez ce que votre enfant aura besoin (par exemple\, couches\, lingettes\, repas\, collations\, objets de réconfort\, etc). \n3$ de l’heure ou 7$ pour la demi-journée.\nVeuillez noter qu’il faut être membre pour utiliser le service. \nPour réserver une place\, inscrivez vous sur le site web. Si vous avez des questions\, vous pouvez nous joindre sur Facebook (Messenger) ou par téléphone au 418-851-2662 poste 308.
URL:https://mdfbasques.com/evenement/halte-garderie-32__trashed/
LOCATION:Maison de la Famille des Basques\, 340\, rue Jean Rioux\, Trois-Pistoles\, Québec\, G0L 4K0\, Canada
CATEGORIES:Halte-garderie
ATTACH;FMTTYPE=image/png:https://mdfbasques.com/wp-content/uploads/2024/12/Halte-garderie-du-vendredi.png
END:VEVENT
BEGIN:VEVENT
DTSTART;TZID=America/New_York:20250127T083000
DTEND;TZID=America/New_York:20250127T133000
DTSTAMP:20260419T180735
CREATED:20250117T214103Z
LAST-MODIFIED:20250326T175639Z
UID:10003214-1737966600-1737984600@mdfbasques.com
SUMMARY:Halte-garderie
DESCRIPTION:Vous avez besoin d’un moment de répit pour vous reposer? Vous voulez aller à un rendez-vous ? Vous aimeriez que votre enfant socialise avec d’autres enfants? La halte-garderie est disponible pour vous! \nApportez ce que votre enfant aura besoin (par exemple\, couches\, lingettes\, repas\, collations\, objets de réconfort\, etc). \n3$ de l’heure ou 7$ pour la demi-journée.\nVeuillez noter qu’il faut être membre pour utiliser le service. \nPour réserver une place\, inscrivez vous sur le site web. Si vous avez des questions\, vous pouvez nous joindre sur Facebook (Messenger) ou par téléphone au 418-851-2662 poste 308.
URL:https://mdfbasques.com/evenement/halte-garderie-44__trashed/
LOCATION:Maison de la Famille des Basques\, 340\, rue Jean Rioux\, Trois-Pistoles\, Québec\, G0L 4K0\, Canada
CATEGORIES:Halte-garderie
ATTACH;FMTTYPE=image/png:https://mdfbasques.com/wp-content/uploads/2025/01/Billet-halte-garderie-lundi-1200-×-628-px.png
END:VEVENT
BEGIN:VEVENT
DTSTART;TZID=America/New_York:20250128T090000
DTEND;TZID=America/New_York:20250128T160000
DTSTAMP:20260419T180735
CREATED:20250120T202652Z
LAST-MODIFIED:20250326T175639Z
UID:10003223-1738054800-1738080000@mdfbasques.com
SUMMARY:Halte-garderie
DESCRIPTION:Vous avez besoin d’un moment de répit pour vous reposer? Vous voulez aller à un rendez-vous ? Vous aimeriez que votre enfant socialise avec d’autres enfants? La halte-garderie est disponible pour vous! \nApportez ce que votre enfant aura besoin (par exemple\, couches\, lingettes\, repas\, collations\, objets de réconfort\, etc). \n3$ de l’heure ou 7$ pour la demi-journée.\nVeuillez noter qu’il faut être membre pour utiliser le service. \nPour réserver une place\, inscrivez vous sur le site web. Si vous avez des questions\, vous pouvez nous joindre sur Facebook (Messenger) ou par téléphone au 418-851-2662 poste 308.
URL:https://mdfbasques.com/evenement/halte-garderie-53__trashed/
LOCATION:Maison de la Famille des Basques\, 340\, rue Jean Rioux\, Trois-Pistoles\, Québec\, G0L 4K0\, Canada
CATEGORIES:Halte-garderie
ATTACH;FMTTYPE=image/png:https://mdfbasques.com/wp-content/uploads/2025/01/Billet-halte-garderie-mardi-1200-×-628-px.png
END:VEVENT
BEGIN:VEVENT
DTSTART;TZID=America/New_York:20250130T083000
DTEND;TZID=America/New_York:20250130T120000
DTSTAMP:20260419T180735
CREATED:20250120T204329Z
LAST-MODIFIED:20250326T175639Z
UID:10003231-1738225800-1738238400@mdfbasques.com
SUMMARY:Halte-garderie
DESCRIPTION:Vous avez besoin d’un moment de répit pour vous reposer? Vous voulez aller à un rendez-vous ? Vous aimeriez que votre enfant socialise avec d’autres enfants? La halte-garderie est disponible pour vous! \nApportez ce que votre enfant aura besoin (par exemple\, couches\, lingettes\, repas\, collations\, objets de réconfort\, etc). \n3$ de l’heure ou 7$ pour la demi-journée.\nVeuillez noter qu’il faut être membre pour utiliser le service. \nPour réserver une place\, inscrivez vous sur le site web. Si vous avez des questions\, vous pouvez nous joindre sur Facebook (Messenger) ou par téléphone au 418-851-2662 poste 308.
URL:https://mdfbasques.com/evenement/halte-garderie-61__trashed/
LOCATION:Maison de la Famille des Basques\, 340\, rue Jean Rioux\, Trois-Pistoles\, Québec\, G0L 4K0\, Canada
CATEGORIES:Halte-garderie
ATTACH;FMTTYPE=image/png:https://mdfbasques.com/wp-content/uploads/2025/01/Billet-halte-garderie-jeudi-1200-×-628-px.png
END:VEVENT
BEGIN:VEVENT
DTSTART;TZID=America/New_York:20250131T123000
DTEND;TZID=America/New_York:20250131T160000
DTSTAMP:20260419T180735
CREATED:20250120T213211Z
LAST-MODIFIED:20250326T175639Z
UID:10003301-1738326600-1738339200@mdfbasques.com
SUMMARY:Halte-garderie
DESCRIPTION:Vous avez besoin d’un moment de répit pour vous reposer? Vous voulez aller à un rendez-vous ? Vous aimeriez que votre enfant socialise avec d’autres enfants? La halte-garderie est disponible pour vous! \nApportez ce que votre enfant aura besoin (par exemple\, couches\, lingettes\, repas\, collations\, objets de réconfort\, etc). \n3$ de l’heure ou 7$ pour la demi-journée.\nVeuillez noter qu’il faut être membre pour utiliser le service. \nPour réserver une place\, inscrivez vous sur le site web. Si vous avez des questions\, vous pouvez nous joindre sur Facebook (Messenger) ou par téléphone au 418-851-2662 poste 308.
URL:https://mdfbasques.com/evenement/22172__trashed/
LOCATION:Maison de la Famille des Basques\, 340\, rue Jean Rioux\, Trois-Pistoles\, Québec\, G0L 4K0\, Canada
CATEGORIES:Halte-garderie
ATTACH;FMTTYPE=image/png:https://mdfbasques.com/wp-content/uploads/2025/01/Billet-halte-garderie-vendredi-pm-1200-×-628-px.png
END:VEVENT
BEGIN:VEVENT
DTSTART;TZID=America/New_York:20250131T173000
DTEND;TZID=America/New_York:20250131T203000
DTSTAMP:20260419T180735
CREATED:20241216T164738Z
LAST-MODIFIED:20250326T175639Z
UID:10003175-1738344600-1738355400@mdfbasques.com
SUMMARY:Halte-garderie
DESCRIPTION:Vous avez besoin d’un moment de répit pour vous reposer? Vous voulez aller à un rendez-vous ? Vous aimeriez que votre enfant socialise avec d’autres enfants? La halte-garderie est disponible pour vous! \nApportez ce que votre enfant aura besoin (par exemple\, couches\, lingettes\, repas\, collations\, objets de réconfort\, etc). \n3$ de l’heure ou 7$ pour la demi-journée.\nVeuillez noter qu’il faut être membre pour utiliser le service. \nPour réserver une place\, inscrivez vous sur le site web. Si vous avez des questions\, vous pouvez nous joindre sur Facebook (Messenger) ou par téléphone au 418-851-2662 poste 308.
URL:https://mdfbasques.com/evenement/halte-garderie-30__trashed/
LOCATION:Maison de la Famille des Basques\, 340\, rue Jean Rioux\, Trois-Pistoles\, Québec\, G0L 4K0\, Canada
CATEGORIES:Halte-garderie
ATTACH;FMTTYPE=image/png:https://mdfbasques.com/wp-content/uploads/2024/12/Halte-garderie-du-vendredi.png
END:VEVENT
END:VCALENDAR