BEGIN:VCALENDAR
VERSION:2.0
PRODID:-//Maison de la Famille des Basques - ECPv6.15.16//NONSGML v1.0//EN
CALSCALE:GREGORIAN
METHOD:PUBLISH
X-WR-CALNAME:Maison de la Famille des Basques
X-ORIGINAL-URL:https://mdfbasques.com
X-WR-CALDESC:Évènements pour Maison de la Famille des Basques
REFRESH-INTERVAL;VALUE=DURATION:PT1H
X-Robots-Tag:noindex
X-PUBLISHED-TTL:PT1H
BEGIN:VTIMEZONE
TZID:America/New_York
BEGIN:DAYLIGHT
TZOFFSETFROM:-0500
TZOFFSETTO:-0400
TZNAME:EDT
DTSTART:20230312T070000
END:DAYLIGHT
BEGIN:STANDARD
TZOFFSETFROM:-0400
TZOFFSETTO:-0500
TZNAME:EST
DTSTART:20231105T060000
END:STANDARD
BEGIN:DAYLIGHT
TZOFFSETFROM:-0500
TZOFFSETTO:-0400
TZNAME:EDT
DTSTART:20240310T070000
END:DAYLIGHT
BEGIN:STANDARD
TZOFFSETFROM:-0400
TZOFFSETTO:-0500
TZNAME:EST
DTSTART:20241103T060000
END:STANDARD
BEGIN:DAYLIGHT
TZOFFSETFROM:-0500
TZOFFSETTO:-0400
TZNAME:EDT
DTSTART:20250309T070000
END:DAYLIGHT
BEGIN:STANDARD
TZOFFSETFROM:-0400
TZOFFSETTO:-0500
TZNAME:EST
DTSTART:20251102T060000
END:STANDARD
END:VTIMEZONE
BEGIN:VEVENT
DTSTART;TZID=America/New_York:20241004T173000
DTEND;TZID=America/New_York:20241004T203000
DTSTAMP:20260419T225608
CREATED:20240917T142201Z
LAST-MODIFIED:20250326T175628Z
UID:10002992-1728063000-1728073800@mdfbasques.com
SUMMARY:Halte-garderie
DESCRIPTION:Vous avez besoin d’un moment de répit pour vous reposer? Vous voulez aller à un rendez-vous ? Vous aimeriez que votre enfant socialise avec d’autres enfants? La halte-garderie est disponible pour vous! \nApportez ce que votre enfant aura besoin (par exemple\, couches\, lingettes\, repas\, collations\, objets de réconfort\, etc). \n3$ de l’heure ou 7$ pour la demi-journée.\nVeuillez noter qu’il faut être membre pour utiliser le service. \nPour réserver une place\, inscrivez vous sur le site web. Si vous avez des questions\, vous pouvez nous joindre sur Facebook (messenger) ou par téléphone au 418-851-2662 poste 308.
URL:https://mdfbasques.com/evenement/halte-garderie-12-2-2__trashed/
LOCATION:Maison de la Famille des Basques\, 340\, rue Jean Rioux\, Trois-Pistoles\, Québec\, G0L 4K0\, Canada
CATEGORIES:Halte-garderie
ATTACH;FMTTYPE=image/png:https://mdfbasques.com/wp-content/uploads/2024/09/halte-fds.png
END:VEVENT
BEGIN:VEVENT
DTSTART;TZID=America/New_York:20241007T083000
DTEND;TZID=America/New_York:20241007T113000
DTSTAMP:20260419T225608
CREATED:20240926T195218Z
LAST-MODIFIED:20250326T175628Z
UID:10003026-1728289800-1728300600@mdfbasques.com
SUMMARY:Halte-garderie
DESCRIPTION:Vous avez besoin d’un moment de répit pour vous reposer? Vous voulez aller à un rendez-vous ? Vous aimeriez que votre enfant socialise avec d’autres enfants? La halte-garderie est disponible pour vous! \nApportez ce que votre enfant aura besoin (par exemple\, couches\, lingettes\, repas\, collations\, objets de réconfort\, etc). \n3$ de l’heure\n7$ pour la demi-journée\n15$ pour la journée complète \nVeuillez noter qu’il faut être membre pour utiliser le service. \nPour réserver une place\, inscrivez vous sur le site web. Si vous avez des questions\, vous pouvez nous joindre sur Facebook (messenger) ou par téléphone au 418-851-2662 poste 308.
URL:https://mdfbasques.com/evenement/halte-garderie-13__trashed/
LOCATION:Maison de la Famille des Basques\, 340\, rue Jean Rioux\, Trois-Pistoles\, Québec\, G0L 4K0\, Canada
CATEGORIES:Halte-garderie
ATTACH;FMTTYPE=image/png:https://mdfbasques.com/wp-content/uploads/2024/09/halte-lundi-et-mardi.png
END:VEVENT
BEGIN:VEVENT
DTSTART;TZID=America/New_York:20241011T173000
DTEND;TZID=America/New_York:20241011T203000
DTSTAMP:20260419T225608
CREATED:20240917T142201Z
LAST-MODIFIED:20250326T175629Z
UID:10002993-1728667800-1728678600@mdfbasques.com
SUMMARY:Halte-garderie
DESCRIPTION:Vous avez besoin d’un moment de répit pour vous reposer? Vous voulez aller à un rendez-vous ? Vous aimeriez que votre enfant socialise avec d’autres enfants? La halte-garderie est disponible pour vous! \nApportez ce que votre enfant aura besoin (par exemple\, couches\, lingettes\, repas\, collations\, objets de réconfort\, etc). \n3$ de l’heure ou 7$ pour la demi-journée.\nVeuillez noter qu’il faut être membre pour utiliser le service. \nPour réserver une place\, inscrivez vous sur le site web. Si vous avez des questions\, vous pouvez nous joindre sur Facebook (messenger) ou par téléphone au 418-851-2662 poste 308.
URL:https://mdfbasques.com/evenement/halte-garderie-12-2-2-2__trashed/
LOCATION:Maison de la Famille des Basques\, 340\, rue Jean Rioux\, Trois-Pistoles\, Québec\, G0L 4K0\, Canada
CATEGORIES:Halte-garderie
ATTACH;FMTTYPE=image/png:https://mdfbasques.com/wp-content/uploads/2024/09/halte-fds.png
END:VEVENT
BEGIN:VEVENT
DTSTART;TZID=America/New_York:20241012T090000
DTEND;TZID=America/New_York:20241012T120000
DTSTAMP:20260419T225608
CREATED:20240917T142201Z
LAST-MODIFIED:20250326T175629Z
UID:10003005-1728723600-1728734400@mdfbasques.com
SUMMARY:Halte-garderie
DESCRIPTION:Vous avez besoin d’un moment de répit pour vous reposer? Vous voulez aller à un rendez-vous ? Vous aimeriez que votre enfant socialise avec d’autres enfants? La halte-garderie est disponible pour vous! \nApportez ce que votre enfant aura besoin (par exemple\, couches\, lingettes\, repas\, collations\, objets de réconfort\, etc). \n3$ de l’heure ou 7$ pour la demi-journée.\nVeuillez noter qu’il faut être membre pour utiliser le service. \nPour réserver une place\, inscrivez vous sur le site web. Si vous avez des questions\, vous pouvez nous joindre sur Facebook (messenger) ou par téléphone au 418-851-2662 poste 308.
URL:https://mdfbasques.com/evenement/halte-garderie-12-3-2-2-2__trashed/
LOCATION:Maison de la Famille des Basques\, 340\, rue Jean Rioux\, Trois-Pistoles\, Québec\, G0L 4K0\, Canada
CATEGORIES:Halte-garderie
ATTACH;FMTTYPE=image/png:https://mdfbasques.com/wp-content/uploads/2024/09/halte-fds.png
END:VEVENT
BEGIN:VEVENT
DTSTART;TZID=America/New_York:20241018T173000
DTEND;TZID=America/New_York:20241018T203000
DTSTAMP:20260419T225608
CREATED:20240917T142201Z
LAST-MODIFIED:20250326T175629Z
UID:10002994-1729272600-1729283400@mdfbasques.com
SUMMARY:Halte-garderie
DESCRIPTION:Vous avez besoin d’un moment de répit pour vous reposer? Vous voulez aller à un rendez-vous ? Vous aimeriez que votre enfant socialise avec d’autres enfants? La halte-garderie est disponible pour vous! \nApportez ce que votre enfant aura besoin (par exemple\, couches\, lingettes\, repas\, collations\, objets de réconfort\, etc). \n3$ de l’heure ou 7$ pour la demi-journée.\nVeuillez noter qu’il faut être membre pour utiliser le service. \nPour réserver une place\, inscrivez vous sur le site web. Si vous avez des questions\, vous pouvez nous joindre sur Facebook (messenger) ou par téléphone au 418-851-2662 poste 308.
URL:https://mdfbasques.com/evenement/halte-garderie-12-2-2-2-2__trashed/
LOCATION:Maison de la Famille des Basques\, 340\, rue Jean Rioux\, Trois-Pistoles\, Québec\, G0L 4K0\, Canada
CATEGORIES:Halte-garderie
ATTACH;FMTTYPE=image/png:https://mdfbasques.com/wp-content/uploads/2024/09/halte-fds.png
END:VEVENT
BEGIN:VEVENT
DTSTART;TZID=America/New_York:20241019T090000
DTEND;TZID=America/New_York:20241019T120000
DTSTAMP:20260419T225608
CREATED:20240917T142201Z
LAST-MODIFIED:20250326T175630Z
UID:10003006-1729328400-1729339200@mdfbasques.com
SUMMARY:Halte-garderie
DESCRIPTION:Vous avez besoin d’un moment de répit pour vous reposer? Vous voulez aller à un rendez-vous ? Vous aimeriez que votre enfant socialise avec d’autres enfants? La halte-garderie est disponible pour vous! \nApportez ce que votre enfant aura besoin (par exemple\, couches\, lingettes\, repas\, collations\, objets de réconfort\, etc). \n3$ de l’heure ou 7$ pour la demi-journée.\nVeuillez noter qu’il faut être membre pour utiliser le service. \nPour réserver une place\, inscrivez vous sur le site web. Si vous avez des questions\, vous pouvez nous joindre sur Facebook (messenger) ou par téléphone au 418-851-2662 poste 308.
URL:https://mdfbasques.com/evenement/halte-garderie-12-3-2-2-2-2__trashed/
LOCATION:Maison de la Famille des Basques\, 340\, rue Jean Rioux\, Trois-Pistoles\, Québec\, G0L 4K0\, Canada
CATEGORIES:Halte-garderie
ATTACH;FMTTYPE=image/png:https://mdfbasques.com/wp-content/uploads/2024/09/halte-fds.png
END:VEVENT
BEGIN:VEVENT
DTSTART;TZID=America/New_York:20241021T083000
DTEND;TZID=America/New_York:20241021T113000
DTSTAMP:20260419T225608
CREATED:20240926T195218Z
LAST-MODIFIED:20250326T175630Z
UID:10003029-1729499400-1729510200@mdfbasques.com
SUMMARY:Halte-garderie
DESCRIPTION:Vous avez besoin d’un moment de répit pour vous reposer? Vous voulez aller à un rendez-vous ? Vous aimeriez que votre enfant socialise avec d’autres enfants? La halte-garderie est disponible pour vous! \nApportez ce que votre enfant aura besoin (par exemple\, couches\, lingettes\, repas\, collations\, objets de réconfort\, etc). \n3$ de l’heure\n7$ pour la demi-journée\n15$ pour la journée complète \nVeuillez noter qu’il faut être membre pour utiliser le service. \nPour réserver une place\, inscrivez vous sur le site web. Si vous avez des questions\, vous pouvez nous joindre sur Facebook (messenger) ou par téléphone au 418-851-2662 poste 308.
URL:https://mdfbasques.com/evenement/halte-garderie-13-2-2__trashed/
LOCATION:Maison de la Famille des Basques\, 340\, rue Jean Rioux\, Trois-Pistoles\, Québec\, G0L 4K0\, Canada
CATEGORIES:Halte-garderie
ATTACH;FMTTYPE=image/png:https://mdfbasques.com/wp-content/uploads/2024/09/halte-lundi-et-mardi.png
END:VEVENT
BEGIN:VEVENT
DTSTART;TZID=America/New_York:20241028T083000
DTEND;TZID=America/New_York:20241028T113000
DTSTAMP:20260419T225608
CREATED:20240926T195218Z
LAST-MODIFIED:20250326T175630Z
UID:10003030-1730104200-1730115000@mdfbasques.com
SUMMARY:Halte-garderie
DESCRIPTION:Vous avez besoin d’un moment de répit pour vous reposer? Vous voulez aller à un rendez-vous ? Vous aimeriez que votre enfant socialise avec d’autres enfants? La halte-garderie est disponible pour vous! \nApportez ce que votre enfant aura besoin (par exemple\, couches\, lingettes\, repas\, collations\, objets de réconfort\, etc). \n3$ de l’heure\n7$ pour la demi-journée\n15$ pour la journée complète \nVeuillez noter qu’il faut être membre pour utiliser le service. \nPour réserver une place\, inscrivez vous sur le site web. Si vous avez des questions\, vous pouvez nous joindre sur Facebook (messenger) ou par téléphone au 418-851-2662 poste 308.
URL:https://mdfbasques.com/evenement/halte-garderie-13-2-2-2__trashed/
LOCATION:Maison de la Famille des Basques\, 340\, rue Jean Rioux\, Trois-Pistoles\, Québec\, G0L 4K0\, Canada
CATEGORIES:Halte-garderie
ATTACH;FMTTYPE=image/png:https://mdfbasques.com/wp-content/uploads/2024/09/halte-lundi-et-mardi.png
END:VEVENT
END:VCALENDAR