BEGIN:VCALENDAR
VERSION:2.0
PRODID:-//Maison de la Famille des Basques - ECPv6.15.16//NONSGML v1.0//EN
CALSCALE:GREGORIAN
METHOD:PUBLISH
X-ORIGINAL-URL:https://mdfbasques.com
X-WR-CALDESC:Évènements pour Maison de la Famille des Basques
REFRESH-INTERVAL;VALUE=DURATION:PT1H
X-Robots-Tag:noindex
X-PUBLISHED-TTL:PT1H
BEGIN:VTIMEZONE
TZID:America/New_York
BEGIN:DAYLIGHT
TZOFFSETFROM:-0500
TZOFFSETTO:-0400
TZNAME:EDT
DTSTART:20220313T070000
END:DAYLIGHT
BEGIN:STANDARD
TZOFFSETFROM:-0400
TZOFFSETTO:-0500
TZNAME:EST
DTSTART:20221106T060000
END:STANDARD
BEGIN:DAYLIGHT
TZOFFSETFROM:-0500
TZOFFSETTO:-0400
TZNAME:EDT
DTSTART:20230312T070000
END:DAYLIGHT
BEGIN:STANDARD
TZOFFSETFROM:-0400
TZOFFSETTO:-0500
TZNAME:EST
DTSTART:20231105T060000
END:STANDARD
BEGIN:DAYLIGHT
TZOFFSETFROM:-0500
TZOFFSETTO:-0400
TZNAME:EDT
DTSTART:20240310T070000
END:DAYLIGHT
BEGIN:STANDARD
TZOFFSETFROM:-0400
TZOFFSETTO:-0500
TZNAME:EST
DTSTART:20241103T060000
END:STANDARD
END:VTIMEZONE
BEGIN:VEVENT
DTSTART;TZID=America/New_York:20230828T090000
DTEND;TZID=America/New_York:20230828T120000
DTSTAMP:20260422T202219
CREATED:20230809T193522Z
LAST-MODIFIED:20250326T175554Z
UID:10001360-1693213200-1693224000@mdfbasques.com
SUMMARY:HALTE GARDERIE
DESCRIPTION:Moment de répit que ce soit pour vous reposer\, aller à un rendez-vous\, socialiser votre enfant ou autres besoins la halte garderie est disponible pour vous. \nVeuillez noter qu’il faut être membre pour utiliser le service \nApportez ce que votre enfant aura besoin par exemple couches\, collation\, doudou de réconfort ou tout ce qu’il aura besoin. \n3$ de l’heure ou 7$ pour la demi-journée \nPour avoir des informations ou pour les réservations vous pouvez nous rejoindre  par facebook (Messenger) ou par téléphone auprès d’Allisonne Rioux 418-851-2662 poste 301 \nRéservez rapidement les places partent vite!!!
URL:https://mdfbasques.com/evenement/halte-garderie-3__trashed/2023-08-28/
LOCATION:Maison de la Famille des Basques\, 340\, rue Jean Rioux\, Trois-Pistoles\, Québec\, G0L 4K0\, Canada
CATEGORIES:Activités,Halte-garderie
ATTACH;FMTTYPE=image/png:https://mdfbasques.com/wp-content/uploads/2023/08/Billet-halte-garderie-lundi-1200-×-628-px.png
END:VEVENT
BEGIN:VEVENT
DTSTART;TZID=America/New_York:20230829T130000
DTEND;TZID=America/New_York:20230829T160000
DTSTAMP:20260422T202219
CREATED:20230809T194250Z
LAST-MODIFIED:20250326T175554Z
UID:10001390-1693314000-1693324800@mdfbasques.com
SUMMARY:HALTE GARDERIE
DESCRIPTION:Moment de répit que ce soit pour vous reposer\, aller à un rendez-vous\, socialiser votre enfant ou autres besoins la halte garderie est disponible pour vous. \nVeuillez noter qu’il faut être membre pour utiliser le service \nApportez ce que votre enfant aura besoin par exemple couches\, collation\, doudou de réconfort ou tout ce qu’il aura besoin. \n3$ de l’heure ou 7$ pour la demi-journée \nPour avoir des informations ou pour les réservations vous pouvez nous rejoindre  par facebook (Messenger) ou par téléphone auprès d’Allisonne Rioux 418-851-2662 poste 301 \nRéservez rapidement les places partent vite!!! \n 
URL:https://mdfbasques.com/evenement/halte-garderie-4__trashed/2023-08-29/
LOCATION:Maison de la Famille des Basques\, 340\, rue Jean Rioux\, Trois-Pistoles\, Québec\, G0L 4K0\, Canada
CATEGORIES:Activités,Halte-garderie
ATTACH;FMTTYPE=image/png:https://mdfbasques.com/wp-content/uploads/2023/08/Billet-halte-garderie-mardi-1200-×-628-px.png
END:VEVENT
BEGIN:VEVENT
DTSTART;TZID=America/New_York:20230830T090000
DTEND;TZID=America/New_York:20230830T120000
DTSTAMP:20260422T202219
CREATED:20230809T194711Z
LAST-MODIFIED:20250326T175554Z
UID:10001458-1693386000-1693396800@mdfbasques.com
SUMMARY:HALTE GARDERIE
DESCRIPTION:Moment de répit que ce soit pour vous reposer\, aller à un rendez-vous\, socialiser votre enfant ou autres besoins la halte garderie est disponible pour vous. \nVeuillez noter qu’il faut être membre pour utiliser le service \n3$ de l’heure ou 7$ pour la demi-journée \nApportez collations si nécessaires et accessoires que votre enfants peut avoir besoin (ex: couches\, vêtements pour jouer dehors\, doudou qui rassure ou autres objets nécessaires. \nIl y a une possibilité de journée complète le mercredi\, à la demande du parent pour 15$ et l’enfant à son lunch avec lui. \nPour avoir des informations ou pour les réservations vous pouvez nous rejoindre  par Facebook (Messenger) ou par téléphone auprès d’Allisonne Rioux 418-851-2662 poste 301 \nRéservez rapidement les places partent vite!!!
URL:https://mdfbasques.com/evenement/halte-garderie-6__trashed/2023-08-30/
LOCATION:Maison de la Famille des Basques\, 340\, rue Jean Rioux\, Trois-Pistoles\, Québec\, G0L 4K0\, Canada
CATEGORIES:Activités,Halte-garderie
ATTACH;FMTTYPE=image/png:https://mdfbasques.com/wp-content/uploads/2023/08/mercredi-am.png
END:VEVENT
BEGIN:VEVENT
DTSTART;TZID=America/New_York:20230830T130000
DTEND;TZID=America/New_York:20230830T160000
DTSTAMP:20260422T202219
CREATED:20230809T194622Z
LAST-MODIFIED:20250326T175554Z
UID:10001802-1693400400-1693411200@mdfbasques.com
SUMMARY:HALTE GARDERIE
DESCRIPTION:Moment de répit que ce soit pour vous reposer\, aller à un rendez-vous\, socialiser votre enfant ou autres besoins la halte garderie est disponible pour vous. \nVeuillez noter qu’il faut être membre pour utiliser le service \n3$ de l’heure ou 7$ pour la demi-journée \nApportez collations si nécessaires et accessoires que votre enfants peut avoir besoin (ex: couches\, vêtements pour jouer dehors\, doudou qui rassure ou autres objets nécessaires. \nIl y a une possibilité de journée complète le mercredi\, à la demande du parent pour 15$ et l’enfant à son lunch avec lui. \nPour avoir des informations ou pour les réservations vous pouvez nous rejoindre  par Facebook (Messenger) ou par téléphone auprès d’Allisonne Rioux 418-851-2662 poste 301 \nRéservez rapidement les places partent vite!!!
URL:https://mdfbasques.com/evenement/halte-garderie-5__trashed/2023-08-30/
LOCATION:Maison de la Famille des Basques\, 340\, rue Jean Rioux\, Trois-Pistoles\, Québec\, G0L 4K0\, Canada
CATEGORIES:Activités,Halte-garderie
ATTACH;FMTTYPE=image/png:https://mdfbasques.com/wp-content/uploads/2023/08/Mercredi-pm.png
END:VEVENT
BEGIN:VEVENT
DTSTART;TZID=America/New_York:20230831T090000
DTEND;TZID=America/New_York:20230831T120000
DTSTAMP:20260422T202219
CREATED:20230809T195540Z
LAST-MODIFIED:20250326T175554Z
UID:10001803-1693472400-1693483200@mdfbasques.com
SUMMARY:HALTE GARDERIE
DESCRIPTION:Moment de répit que ce soit pour vous reposer\, aller à un rendez-vous\, socialiser votre enfant ou autres besoins la halte garderie est disponible pour vous. \nVeuillez noter qu’il faut être membre pour utiliser le service \n3$ de l’heure ou 7$ pour la demi-journée \nApportez collations si nécessaires et accessoires que votre enfants peut avoir besoin (ex: couches\, vêtements pour jouer dehors\, doudou qui rassure ou autres objets nécessaires. \nIl y a une possibilité de journée complète le mercredi\, à la demande du parent pour 15$ et l’enfant à son lunch avec lui. \nPour avoir des informations ou pour les réservations vous pouvez nous rejoindre  par Facebook (Messenger) ou par téléphone auprès d’Allisonne Rioux 418-851-2662 poste 301 \nRéservez rapidement les places partent vite!!!
URL:https://mdfbasques.com/evenement/halte-garderie-7__trashed/2023-08-31/
LOCATION:Maison de la Famille des Basques\, 340\, rue Jean Rioux\, Trois-Pistoles\, Québec\, G0L 4K0\, Canada
CATEGORIES:Activités,Halte-garderie
ATTACH;FMTTYPE=image/png:https://mdfbasques.com/wp-content/uploads/2023/08/jeudi-matin.png
END:VEVENT
END:VCALENDAR