BEGIN:VCALENDAR
VERSION:2.0
PRODID:-//Maison de la Famille des Basques - ECPv6.15.16//NONSGML v1.0//EN
CALSCALE:GREGORIAN
METHOD:PUBLISH
X-WR-CALNAME:Maison de la Famille des Basques
X-ORIGINAL-URL:https://mdfbasques.com
X-WR-CALDESC:Évènements pour Maison de la Famille des Basques
REFRESH-INTERVAL;VALUE=DURATION:PT1H
X-Robots-Tag:noindex
X-PUBLISHED-TTL:PT1H
BEGIN:VTIMEZONE
TZID:America/New_York
BEGIN:DAYLIGHT
TZOFFSETFROM:-0500
TZOFFSETTO:-0400
TZNAME:EDT
DTSTART:20220313T070000
END:DAYLIGHT
BEGIN:STANDARD
TZOFFSETFROM:-0400
TZOFFSETTO:-0500
TZNAME:EST
DTSTART:20221106T060000
END:STANDARD
BEGIN:DAYLIGHT
TZOFFSETFROM:-0500
TZOFFSETTO:-0400
TZNAME:EDT
DTSTART:20230312T070000
END:DAYLIGHT
BEGIN:STANDARD
TZOFFSETFROM:-0400
TZOFFSETTO:-0500
TZNAME:EST
DTSTART:20231105T060000
END:STANDARD
BEGIN:DAYLIGHT
TZOFFSETFROM:-0500
TZOFFSETTO:-0400
TZNAME:EDT
DTSTART:20240310T070000
END:DAYLIGHT
BEGIN:STANDARD
TZOFFSETFROM:-0400
TZOFFSETTO:-0500
TZNAME:EST
DTSTART:20241103T060000
END:STANDARD
END:VTIMEZONE
BEGIN:VEVENT
DTSTART;TZID=America/New_York:20230405T090000
DTEND;TZID=America/New_York:20230405T160000
DTSTAMP:20260423T031634
CREATED:20220825T153303Z
LAST-MODIFIED:20250326T175537Z
UID:10001289-1680685200-1680710400@mdfbasques.com
SUMMARY:Halte-garderie
DESCRIPTION:Un moment de répit est offert aux parents et permet aux enfants de socialiser. Quand? Les mercredis et les jeudis de 9h à 16h et les vendredis de 17h30 à 20h30. Pour qui? Pour les enfants de 0 à 10 ans. \nPrenez note que nous avons 6 places maximum.  \nVeuillez activer JavaScript dans votre navigateur pour remplir ce formulaire.Inscrivez-vous sur la liste d'attente pour cet événementNom du parent *Téléphone *Nombre de places 0/18 mois012Nombre de places 18 mois et +0123456Je m'inscris sur la liste d'attente
URL:https://mdfbasques.com/evenement/halte-garderie-325-2-2-2-2-3-2-2-2-2-2-2-2-3-2-2-2-2-2-2-2-2-2-2__trashed/
LOCATION:Maison de la Famille des Basques\, 340\, rue Jean Rioux\, Trois-Pistoles\, Québec\, G0L 4K0\, Canada
CATEGORIES:Halte-garderie
ATTACH;FMTTYPE=image/png:https://mdfbasques.com/wp-content/uploads/2022/11/Halte-garderie-Mercredi.png
END:VEVENT
BEGIN:VEVENT
DTSTART;TZID=America/New_York:20230406T090000
DTEND;TZID=America/New_York:20230406T160000
DTSTAMP:20260423T031634
CREATED:20220825T153303Z
LAST-MODIFIED:20250326T175537Z
UID:10001290-1680771600-1680796800@mdfbasques.com
SUMMARY:Halte-garderie
DESCRIPTION:Un moment de répit est offert aux parents et permet aux enfants de socialiser. Quand? Les mercredis et les jeudis de 9h à 16h et les vendredis de 17h30 à 20h30. Pour qui? Pour les enfants de 0 à 10 ans. \nPrenez note que nous avons 6 places maximum.  \nVeuillez activer JavaScript dans votre navigateur pour remplir ce formulaire.Inscrivez-vous sur la liste d'attente pour cet événementNom du parent *Téléphone *Nombre de places 0/18 mois012Nombre de places 18 mois et +0123456Je m'inscris sur la liste d'attente
URL:https://mdfbasques.com/evenement/halte-garderie-325-4-2-2-2-2-2-2-2-2-2-2-2-2-2-2-2-2-2-2-2-2__trashed/
LOCATION:Maison de la Famille des Basques\, 340\, rue Jean Rioux\, Trois-Pistoles\, Québec\, G0L 4K0\, Canada
CATEGORIES:Halte-garderie
ATTACH;FMTTYPE=image/png:https://mdfbasques.com/wp-content/uploads/2022/11/Halte-garderie-Jeudi.png
END:VEVENT
BEGIN:VEVENT
DTSTART;TZID=America/New_York:20230412T090000
DTEND;TZID=America/New_York:20230412T160000
DTSTAMP:20260423T031634
CREATED:20220825T153303Z
LAST-MODIFIED:20250326T175538Z
UID:10001291-1681290000-1681315200@mdfbasques.com
SUMMARY:Halte-garderie
DESCRIPTION:Un moment de répit est offert aux parents et permet aux enfants de socialiser. Quand? Les mercredis et les jeudis de 9h à 16h et les vendredis de 17h30 à 20h30. Pour qui? Pour les enfants de 0 à 10 ans. \nPrenez note que nous avons 6 places maximum.  \nVeuillez activer JavaScript dans votre navigateur pour remplir ce formulaire.Inscrivez-vous sur la liste d'attente pour cet événementNom du parent *Téléphone *Nombre de places 0/18 mois012Nombre de places 18 mois et +0123456Je m'inscris sur la liste d'attente
URL:https://mdfbasques.com/evenement/halte-garderie-325-2-2-2-2-3-2-2-2-2-2-2-2-3-2-2-2-2-2-2-2-2-2-2-2__trashed/
LOCATION:Maison de la Famille des Basques\, 340\, rue Jean Rioux\, Trois-Pistoles\, Québec\, G0L 4K0\, Canada
CATEGORIES:Halte-garderie
ATTACH;FMTTYPE=image/png:https://mdfbasques.com/wp-content/uploads/2022/11/Halte-garderie-Mercredi.png
END:VEVENT
BEGIN:VEVENT
DTSTART;TZID=America/New_York:20230413T090000
DTEND;TZID=America/New_York:20230413T160000
DTSTAMP:20260423T031634
CREATED:20220825T153303Z
LAST-MODIFIED:20250326T175538Z
UID:10001292-1681376400-1681401600@mdfbasques.com
SUMMARY:Halte-garderie
DESCRIPTION:Un moment de répit est offert aux parents et permet aux enfants de socialiser. Quand? Les mercredis et les jeudis de 9h à 16h et les vendredis de 17h30 à 20h30. Pour qui? Pour les enfants de 0 à 10 ans. \nPrenez note que nous avons 6 places maximum.  \nVeuillez activer JavaScript dans votre navigateur pour remplir ce formulaire.Inscrivez-vous sur la liste d'attente pour cet événementNom du parent *Téléphone *Nombre de places 0/18 mois012Nombre de places 18 mois et +0123456Je m'inscris sur la liste d'attente
URL:https://mdfbasques.com/evenement/halte-garderie-325-4-2-2-2-2-2-2-2-2-2-2-2-2-2-2-2-2-2-2-2-2-2__trashed/
LOCATION:Maison de la Famille des Basques\, 340\, rue Jean Rioux\, Trois-Pistoles\, Québec\, G0L 4K0\, Canada
CATEGORIES:Halte-garderie
ATTACH;FMTTYPE=image/png:https://mdfbasques.com/wp-content/uploads/2022/11/Halte-garderie-Jeudi.png
END:VEVENT
BEGIN:VEVENT
DTSTART;TZID=America/New_York:20230414T173000
DTEND;TZID=America/New_York:20230414T203000
DTSTAMP:20260423T031634
CREATED:20220825T153303Z
LAST-MODIFIED:20250326T175538Z
UID:10001269-1681493400-1681504200@mdfbasques.com
SUMMARY:Halte-garderie
DESCRIPTION:Un moment de répit est offert aux parents et permet aux enfants de socialiser. Quand? Les mercredis et les jeudis de 9h à 16h et les vendredis de 17h30 à 20h30. Pour qui? Pour les enfants de 0 à 10 ans. \nPrenez note que nous avons 5 places maximum.  \nVeuillez activer JavaScript dans votre navigateur pour remplir ce formulaire.Inscrivez-vous sur la liste d'attente pour cet événementNom du parent *Téléphone *Nombre de places 0/18 mois012Nombre de places 18 mois et +0123456Je m'inscris sur la liste d'attente
URL:https://mdfbasques.com/evenement/halte-garderie-325-2-4-2-2-2-2-2-2-2-2-2-2-2-2-3-2-2-2-2-2-3-4-2__trashed/
LOCATION:Maison de la Famille des Basques\, 340\, rue Jean Rioux\, Trois-Pistoles\, Québec\, G0L 4K0\, Canada
CATEGORIES:Halte-garderie
ATTACH;FMTTYPE=image/png:https://mdfbasques.com/wp-content/uploads/2022/08/Billet-halte-garderie-vendredi-1200-×-628-px.png
END:VEVENT
BEGIN:VEVENT
DTSTART;TZID=America/New_York:20230419T090000
DTEND;TZID=America/New_York:20230419T160000
DTSTAMP:20260423T031634
CREATED:20220825T153303Z
LAST-MODIFIED:20250326T175539Z
UID:10001293-1681894800-1681920000@mdfbasques.com
SUMMARY:Halte-garderie
DESCRIPTION:Un moment de répit est offert aux parents et permet aux enfants de socialiser. Quand? Les mercredis et les jeudis de 9h à 16h et les vendredis de 17h30 à 20h30. Pour qui? Pour les enfants de 0 à 10 ans. \nPrenez note que nous avons 6 places maximum.  \nVeuillez activer JavaScript dans votre navigateur pour remplir ce formulaire.Inscrivez-vous sur la liste d'attente pour cet événementNom du parent *Téléphone *Nombre de places 0/18 mois012Nombre de places 18 mois et +0123456Je m'inscris sur la liste d'attente
URL:https://mdfbasques.com/evenement/halte-garderie-325-2-2-2-2-3-2-2-2-2-2-2-2-3-2-2-2-2-2-2-2-2-2-2-2-2__trashed/
LOCATION:Maison de la Famille des Basques\, 340\, rue Jean Rioux\, Trois-Pistoles\, Québec\, G0L 4K0\, Canada
CATEGORIES:Halte-garderie
ATTACH;FMTTYPE=image/png:https://mdfbasques.com/wp-content/uploads/2022/11/Halte-garderie-Mercredi.png
END:VEVENT
BEGIN:VEVENT
DTSTART;TZID=America/New_York:20230420T090000
DTEND;TZID=America/New_York:20230420T160000
DTSTAMP:20260423T031634
CREATED:20220825T153303Z
LAST-MODIFIED:20250326T175540Z
UID:10001294-1681981200-1682006400@mdfbasques.com
SUMMARY:Halte-garderie
DESCRIPTION:Un moment de répit est offert aux parents et permet aux enfants de socialiser. Quand? Les mercredis et les jeudis de 9h à 16h et les vendredis de 17h30 à 20h30. Pour qui? Pour les enfants de 0 à 10 ans. \nPrenez note que nous avons 6 places maximum.  \nVeuillez activer JavaScript dans votre navigateur pour remplir ce formulaire.Inscrivez-vous sur la liste d'attente pour cet événementNom du parent *Téléphone *Nombre de places 0/18 mois012Nombre de places 18 mois et +0123456Je m'inscris sur la liste d'attente
URL:https://mdfbasques.com/evenement/halte-garderie-325-4-2-2-2-2-2-2-2-2-2-2-2-2-2-2-2-2-2-2-2-2-2-2__trashed/
LOCATION:Maison de la Famille des Basques\, 340\, rue Jean Rioux\, Trois-Pistoles\, Québec\, G0L 4K0\, Canada
CATEGORIES:Halte-garderie
ATTACH;FMTTYPE=image/png:https://mdfbasques.com/wp-content/uploads/2022/11/Halte-garderie-Jeudi.png
END:VEVENT
BEGIN:VEVENT
DTSTART;TZID=America/New_York:20230421T173000
DTEND;TZID=America/New_York:20230421T203000
DTSTAMP:20260423T031634
CREATED:20220825T153303Z
LAST-MODIFIED:20250326T175540Z
UID:10001270-1682098200-1682109000@mdfbasques.com
SUMMARY:Halte-garderie
DESCRIPTION:Un moment de répit est offert aux parents et permet aux enfants de socialiser. Quand? Les mercredis et les jeudis de 9h à 16h et les vendredis de 17h30 à 20h30. Pour qui? Pour les enfants de 0 à 10 ans. \nPrenez note que nous avons 5 places maximum.  \nVeuillez activer JavaScript dans votre navigateur pour remplir ce formulaire.Inscrivez-vous sur la liste d'attente pour cet événementNom du parent *Téléphone *Nombre de places 0/18 mois012Nombre de places 18 mois et +0123456Je m'inscris sur la liste d'attente
URL:https://mdfbasques.com/evenement/halte-garderie-325-2-4-2-2-2-2-2-2-2-2-2-2-2-2-3-2-2-2-2-2-3-4-3__trashed/
LOCATION:Maison de la Famille des Basques\, 340\, rue Jean Rioux\, Trois-Pistoles\, Québec\, G0L 4K0\, Canada
CATEGORIES:Halte-garderie
ATTACH;FMTTYPE=image/png:https://mdfbasques.com/wp-content/uploads/2022/08/Billet-halte-garderie-vendredi-1200-×-628-px.png
END:VEVENT
BEGIN:VEVENT
DTSTART;TZID=America/New_York:20230426T090000
DTEND;TZID=America/New_York:20230426T160000
DTSTAMP:20260423T031634
CREATED:20220825T153303Z
LAST-MODIFIED:20250326T175541Z
UID:10001295-1682499600-1682524800@mdfbasques.com
SUMMARY:Halte-garderie
DESCRIPTION:Un moment de répit est offert aux parents et permet aux enfants de socialiser. Quand? Les mercredis et les jeudis de 9h à 16h et les vendredis de 17h30 à 20h30. Pour qui? Pour les enfants de 0 à 10 ans. \nPrenez note que nous avons 6 places maximum.  \nVeuillez activer JavaScript dans votre navigateur pour remplir ce formulaire.Inscrivez-vous sur la liste d'attente pour cet événementNom du parent *Téléphone *Nombre de places 0/18 mois012Nombre de places 18 mois et +0123456Je m'inscris sur la liste d'attente
URL:https://mdfbasques.com/evenement/halte-garderie-325-2-2-2-2-3-2-2-2-2-2-2-2-3-2-2-2-2-2-2-2-2-2-2-2-2-2__trashed/
LOCATION:Maison de la Famille des Basques\, 340\, rue Jean Rioux\, Trois-Pistoles\, Québec\, G0L 4K0\, Canada
CATEGORIES:Halte-garderie
ATTACH;FMTTYPE=image/png:https://mdfbasques.com/wp-content/uploads/2022/11/Halte-garderie-Mercredi.png
END:VEVENT
BEGIN:VEVENT
DTSTART;TZID=America/New_York:20230427T090000
DTEND;TZID=America/New_York:20230427T160000
DTSTAMP:20260423T031634
CREATED:20220825T153303Z
LAST-MODIFIED:20250326T175541Z
UID:10001296-1682586000-1682611200@mdfbasques.com
SUMMARY:Halte-garderie
DESCRIPTION:Un moment de répit est offert aux parents et permet aux enfants de socialiser. Quand? Les mercredis et les jeudis de 9h à 16h et les vendredis de 17h30 à 20h30. Pour qui? Pour les enfants de 0 à 10 ans. \nPrenez note que nous avons 6 places maximum.  \nVeuillez activer JavaScript dans votre navigateur pour remplir ce formulaire.Inscrivez-vous sur la liste d'attente pour cet événementNom du parent *Téléphone *Nombre de places 0/18 mois012Nombre de places 18 mois et +0123456Je m'inscris sur la liste d'attente
URL:https://mdfbasques.com/evenement/halte-garderie-325-4-2-2-2-2-2-2-2-2-2-2-2-2-2-2-2-2-2-2-2-2-2-2-2__trashed/
LOCATION:Maison de la Famille des Basques\, 340\, rue Jean Rioux\, Trois-Pistoles\, Québec\, G0L 4K0\, Canada
CATEGORIES:Halte-garderie
ATTACH;FMTTYPE=image/png:https://mdfbasques.com/wp-content/uploads/2022/11/Halte-garderie-Jeudi.png
END:VEVENT
BEGIN:VEVENT
DTSTART;TZID=America/New_York:20230428T173000
DTEND;TZID=America/New_York:20230428T203000
DTSTAMP:20260423T031634
CREATED:20220825T153303Z
LAST-MODIFIED:20250326T175541Z
UID:10001271-1682703000-1682713800@mdfbasques.com
SUMMARY:Halte-garderie
DESCRIPTION:Un moment de répit est offert aux parents et permet aux enfants de socialiser. Quand? Les mercredis et les jeudis de 9h à 16h et les vendredis de 17h30 à 20h30. Pour qui? Pour les enfants de 0 à 10 ans. \nPrenez note que nous avons 5 places maximum.  \nVeuillez activer JavaScript dans votre navigateur pour remplir ce formulaire.Inscrivez-vous sur la liste d'attente pour cet événementNom du parent *Téléphone *Nombre de places 0/18 mois012Nombre de places 18 mois et +0123456Je m'inscris sur la liste d'attente
URL:https://mdfbasques.com/evenement/halte-garderie-325-2-4-2-2-2-2-2-2-2-2-2-2-2-2-3-2-2-2-2-2-3-4-4__trashed/
LOCATION:Maison de la Famille des Basques\, 340\, rue Jean Rioux\, Trois-Pistoles\, Québec\, G0L 4K0\, Canada
CATEGORIES:Halte-garderie
ATTACH;FMTTYPE=image/png:https://mdfbasques.com/wp-content/uploads/2022/08/Billet-halte-garderie-vendredi-1200-×-628-px.png
END:VEVENT
END:VCALENDAR