BEGIN:VCALENDAR
VERSION:2.0
PRODID:-//Maison de la Famille des Basques - ECPv6.15.16//NONSGML v1.0//EN
CALSCALE:GREGORIAN
METHOD:PUBLISH
X-ORIGINAL-URL:https://mdfbasques.com
X-WR-CALDESC:Évènements pour Maison de la Famille des Basques
REFRESH-INTERVAL;VALUE=DURATION:PT1H
X-Robots-Tag:noindex
X-PUBLISHED-TTL:PT1H
BEGIN:VTIMEZONE
TZID:America/New_York
BEGIN:DAYLIGHT
TZOFFSETFROM:-0500
TZOFFSETTO:-0400
TZNAME:EDT
DTSTART:20210314T070000
END:DAYLIGHT
BEGIN:STANDARD
TZOFFSETFROM:-0400
TZOFFSETTO:-0500
TZNAME:EST
DTSTART:20211107T060000
END:STANDARD
BEGIN:DAYLIGHT
TZOFFSETFROM:-0500
TZOFFSETTO:-0400
TZNAME:EDT
DTSTART:20220313T070000
END:DAYLIGHT
BEGIN:STANDARD
TZOFFSETFROM:-0400
TZOFFSETTO:-0500
TZNAME:EST
DTSTART:20221106T060000
END:STANDARD
BEGIN:DAYLIGHT
TZOFFSETFROM:-0500
TZOFFSETTO:-0400
TZNAME:EDT
DTSTART:20230312T070000
END:DAYLIGHT
BEGIN:STANDARD
TZOFFSETFROM:-0400
TZOFFSETTO:-0500
TZNAME:EST
DTSTART:20231105T060000
END:STANDARD
END:VTIMEZONE
BEGIN:VEVENT
DTSTART;TZID=America/New_York:20221005T090000
DTEND;TZID=America/New_York:20221005T160000
DTSTAMP:20260423T134648
CREATED:20220825T153303Z
LAST-MODIFIED:20250326T175502Z
UID:10000812-1664960400-1664985600@mdfbasques.com
SUMMARY:Halte-garderie
DESCRIPTION:Un moment de répit est offert aux parents et permet aux enfants de socialiser et de se faire de nouveaux amis. Les mercredis et les jeudis de 9h à 16h et les vendredis de 17h30 à 20h30. Pour les enfants de 0 à 10 ans. \nVeuillez activer JavaScript dans votre navigateur pour remplir ce formulaire.Inscrivez-vous sur la liste d'attente pour cet événementNom du parent *Téléphone *Nombre de places 0/18 mois012Nombre de places 18 mois et +0123456Je m'inscris sur la liste d'attente
URL:https://mdfbasques.com/evenement/halte-garderie-325-3-2__trashed/
LOCATION:Maison de la Famille des Basques\, 340\, rue Jean Rioux\, Trois-Pistoles\, Québec\, G0L 4K0\, Canada
CATEGORIES:Halte-garderie
ATTACH;FMTTYPE=image/png:https://mdfbasques.com/wp-content/uploads/2022/08/halte_mercredi_.png
END:VEVENT
BEGIN:VEVENT
DTSTART;TZID=America/New_York:20221006T090000
DTEND;TZID=America/New_York:20221006T160000
DTSTAMP:20260423T134648
CREATED:20220825T153303Z
LAST-MODIFIED:20250326T175502Z
UID:10001010-1665046800-1665072000@mdfbasques.com
SUMMARY:Halte-garderie
DESCRIPTION:Un moment de répit est offert aux parents et permet aux enfants de socialiser et de se faire de nouveaux amis. Les mercredis et les jeudis de 9h à 16h et les vendredis de 17h30 à 20h30. Pour les enfants de 0 à 10 ans. \nPrenez note que nous avons 6 places maximum.  \nVeuillez activer JavaScript dans votre navigateur pour remplir ce formulaire.Inscrivez-vous sur la liste d'attente pour cet événementNom du parent *Téléphone *Nombre de places 0/18 mois012Nombre de places 18 mois et +0123456Je m'inscris sur la liste d'attente
URL:https://mdfbasques.com/evenement/halte-garderie-325-2-2-2__trashed/
LOCATION:Maison de la Famille des Basques\, 340\, rue Jean Rioux\, Trois-Pistoles\, Québec\, G0L 4K0\, Canada
CATEGORIES:Halte-garderie
ATTACH;FMTTYPE=image/png:https://mdfbasques.com/wp-content/uploads/2022/08/halte_mercredi_.png
END:VEVENT
BEGIN:VEVENT
DTSTART;TZID=America/New_York:20221006T160000
DTEND;TZID=America/New_York:20221006T203000
DTSTAMP:20260423T134648
CREATED:20220825T153303Z
LAST-MODIFIED:20250326T175502Z
UID:10000816-1665072000-1665088200@mdfbasques.com
SUMMARY:Halte-garderie
DESCRIPTION:Festival des grandes gueules. Un moment de répit est offert aux parents et permet aux enfants de socialiser et de se faire de nouveaux amis.  Pour les enfants de 0 à 10 ans. \nPrenez note que nous avons 6 places maximum.  \nVeuillez activer JavaScript dans votre navigateur pour remplir ce formulaire.Inscrivez-vous sur la liste d'attente pour cet événementNom du parent *Téléphone *Nombre de places 0/18 mois012Nombre de places 18 mois et +0123456Je m'inscris sur la liste d'attente
URL:https://mdfbasques.com/evenement/halte-garderie-325-2-2-2-3__trashed/
LOCATION:Maison de la Famille des Basques\, 340\, rue Jean Rioux\, Trois-Pistoles\, Québec\, G0L 4K0\, Canada
CATEGORIES:Halte-garderie
ATTACH;FMTTYPE=image/png:https://mdfbasques.com/wp-content/uploads/2022/08/halte_mercredi_.png
END:VEVENT
BEGIN:VEVENT
DTSTART;TZID=America/New_York:20221007T130000
DTEND;TZID=America/New_York:20221007T203000
DTSTAMP:20260423T134648
CREATED:20220825T153303Z
LAST-MODIFIED:20250326T175503Z
UID:10001028-1665147600-1665174600@mdfbasques.com
SUMMARY:Halte-garderie
DESCRIPTION:Un moment de répit est offert aux parents et permet aux enfants de socialiser et de se faire de nouveaux amis. Les mercredis et les jeudis de 9h à 16h et les vendredis de 17h30 à 20h30. Pour les enfants de 0 à 10 ans. \nPrenez note que nous avons 5 places maximum.  \nVeuillez activer JavaScript dans votre navigateur pour remplir ce formulaire.Inscrivez-vous sur la liste d'attente pour cet événementNom du parent *Téléphone *Nombre de places 0/18 mois012Nombre de places 18 mois et +0123456Je m'inscris sur la liste d'attente
URL:https://mdfbasques.com/evenement/halte-garderie-325-2-4-2-2-2-2__trashed/
LOCATION:Maison de la Famille des Basques\, 340\, rue Jean Rioux\, Trois-Pistoles\, Québec\, G0L 4K0\, Canada
CATEGORIES:Halte-garderie
ATTACH;FMTTYPE=image/png:https://mdfbasques.com/wp-content/uploads/2022/09/halte_vendredi_.png
END:VEVENT
BEGIN:VEVENT
DTSTART;TZID=America/New_York:20221008T130000
DTEND;TZID=America/New_York:20221008T180000
DTSTAMP:20260423T134648
CREATED:20220927T195602Z
LAST-MODIFIED:20250326T175503Z
UID:10001106-1665234000-1665252000@mdfbasques.com
SUMMARY:Halte garderie
DESCRIPTION:Le festival des grandes gueules
URL:https://mdfbasques.com/evenement/halte-garderie__trashed/
LOCATION:Maison de la Famille des Basques\, 340\, rue Jean Rioux\, Trois-Pistoles\, Québec\, G0L 4K0\, Canada
CATEGORIES:Halte-garderie
END:VEVENT
BEGIN:VEVENT
DTSTART;TZID=America/New_York:20221011T193000
DTEND;TZID=America/New_York:20221011T220000
DTSTAMP:20260423T134648
CREATED:20220825T153303Z
LAST-MODIFIED:20250326T175504Z
UID:10000818-1665516600-1665525600@mdfbasques.com
SUMMARY:Halte-garderie - ANNULÉ
DESCRIPTION:Halte-garderie en collaboration avec la Ville de Trois-Pistoles\, pour vous permette d’assister aux réunions du conseil municipal! Réservé seulement aux personnes participants aux conseils de la ville. \nPrenez note que nous avons 5 places maximum.  \nAnnulée – manque d’inscriptions
URL:https://mdfbasques.com/evenement/halte-garderie-325-2-4-2-2-2-2-2-2-2__trashed/
LOCATION:Maison de la Famille des Basques\, 340\, rue Jean Rioux\, Trois-Pistoles\, Québec\, G0L 4K0\, Canada
CATEGORIES:Halte-garderie
ATTACH;FMTTYPE=image/jpeg:https://mdfbasques.com/wp-content/uploads/2022/08/816a7de3-c190-4c08-87f9-a6e47f678772.jpg
END:VEVENT
BEGIN:VEVENT
DTSTART;TZID=America/New_York:20221013T090000
DTEND;TZID=America/New_York:20221013T160000
DTSTAMP:20260423T134648
CREATED:20220825T153303Z
LAST-MODIFIED:20250326T175504Z
UID:10000817-1665651600-1665676800@mdfbasques.com
SUMMARY:Halte-garderie
DESCRIPTION:Un moment de répit est offert aux parents et permet aux enfants de socialiser et de se faire de nouveaux amis. Les mercredis et les jeudis de 9h à 16h et les vendredis de 17h30 à 20h30. Pour les enfants de 0 à 10 ans. \nPrenez note que nous avons 6 places maximum.  \nVeuillez activer JavaScript dans votre navigateur pour remplir ce formulaire.Inscrivez-vous sur la liste d'attente pour cet événementNom du parent *Téléphone *Nombre de places 0/18 mois012Nombre de places 18 mois et +0123456Je m'inscris sur la liste d'attente
URL:https://mdfbasques.com/evenement/halte-garderie-325-2-2-2-4__trashed/
LOCATION:Maison de la Famille des Basques\, 340\, rue Jean Rioux\, Trois-Pistoles\, Québec\, G0L 4K0\, Canada
CATEGORIES:Halte-garderie
ATTACH;FMTTYPE=image/png:https://mdfbasques.com/wp-content/uploads/2022/08/halte_mercredi_.png
END:VEVENT
BEGIN:VEVENT
DTSTART;TZID=America/New_York:20221014T173000
DTEND;TZID=America/New_York:20221014T203000
DTSTAMP:20260423T134648
CREATED:20220825T153303Z
LAST-MODIFIED:20250326T175505Z
UID:10001025-1665768600-1665779400@mdfbasques.com
SUMMARY:Halte-garderie
DESCRIPTION:Un moment de répit est offert aux parents et permet aux enfants de socialiser et de se faire de nouveaux amis. Les mercredis et les jeudis de 9h à 16h et les vendredis de 17h30 à 20h30. Pour les enfants de 0 à 10 ans. \nPrenez note que nous avons 5 places maximum.  \nVeuillez activer JavaScript dans votre navigateur pour remplir ce formulaire.Inscrivez-vous sur la liste d'attente pour cet événementNom du parent *Téléphone *Nombre de places 0/18 mois012Nombre de places 18 mois et +0123456Je m'inscris sur la liste d'attente
URL:https://mdfbasques.com/evenement/halte-garderie-325-2-4-2-2-2-2-2__trashed/
LOCATION:Maison de la Famille des Basques\, 340\, rue Jean Rioux\, Trois-Pistoles\, Québec\, G0L 4K0\, Canada
CATEGORIES:Halte-garderie
ATTACH;FMTTYPE=image/png:https://mdfbasques.com/wp-content/uploads/2022/09/halte_vendredi_.png
END:VEVENT
BEGIN:VEVENT
DTSTART;TZID=America/New_York:20221019T090000
DTEND;TZID=America/New_York:20221019T160000
DTSTAMP:20260423T134648
CREATED:20220825T153303Z
LAST-MODIFIED:20250326T175506Z
UID:10001027-1666170000-1666195200@mdfbasques.com
SUMMARY:Halte-garderie
DESCRIPTION:Un moment de répit est offert aux parents et permet aux enfants de socialiser et de se faire de nouveaux amis. Les mercredis et les jeudis de 9h à 16h et les vendredis de 17h30 à 20h30. Pour les enfants de 0 à 10 ans. \nPrenez note que nous avons 6 places maximum.  \nVeuillez activer JavaScript dans votre navigateur pour remplir ce formulaire.Inscrivez-vous sur la liste d'attente pour cet événementNom du parent *Téléphone *Nombre de places 0/18 mois012Nombre de places 18 mois et +0123456Je m'inscris sur la liste d'attente
URL:https://mdfbasques.com/evenement/halte-garderie-325-2-2-2-2__trashed/
LOCATION:Maison de la Famille des Basques\, 340\, rue Jean Rioux\, Trois-Pistoles\, Québec\, G0L 4K0\, Canada
CATEGORIES:Halte-garderie
ATTACH;FMTTYPE=image/png:https://mdfbasques.com/wp-content/uploads/2022/08/halte_mercredi_.png
END:VEVENT
BEGIN:VEVENT
DTSTART;TZID=America/New_York:20221020T090000
DTEND;TZID=America/New_York:20221020T160000
DTSTAMP:20260423T134648
CREATED:20220825T153303Z
LAST-MODIFIED:20250326T175506Z
UID:10001026-1666256400-1666281600@mdfbasques.com
SUMMARY:Halte-garderie
DESCRIPTION:Un moment de répit est offert aux parents et permet aux enfants de socialiser et de se faire de nouveaux amis. Les mercredis et les jeudis de 9h à 16h et les vendredis de 17h30 à 20h30. Pour les enfants de 0 à 10 ans. \nPrenez note que nous avons 6 places maximum.  \nVeuillez activer JavaScript dans votre navigateur pour remplir ce formulaire.Inscrivez-vous sur la liste d'attente pour cet événementNom du parent *Téléphone *Nombre de places 0/18 mois012Nombre de places 18 mois et +0123456Je m'inscris sur la liste d'attente
URL:https://mdfbasques.com/evenement/halte-garderie-325-2-2-2-2-2__trashed/
LOCATION:Maison de la Famille des Basques\, 340\, rue Jean Rioux\, Trois-Pistoles\, Québec\, G0L 4K0\, Canada
CATEGORIES:Halte-garderie
ATTACH;FMTTYPE=image/png:https://mdfbasques.com/wp-content/uploads/2022/08/halte_mercredi_.png
END:VEVENT
BEGIN:VEVENT
DTSTART;TZID=America/New_York:20221021T173000
DTEND;TZID=America/New_York:20221021T203000
DTSTAMP:20260423T134648
CREATED:20220825T153303Z
LAST-MODIFIED:20250326T175507Z
UID:10001024-1666373400-1666384200@mdfbasques.com
SUMMARY:Halte-garderie
DESCRIPTION:Un moment de répit est offert aux parents et permet aux enfants de socialiser et de se faire de nouveaux amis. Les mercredis et les jeudis de 9h à 16h et les vendredis de 17h30 à 20h30. Pour les enfants de 0 à 10 ans. \nPrenez note que nous avons 5 places maximum.  \nVeuillez activer JavaScript dans votre navigateur pour remplir ce formulaire.Inscrivez-vous sur la liste d'attente pour cet événementNom du parent *Téléphone *Nombre de places 0/18 mois012Nombre de places 18 mois et +0123456Je m'inscris sur la liste d'attente
URL:https://mdfbasques.com/evenement/halte-garderie-325-2-4-2-2-2-2-2-2__trashed/
LOCATION:Maison de la Famille des Basques\, 340\, rue Jean Rioux\, Trois-Pistoles\, Québec\, G0L 4K0\, Canada
CATEGORIES:Halte-garderie
ATTACH;FMTTYPE=image/png:https://mdfbasques.com/wp-content/uploads/2022/09/halte_vendredi_.png
END:VEVENT
BEGIN:VEVENT
DTSTART;TZID=America/New_York:20221026T090000
DTEND;TZID=America/New_York:20221026T160000
DTSTAMP:20260423T134648
CREATED:20220825T153303Z
LAST-MODIFIED:20250326T175509Z
UID:10000814-1666774800-1666800000@mdfbasques.com
SUMMARY:Halte-garderie
DESCRIPTION:Un moment de répit est offert aux parents et permet aux enfants de socialiser et de se faire de nouveaux amis. Les mercredis et les jeudis de 9h à 16h et les vendredis de 17h30 à 20h30. Pour les enfants de 0 à 10 ans. \nPrenez note que nous avons 6 places maximum.  \nVeuillez activer JavaScript dans votre navigateur pour remplir ce formulaire.Inscrivez-vous sur la liste d'attente pour cet événementNom du parent *Téléphone *Nombre de places 0/18 mois012Nombre de places 18 mois et +0123456Je m'inscris sur la liste d'attente
URL:https://mdfbasques.com/evenement/halte-garderie-325-2-2-2-2-3__trashed/
LOCATION:Maison de la Famille des Basques\, 340\, rue Jean Rioux\, Trois-Pistoles\, Québec\, G0L 4K0\, Canada
CATEGORIES:Halte-garderie
ATTACH;FMTTYPE=image/png:https://mdfbasques.com/wp-content/uploads/2022/08/halte_mercredi_.png
END:VEVENT
BEGIN:VEVENT
DTSTART;TZID=America/New_York:20221027T090000
DTEND;TZID=America/New_York:20221027T160000
DTSTAMP:20260423T134648
CREATED:20220825T153303Z
LAST-MODIFIED:20250326T175509Z
UID:10000815-1666861200-1666886400@mdfbasques.com
SUMMARY:Halte-garderie
DESCRIPTION:Un moment de répit est offert aux parents et permet aux enfants de socialiser et de se faire de nouveaux amis. Les mercredis et les jeudis de 9h à 16h et les vendredis de 17h30 à 20h30. Pour les enfants de 0 à 10 ans. \nPrenez note que nous avons 6 places maximum.  \nVeuillez activer JavaScript dans votre navigateur pour remplir ce formulaire.Inscrivez-vous sur la liste d'attente pour cet événementNom du parent *Téléphone *Nombre de places 0/18 mois012Nombre de places 18 mois et +0123456Je m'inscris sur la liste d'attente
URL:https://mdfbasques.com/evenement/halte-garderie-325-2-2-2-2-2-2__trashed/
LOCATION:Maison de la Famille des Basques\, 340\, rue Jean Rioux\, Trois-Pistoles\, Québec\, G0L 4K0\, Canada
CATEGORIES:Halte-garderie
ATTACH;FMTTYPE=image/png:https://mdfbasques.com/wp-content/uploads/2022/08/halte_mercredi_.png
END:VEVENT
END:VCALENDAR