BEGIN:VCALENDAR
VERSION:2.0
PRODID:-//Maison de la Famille des Basques - ECPv6.15.16//NONSGML v1.0//EN
CALSCALE:GREGORIAN
METHOD:PUBLISH
X-ORIGINAL-URL:https://mdfbasques.com
X-WR-CALDESC:Évènements pour Maison de la Famille des Basques
REFRESH-INTERVAL;VALUE=DURATION:PT1H
X-Robots-Tag:noindex
X-PUBLISHED-TTL:PT1H
BEGIN:VTIMEZONE
TZID:America/New_York
BEGIN:DAYLIGHT
TZOFFSETFROM:-0500
TZOFFSETTO:-0400
TZNAME:EDT
DTSTART:20210314T070000
END:DAYLIGHT
BEGIN:STANDARD
TZOFFSETFROM:-0400
TZOFFSETTO:-0500
TZNAME:EST
DTSTART:20211107T060000
END:STANDARD
BEGIN:DAYLIGHT
TZOFFSETFROM:-0500
TZOFFSETTO:-0400
TZNAME:EDT
DTSTART:20220313T070000
END:DAYLIGHT
BEGIN:STANDARD
TZOFFSETFROM:-0400
TZOFFSETTO:-0500
TZNAME:EST
DTSTART:20221106T060000
END:STANDARD
BEGIN:DAYLIGHT
TZOFFSETFROM:-0500
TZOFFSETTO:-0400
TZNAME:EDT
DTSTART:20230312T070000
END:DAYLIGHT
BEGIN:STANDARD
TZOFFSETFROM:-0400
TZOFFSETTO:-0500
TZNAME:EST
DTSTART:20231105T060000
END:STANDARD
END:VTIMEZONE
BEGIN:VEVENT
DTSTART;TZID=America/New_York:20220907T090000
DTEND;TZID=America/New_York:20220907T160000
DTSTAMP:20260423T152516
CREATED:20220825T153303Z
LAST-MODIFIED:20250326T175456Z
UID:10000804-1662541200-1662566400@mdfbasques.com
SUMMARY:Halte-garderie
DESCRIPTION:Un moment de répit est offert aux parents et permet aux enfants de socialiser et de se faire de nouveaux amis. Les mercredis et les jeudis de 9h à 16h et les vendredis de 17h30 à 20h30. Pour les enfants de 0 à 10 ans. \nPrenez note que nous avons 6 places maximum.  \nVeuillez activer JavaScript dans votre navigateur pour remplir ce formulaire.Inscrivez-vous sur la liste d'attente pour cet événementNom du parent *Téléphone *Nombre de places 0/18 mois012Nombre de places 18 mois et +0123456Je m'inscris sur la liste d'attente
URL:https://mdfbasques.com/evenement/halte-garderie-325__trashed/
LOCATION:Maison de la Famille des Basques\, 340\, rue Jean Rioux\, Trois-Pistoles\, Québec\, G0L 4K0\, Canada
CATEGORIES:Halte-garderie
ATTACH;FMTTYPE=image/png:https://mdfbasques.com/wp-content/uploads/2022/08/halte_mercredi_.png
END:VEVENT
BEGIN:VEVENT
DTSTART;TZID=America/New_York:20220908T090000
DTEND;TZID=America/New_York:20220908T160000
DTSTAMP:20260423T152516
CREATED:20220825T153303Z
LAST-MODIFIED:20250326T175456Z
UID:10000805-1662627600-1662652800@mdfbasques.com
SUMMARY:Halte-garderie
DESCRIPTION:Un moment de répit est offert aux parents et permet aux enfants de socialiser et de se faire de nouveaux amis. Les mercredis et les jeudis de 9h à 16h et les vendredis de 17h30 à 20h30. Pour les enfants de 0 à 10 ans. \nPrenez note que nous avons 6 places maximum.  \nVeuillez activer JavaScript dans votre navigateur pour remplir ce formulaire.Inscrivez-vous sur la liste d'attente pour cet événementNom du parent *Téléphone *Nombre de places 0/18 mois012Nombre de places 18 mois et +0123456Je m'inscris sur la liste d'attente
URL:https://mdfbasques.com/evenement/halte-garderie-325-2__trashed/
LOCATION:Maison de la Famille des Basques\, 340\, rue Jean Rioux\, Trois-Pistoles\, Québec\, G0L 4K0\, Canada
CATEGORIES:Halte-garderie
ATTACH;FMTTYPE=image/png:https://mdfbasques.com/wp-content/uploads/2022/08/halte_jeudi.png
END:VEVENT
BEGIN:VEVENT
DTSTART;TZID=America/New_York:20220909T173000
DTEND;TZID=America/New_York:20220909T203000
DTSTAMP:20260423T152516
CREATED:20220825T153303Z
LAST-MODIFIED:20250326T175456Z
UID:10000813-1662744600-1662755400@mdfbasques.com
SUMMARY:Halte-garderie
DESCRIPTION:Un moment de répit est offert aux parents et permet aux enfants de socialiser et de se faire de nouveaux amis. Les mercredis et les jeudis de 9h à 16h et les vendredis de 17h30 à 20h30. Pour les enfants de 0 à 10 ans. \nPrenez note que nous avons 5 places maximum.  \nVeuillez activer JavaScript dans votre navigateur pour remplir ce formulaire.Inscrivez-vous sur la liste d'attente pour cet événementNom du parent *Téléphone *Nombre de places 0/18 mois012Nombre de places 18 mois et +0123456Je m'inscris sur la liste d'attente
URL:https://mdfbasques.com/evenement/halte-garderie-325-2-4__trashed/
LOCATION:Maison de la Famille des Basques\, 340\, rue Jean Rioux\, Trois-Pistoles\, Québec\, G0L 4K0\, Canada
CATEGORIES:Halte-garderie
ATTACH;FMTTYPE=image/png:https://mdfbasques.com/wp-content/uploads/2022/09/halte_vendredi_.png
END:VEVENT
BEGIN:VEVENT
DTSTART;TZID=America/New_York:20220914T090000
DTEND;TZID=America/New_York:20220914T160000
DTSTAMP:20260423T152516
CREATED:20220825T153303Z
LAST-MODIFIED:20250326T175457Z
UID:10000806-1663146000-1663171200@mdfbasques.com
SUMMARY:Halte-garderie
DESCRIPTION:Un moment de répit est offert aux parents et permet aux enfants de socialiser et de se faire de nouveaux amis. Les mercredis et les jeudis de 9h à 16h et les vendredis de 17h30 à 20h30. Pour les enfants de 0 à 10 ans. \nPrenez note que nous avons 6 places maximum.  \nVeuillez activer JavaScript dans votre navigateur pour remplir ce formulaire.Inscrivez-vous sur la liste d'attente pour cet événementNom du parent *Téléphone *Nombre de places 0/18 mois012Nombre de places 18 mois et +0123456Je m'inscris sur la liste d'attente
URL:https://mdfbasques.com/evenement/halte-garderie-325-3__trashed/
LOCATION:Maison de la Famille des Basques\, 340\, rue Jean Rioux\, Trois-Pistoles\, Québec\, G0L 4K0\, Canada
CATEGORIES:Halte-garderie
ATTACH;FMTTYPE=image/png:https://mdfbasques.com/wp-content/uploads/2022/08/halte_mercredi_.png
END:VEVENT
BEGIN:VEVENT
DTSTART;TZID=America/New_York:20220915T090000
DTEND;TZID=America/New_York:20220915T160000
DTSTAMP:20260423T152516
CREATED:20220825T153303Z
LAST-MODIFIED:20250326T175457Z
UID:10000807-1663232400-1663257600@mdfbasques.com
SUMMARY:Halte-garderie
DESCRIPTION:Un moment de répit est offert aux parents et permet aux enfants de socialiser et de se faire de nouveaux amis. Les mercredis et les jeudis de 9h à 16h et les vendredis de 17h30 à 20h30. Pour les enfants de 0 à 10 ans. \nPrenez note que nous avons 6 places maximum.  \nVeuillez activer JavaScript dans votre navigateur pour remplir ce formulaire.Inscrivez-vous sur la liste d'attente pour cet événementNom du parent *Téléphone *Nombre de places 0/18 mois012Nombre de places 18 mois et +0123456Je m'inscris sur la liste d'attente
URL:https://mdfbasques.com/evenement/halte-garderie-325-4__trashed/
LOCATION:Maison de la Famille des Basques\, 340\, rue Jean Rioux\, Trois-Pistoles\, Québec\, G0L 4K0\, Canada
CATEGORIES:Halte-garderie
ATTACH;FMTTYPE=image/png:https://mdfbasques.com/wp-content/uploads/2022/08/halte_jeudi.png
END:VEVENT
BEGIN:VEVENT
DTSTART;TZID=America/New_York:20220916T173000
DTEND;TZID=America/New_York:20220916T203000
DTSTAMP:20260423T152516
CREATED:20220825T153303Z
LAST-MODIFIED:20250326T175458Z
UID:10001013-1663349400-1663360200@mdfbasques.com
SUMMARY:Halte-garderie
DESCRIPTION:Un moment de répit est offert aux parents et permet aux enfants de socialiser et de se faire de nouveaux amis. Les mercredis et les jeudis de 9h à 16h et les vendredis de 17h30 à 20h30. Pour les enfants de 0 à 10 ans. \nPrenez note que nous avons 5 places maximum.  \nVeuillez activer JavaScript dans votre navigateur pour remplir ce formulaire.Inscrivez-vous sur la liste d'attente pour cet événementNom du parent *Téléphone *Nombre de places 0/18 mois012Nombre de places 18 mois et +0123456Je m'inscris sur la liste d'attente
URL:https://mdfbasques.com/evenement/halte-garderie-325-2-4-2__trashed/
LOCATION:Maison de la Famille des Basques\, 340\, rue Jean Rioux\, Trois-Pistoles\, Québec\, G0L 4K0\, Canada
CATEGORIES:Halte-garderie
ATTACH;FMTTYPE=image/png:https://mdfbasques.com/wp-content/uploads/2022/09/halte_vendredi_.png
END:VEVENT
BEGIN:VEVENT
DTSTART;TZID=America/New_York:20220921T090000
DTEND;TZID=America/New_York:20220921T160000
DTSTAMP:20260423T152516
CREATED:20220825T153303Z
LAST-MODIFIED:20250326T175458Z
UID:10000808-1663750800-1663776000@mdfbasques.com
SUMMARY:Halte-garderie
DESCRIPTION:Un moment de répit est offert aux parents et permet aux enfants de socialiser et de se faire de nouveaux amis. Les mercredis et les jeudis de 9h à 16h et les vendredis de 17h30 à 20h30. Pour les enfants de 0 à 10 ans. \nPrenez note que nous avons 6 places maximum.  \nVeuillez activer JavaScript dans votre navigateur pour remplir ce formulaire.Inscrivez-vous sur la liste d'attente pour cet événementNom du parent *Téléphone *Nombre de places 0/18 mois012Nombre de places 18 mois et +0123456Je m'inscris sur la liste d'attente
URL:https://mdfbasques.com/evenement/halte-garderie-325-2-2__trashed/
LOCATION:Maison de la Famille des Basques\, 340\, rue Jean Rioux\, Trois-Pistoles\, Québec\, G0L 4K0\, Canada
CATEGORIES:Halte-garderie
ATTACH;FMTTYPE=image/png:https://mdfbasques.com/wp-content/uploads/2022/08/halte_mercredi_.png
END:VEVENT
BEGIN:VEVENT
DTSTART;TZID=America/New_York:20220922T090000
DTEND;TZID=America/New_York:20220922T160000
DTSTAMP:20260423T152516
CREATED:20220825T153303Z
LAST-MODIFIED:20250326T175458Z
UID:10000809-1663837200-1663862400@mdfbasques.com
SUMMARY:Halte-garderie
DESCRIPTION:Un moment de répit est offert aux parents et permet aux enfants de socialiser et de se faire de nouveaux amis. Les mercredis et les jeudis de 9h à 16h et les vendredis de 17h30 à 20h30. Pour les enfants de 0 à 10 ans. \nPrenez note que nous avons 6 places maximum.  \nVeuillez activer JavaScript dans votre navigateur pour remplir ce formulaire.Inscrivez-vous sur la liste d'attente pour cet événementNom du parent *Téléphone *Nombre de places 0/18 mois012Nombre de places 18 mois et +0123456Je m'inscris sur la liste d'attente
URL:https://mdfbasques.com/evenement/halte-garderie-325-2-3__trashed/
LOCATION:Maison de la Famille des Basques\, 340\, rue Jean Rioux\, Trois-Pistoles\, Québec\, G0L 4K0\, Canada
CATEGORIES:Halte-garderie
ATTACH;FMTTYPE=image/png:https://mdfbasques.com/wp-content/uploads/2022/08/halte_jeudi.png
END:VEVENT
BEGIN:VEVENT
DTSTART;TZID=America/New_York:20220923T173000
DTEND;TZID=America/New_York:20220923T203000
DTSTAMP:20260423T152516
CREATED:20220825T153303Z
LAST-MODIFIED:20250326T175459Z
UID:10001012-1663954200-1663965000@mdfbasques.com
SUMMARY:Halte-garderie
DESCRIPTION:Un moment de répit est offert aux parents et permet aux enfants de socialiser et de se faire de nouveaux amis. Les mercredis et les jeudis de 9h à 16h et les vendredis de 17h30 à 20h30. Pour les enfants de 0 à 10 ans. \nPrenez note que nous avons 5 places maximum.  \nVeuillez activer JavaScript dans votre navigateur pour remplir ce formulaire.Inscrivez-vous sur la liste d'attente pour cet événementNom du parent *Téléphone *Nombre de places 0/18 mois012Nombre de places 18 mois et +0123456Je m'inscris sur la liste d'attente
URL:https://mdfbasques.com/evenement/halte-garderie-325-2-4-2-2__trashed/
LOCATION:Maison de la Famille des Basques\, 340\, rue Jean Rioux\, Trois-Pistoles\, Québec\, G0L 4K0\, Canada
CATEGORIES:Halte-garderie
ATTACH;FMTTYPE=image/png:https://mdfbasques.com/wp-content/uploads/2022/09/halte_vendredi_.png
END:VEVENT
BEGIN:VEVENT
DTSTART;TZID=America/New_York:20220928T090000
DTEND;TZID=America/New_York:20220928T160000
DTSTAMP:20260423T152516
CREATED:20220825T153303Z
LAST-MODIFIED:20250326T175500Z
UID:10000810-1664355600-1664380800@mdfbasques.com
SUMMARY:Halte-garderie
DESCRIPTION:Un moment de répit est offert aux parents et permet aux enfants de socialiser et de se faire de nouveaux amis. Les mercredis et les jeudis de 9h à 16h et les vendredis de 17h30 à 20h30. Pour les enfants de 0 à 10 ans. \nPrenez note que nous avons 6 places maximum.  \nVeuillez activer JavaScript dans votre navigateur pour remplir ce formulaire.Inscrivez-vous sur la liste d'attente pour cet événementNom du parent *Téléphone *Nombre de places 0/18 mois012Nombre de places 18 mois et +0123456Je m'inscris sur la liste d'attente
URL:https://mdfbasques.com/evenement/halte-garderie-325-4-2__trashed/
LOCATION:Maison de la Famille des Basques\, 340\, rue Jean Rioux\, Trois-Pistoles\, Québec\, G0L 4K0\, Canada
CATEGORIES:Halte-garderie
ATTACH;FMTTYPE=image/png:https://mdfbasques.com/wp-content/uploads/2022/08/halte_mercredi_.png
END:VEVENT
BEGIN:VEVENT
DTSTART;TZID=America/New_York:20220929T090000
DTEND;TZID=America/New_York:20220929T160000
DTSTAMP:20260423T152516
CREATED:20220825T153303Z
LAST-MODIFIED:20250326T175500Z
UID:10001129-1664442000-1664467200@mdfbasques.com
SUMMARY:Halte-garderie (Copie)
DESCRIPTION:Un moment de répit est offert aux parents et permet aux enfants de socialiser et de se faire de nouveaux amis. Les mercredis et les jeudis de 9h à 16h et les vendredis de 17h30 à 20h30. Pour les enfants de 0 à 10 ans. \nPrenez note que nous avons 6 places maximum.  \nVeuillez activer JavaScript dans votre navigateur pour remplir ce formulaire.Inscrivez-vous sur la liste d'attente pour cet événementNom du parent *Téléphone *Nombre de places 0/18 mois012Nombre de places 18 mois et +0123456Je m'inscris sur la liste d'attente
URL:https://mdfbasques.com/evenement/halte-garderie-325-4-2-2__trashed-2/
LOCATION:Maison de la Famille des Basques\, 340\, rue Jean Rioux\, Trois-Pistoles\, Québec\, G0L 4K0\, Canada
CATEGORIES:Halte-garderie
ATTACH;FMTTYPE=image/png:https://mdfbasques.com/wp-content/uploads/2022/08/halte_jeudi.png
END:VEVENT
BEGIN:VEVENT
DTSTART;TZID=America/New_York:20220929T090000
DTEND;TZID=America/New_York:20220929T160000
DTSTAMP:20260423T152516
CREATED:20220825T153303Z
LAST-MODIFIED:20250326T175500Z
UID:10000811-1664442000-1664467200@mdfbasques.com
SUMMARY:Halte-garderie
DESCRIPTION:Un moment de répit est offert aux parents et permet aux enfants de socialiser et de se faire de nouveaux amis. Les mercredis et les jeudis de 9h à 16h et les vendredis de 17h30 à 20h30. Pour les enfants de 0 à 10 ans. \nPrenez note que nous avons 6 places maximum.  \nVeuillez activer JavaScript dans votre navigateur pour remplir ce formulaire.Inscrivez-vous sur la liste d'attente pour cet événementNom du parent *Téléphone *Nombre de places 0/18 mois012Nombre de places 18 mois et +0123456Je m'inscris sur la liste d'attente
URL:https://mdfbasques.com/evenement/halte-garderie-325-4-2-2__trashed/
LOCATION:Maison de la Famille des Basques\, 340\, rue Jean Rioux\, Trois-Pistoles\, Québec\, G0L 4K0\, Canada
CATEGORIES:Halte-garderie
ATTACH;FMTTYPE=image/png:https://mdfbasques.com/wp-content/uploads/2022/08/halte_jeudi.png
END:VEVENT
BEGIN:VEVENT
DTSTART;TZID=America/New_York:20220930T173000
DTEND;TZID=America/New_York:20220930T203000
DTSTAMP:20260423T152516
CREATED:20220825T153303Z
LAST-MODIFIED:20250326T175501Z
UID:10001011-1664559000-1664569800@mdfbasques.com
SUMMARY:Halte-garderie
DESCRIPTION:Un moment de répit est offert aux parents et permet aux enfants de socialiser et de se faire de nouveaux amis. Les mercredis et les jeudis de 9h à 16h et les vendredis de 17h30 à 20h30. Pour les enfants de 0 à 10 ans. \nPrenez note que nous avons 5 places maximum.  \nVeuillez activer JavaScript dans votre navigateur pour remplir ce formulaire.Inscrivez-vous sur la liste d'attente pour cet événementNom du parent *Téléphone *Nombre de places 0/18 mois012Nombre de places 18 mois et +0123456Je m'inscris sur la liste d'attente
URL:https://mdfbasques.com/evenement/halte-garderie-325-2-4-2-2-2__trashed/
LOCATION:Maison de la Famille des Basques\, 340\, rue Jean Rioux\, Trois-Pistoles\, Québec\, G0L 4K0\, Canada
CATEGORIES:Halte-garderie
ATTACH;FMTTYPE=image/png:https://mdfbasques.com/wp-content/uploads/2022/09/halte_vendredi_.png
END:VEVENT
END:VCALENDAR