BEGIN:VCALENDAR
VERSION:2.0
PRODID:-//Maison de la Famille des Basques - ECPv6.15.16//NONSGML v1.0//EN
CALSCALE:GREGORIAN
METHOD:PUBLISH
X-WR-CALNAME:Maison de la Famille des Basques
X-ORIGINAL-URL:https://mdfbasques.com
X-WR-CALDESC:Évènements pour Maison de la Famille des Basques
REFRESH-INTERVAL;VALUE=DURATION:PT1H
X-Robots-Tag:noindex
X-PUBLISHED-TTL:PT1H
BEGIN:VTIMEZONE
TZID:America/New_York
BEGIN:DAYLIGHT
TZOFFSETFROM:-0500
TZOFFSETTO:-0400
TZNAME:EDT
DTSTART:20250309T070000
END:DAYLIGHT
BEGIN:STANDARD
TZOFFSETFROM:-0400
TZOFFSETTO:-0500
TZNAME:EST
DTSTART:20251102T060000
END:STANDARD
BEGIN:DAYLIGHT
TZOFFSETFROM:-0500
TZOFFSETTO:-0400
TZNAME:EDT
DTSTART:20260308T070000
END:DAYLIGHT
BEGIN:STANDARD
TZOFFSETFROM:-0400
TZOFFSETTO:-0500
TZNAME:EST
DTSTART:20261101T060000
END:STANDARD
BEGIN:DAYLIGHT
TZOFFSETFROM:-0500
TZOFFSETTO:-0400
TZNAME:EDT
DTSTART:20270314T070000
END:DAYLIGHT
BEGIN:STANDARD
TZOFFSETFROM:-0400
TZOFFSETTO:-0500
TZNAME:EST
DTSTART:20271107T060000
END:STANDARD
END:VTIMEZONE
BEGIN:VEVENT
DTSTART;TZID=America/New_York:20260205T090000
DTEND;TZID=America/New_York:20260205T120000
DTSTAMP:20260419T220330
CREATED:20251203T143807Z
LAST-MODIFIED:20260224T162622Z
UID:10003926-1770282000-1770292800@mdfbasques.com
SUMMARY:Espace famille
DESCRIPTION:Milieu de vie ouvert! \nTu as le goût de sortir de la maison et aller à la rencontre de d’autres familles ?  Viens jouer librement dans la salle de jeux\, la salle de psychomotricité ou notre parc extérieur. \nPas besoin de réservation\, nous sommes là pour vous accueillir. \nGratuit pour les membres.
URL:https://mdfbasques.com/evenement/espace-famille-6/2026-02-05/
LOCATION:Maison de la Famille des Basques\, 340\, rue Jean Rioux\, Trois-Pistoles\, Québec\, G0L 4K0\, Canada
CATEGORIES:Espace Famille
ATTACH;FMTTYPE=image/png:https://mdfbasques.com/wp-content/uploads/2025/07/Espace-famille-20246.png
END:VEVENT
BEGIN:VEVENT
DTSTART;TZID=America/New_York:20260206T090000
DTEND;TZID=America/New_York:20260206T120000
DTSTAMP:20260419T220330
CREATED:20251203T144259Z
LAST-MODIFIED:20260115T164752Z
UID:10003990-1770368400-1770379200@mdfbasques.com
SUMMARY:Espace famille
DESCRIPTION:Milieu de vie ouvert! \nTu as le goût de sortir de la maison et aller à la rencontre de d’autres familles ?  Viens jouer librement dans la salle de jeux\, la salle de psychomotricité ou notre parc extérieur. \nPas besoin de réservation\, nous sommes là pour vous accueillir. \nGratuit pour les membres.
URL:https://mdfbasques.com/evenement/espace-famille-7/2026-02-06/
LOCATION:Maison de la Famille des Basques\, 340\, rue Jean Rioux\, Trois-Pistoles\, Québec\, G0L 4K0\, Canada
CATEGORIES:Espace Famille
ATTACH;FMTTYPE=image/png:https://mdfbasques.com/wp-content/uploads/2025/07/Espace-famille-20246.png
END:VEVENT
BEGIN:VEVENT
DTSTART;TZID=America/New_York:20260207T090000
DTEND;TZID=America/New_York:20260207T120000
DTSTAMP:20260419T220330
CREATED:20251203T144509Z
LAST-MODIFIED:20251203T145331Z
UID:10004054-1770454800-1770465600@mdfbasques.com
SUMMARY:Espace famille
DESCRIPTION:Milieu de vie ouvert! \nTu as le goût de sortir de la maison et aller à la rencontre de d’autres familles ?  Viens jouer librement dans la salle de jeux\, la salle de psychomotricité ou notre parc extérieur. \nPas besoin de réservation\, nous sommes là pour vous accueillir. \nGratuit pour les membres.
URL:https://mdfbasques.com/evenement/espace-famille-8/2026-02-07/
LOCATION:Maison de la Famille des Basques\, 340\, rue Jean Rioux\, Trois-Pistoles\, Québec\, G0L 4K0\, Canada
CATEGORIES:Espace Famille
ATTACH;FMTTYPE=image/png:https://mdfbasques.com/wp-content/uploads/2025/07/Espace-famille-20246.png
END:VEVENT
BEGIN:VEVENT
DTSTART;TZID=America/New_York:20260212T090000
DTEND;TZID=America/New_York:20260212T120000
DTSTAMP:20260419T220330
CREATED:20251217T203620Z
LAST-MODIFIED:20251217T203620Z
UID:10004146-1770886800-1770897600@mdfbasques.com
SUMMARY:Espace famille Saint-Valentin
DESCRIPTION:Milieu de vie ouvert et salle de psychomotricité \nViens profiter de nos activités spéciales pour la Saint-Valentin! \nPas besoin de réservation\, nous sommes là pour vous accueillir. \nGratuit pour les membres.
URL:https://mdfbasques.com/evenement/espace-famille-saint-valentin/2026-02-12/
LOCATION:Maison de la Famille des Basques\, 340\, rue Jean Rioux\, Trois-Pistoles\, Québec\, G0L 4K0\, Canada
CATEGORIES:Espace Famille
ATTACH;FMTTYPE=image/png:https://mdfbasques.com/wp-content/uploads/2025/12/Espace-famille-Saint-Valentin.png
END:VEVENT
BEGIN:VEVENT
DTSTART;TZID=America/New_York:20260213T090000
DTEND;TZID=America/New_York:20260213T120000
DTSTAMP:20260419T220330
CREATED:20251217T203620Z
LAST-MODIFIED:20251217T203620Z
UID:10004147-1770973200-1770984000@mdfbasques.com
SUMMARY:Espace famille Saint-Valentin
DESCRIPTION:Milieu de vie ouvert et salle de psychomotricité \nViens profiter de nos activités spéciales pour la Saint-Valentin! \nPas besoin de réservation\, nous sommes là pour vous accueillir. \nGratuit pour les membres.
URL:https://mdfbasques.com/evenement/espace-famille-saint-valentin/2026-02-13/
LOCATION:Maison de la Famille des Basques\, 340\, rue Jean Rioux\, Trois-Pistoles\, Québec\, G0L 4K0\, Canada
CATEGORIES:Espace Famille
ATTACH;FMTTYPE=image/png:https://mdfbasques.com/wp-content/uploads/2025/12/Espace-famille-Saint-Valentin.png
END:VEVENT
BEGIN:VEVENT
DTSTART;TZID=America/New_York:20260214T090000
DTEND;TZID=America/New_York:20260214T120000
DTSTAMP:20260419T220330
CREATED:20251217T203620Z
LAST-MODIFIED:20251217T203620Z
UID:10004148-1771059600-1771070400@mdfbasques.com
SUMMARY:Espace famille Saint-Valentin
DESCRIPTION:Milieu de vie ouvert et salle de psychomotricité \nViens profiter de nos activités spéciales pour la Saint-Valentin! \nPas besoin de réservation\, nous sommes là pour vous accueillir. \nGratuit pour les membres.
URL:https://mdfbasques.com/evenement/espace-famille-saint-valentin/2026-02-14/
LOCATION:Maison de la Famille des Basques\, 340\, rue Jean Rioux\, Trois-Pistoles\, Québec\, G0L 4K0\, Canada
CATEGORIES:Espace Famille
ATTACH;FMTTYPE=image/png:https://mdfbasques.com/wp-content/uploads/2025/12/Espace-famille-Saint-Valentin.png
END:VEVENT
BEGIN:VEVENT
DTSTART;TZID=America/New_York:20260219T090000
DTEND;TZID=America/New_York:20260219T120000
DTSTAMP:20260419T220330
CREATED:20251203T143807Z
LAST-MODIFIED:20260224T162622Z
UID:10003928-1771491600-1771502400@mdfbasques.com
SUMMARY:Espace famille
DESCRIPTION:Milieu de vie ouvert! \nTu as le goût de sortir de la maison et aller à la rencontre de d’autres familles ?  Viens jouer librement dans la salle de jeux\, la salle de psychomotricité ou notre parc extérieur. \nPas besoin de réservation\, nous sommes là pour vous accueillir. \nGratuit pour les membres.
URL:https://mdfbasques.com/evenement/espace-famille-6/2026-02-19/
LOCATION:Maison de la Famille des Basques\, 340\, rue Jean Rioux\, Trois-Pistoles\, Québec\, G0L 4K0\, Canada
CATEGORIES:Espace Famille
ATTACH;FMTTYPE=image/png:https://mdfbasques.com/wp-content/uploads/2025/07/Espace-famille-20246.png
END:VEVENT
BEGIN:VEVENT
DTSTART;TZID=America/New_York:20260220T090000
DTEND;TZID=America/New_York:20260220T120000
DTSTAMP:20260419T220330
CREATED:20251203T144259Z
LAST-MODIFIED:20260115T164752Z
UID:10003992-1771578000-1771588800@mdfbasques.com
SUMMARY:Espace famille
DESCRIPTION:Milieu de vie ouvert! \nTu as le goût de sortir de la maison et aller à la rencontre de d’autres familles ?  Viens jouer librement dans la salle de jeux\, la salle de psychomotricité ou notre parc extérieur. \nPas besoin de réservation\, nous sommes là pour vous accueillir. \nGratuit pour les membres.
URL:https://mdfbasques.com/evenement/espace-famille-7/2026-02-20/
LOCATION:Maison de la Famille des Basques\, 340\, rue Jean Rioux\, Trois-Pistoles\, Québec\, G0L 4K0\, Canada
CATEGORIES:Espace Famille
ATTACH;FMTTYPE=image/png:https://mdfbasques.com/wp-content/uploads/2025/07/Espace-famille-20246.png
END:VEVENT
BEGIN:VEVENT
DTSTART;TZID=America/New_York:20260221T090000
DTEND;TZID=America/New_York:20260221T120000
DTSTAMP:20260419T220330
CREATED:20251203T144509Z
LAST-MODIFIED:20251203T145331Z
UID:10004056-1771664400-1771675200@mdfbasques.com
SUMMARY:Espace famille
DESCRIPTION:Milieu de vie ouvert! \nTu as le goût de sortir de la maison et aller à la rencontre de d’autres familles ?  Viens jouer librement dans la salle de jeux\, la salle de psychomotricité ou notre parc extérieur. \nPas besoin de réservation\, nous sommes là pour vous accueillir. \nGratuit pour les membres.
URL:https://mdfbasques.com/evenement/espace-famille-8/2026-02-21/
LOCATION:Maison de la Famille des Basques\, 340\, rue Jean Rioux\, Trois-Pistoles\, Québec\, G0L 4K0\, Canada
CATEGORIES:Espace Famille
ATTACH;FMTTYPE=image/png:https://mdfbasques.com/wp-content/uploads/2025/07/Espace-famille-20246.png
END:VEVENT
BEGIN:VEVENT
DTSTART;TZID=America/New_York:20260226T090000
DTEND;TZID=America/New_York:20260226T120000
DTSTAMP:20260419T220330
CREATED:20251203T143807Z
LAST-MODIFIED:20260224T162622Z
UID:10003929-1772096400-1772107200@mdfbasques.com
SUMMARY:Espace famille
DESCRIPTION:Milieu de vie ouvert! \nTu as le goût de sortir de la maison et aller à la rencontre de d’autres familles ?  Viens jouer librement dans la salle de jeux\, la salle de psychomotricité ou notre parc extérieur. \nPas besoin de réservation\, nous sommes là pour vous accueillir. \nGratuit pour les membres.
URL:https://mdfbasques.com/evenement/espace-famille-6/2026-02-26/
LOCATION:Maison de la Famille des Basques\, 340\, rue Jean Rioux\, Trois-Pistoles\, Québec\, G0L 4K0\, Canada
CATEGORIES:Espace Famille
ATTACH;FMTTYPE=image/png:https://mdfbasques.com/wp-content/uploads/2025/07/Espace-famille-20246.png
END:VEVENT
BEGIN:VEVENT
DTSTART;TZID=America/New_York:20260227T090000
DTEND;TZID=America/New_York:20260227T120000
DTSTAMP:20260419T220330
CREATED:20251203T144259Z
LAST-MODIFIED:20260115T164752Z
UID:10003993-1772182800-1772193600@mdfbasques.com
SUMMARY:Espace famille
DESCRIPTION:Milieu de vie ouvert! \nTu as le goût de sortir de la maison et aller à la rencontre de d’autres familles ?  Viens jouer librement dans la salle de jeux\, la salle de psychomotricité ou notre parc extérieur. \nPas besoin de réservation\, nous sommes là pour vous accueillir. \nGratuit pour les membres.
URL:https://mdfbasques.com/evenement/espace-famille-7/2026-02-27/
LOCATION:Maison de la Famille des Basques\, 340\, rue Jean Rioux\, Trois-Pistoles\, Québec\, G0L 4K0\, Canada
CATEGORIES:Espace Famille
ATTACH;FMTTYPE=image/png:https://mdfbasques.com/wp-content/uploads/2025/07/Espace-famille-20246.png
END:VEVENT
BEGIN:VEVENT
DTSTART;TZID=America/New_York:20260228T090000
DTEND;TZID=America/New_York:20260228T120000
DTSTAMP:20260419T220330
CREATED:20251203T144509Z
LAST-MODIFIED:20251203T145331Z
UID:10004057-1772269200-1772280000@mdfbasques.com
SUMMARY:Espace famille
DESCRIPTION:Milieu de vie ouvert! \nTu as le goût de sortir de la maison et aller à la rencontre de d’autres familles ?  Viens jouer librement dans la salle de jeux\, la salle de psychomotricité ou notre parc extérieur. \nPas besoin de réservation\, nous sommes là pour vous accueillir. \nGratuit pour les membres.
URL:https://mdfbasques.com/evenement/espace-famille-8/2026-02-28/
LOCATION:Maison de la Famille des Basques\, 340\, rue Jean Rioux\, Trois-Pistoles\, Québec\, G0L 4K0\, Canada
CATEGORIES:Espace Famille
ATTACH;FMTTYPE=image/png:https://mdfbasques.com/wp-content/uploads/2025/07/Espace-famille-20246.png
END:VEVENT
END:VCALENDAR