BEGIN:VCALENDAR
VERSION:2.0
PRODID:-//Maison de la Famille des Basques - ECPv6.15.16//NONSGML v1.0//EN
CALSCALE:GREGORIAN
METHOD:PUBLISH
X-WR-CALNAME:Maison de la Famille des Basques
X-ORIGINAL-URL:https://mdfbasques.com
X-WR-CALDESC:Évènements pour Maison de la Famille des Basques
REFRESH-INTERVAL;VALUE=DURATION:PT1H
X-Robots-Tag:noindex
X-PUBLISHED-TTL:PT1H
BEGIN:VTIMEZONE
TZID:America/New_York
BEGIN:DAYLIGHT
TZOFFSETFROM:-0500
TZOFFSETTO:-0400
TZNAME:EDT
DTSTART:20250309T070000
END:DAYLIGHT
BEGIN:STANDARD
TZOFFSETFROM:-0400
TZOFFSETTO:-0500
TZNAME:EST
DTSTART:20251102T060000
END:STANDARD
BEGIN:DAYLIGHT
TZOFFSETFROM:-0500
TZOFFSETTO:-0400
TZNAME:EDT
DTSTART:20260308T070000
END:DAYLIGHT
BEGIN:STANDARD
TZOFFSETFROM:-0400
TZOFFSETTO:-0500
TZNAME:EST
DTSTART:20261101T060000
END:STANDARD
BEGIN:DAYLIGHT
TZOFFSETFROM:-0500
TZOFFSETTO:-0400
TZNAME:EDT
DTSTART:20270314T070000
END:DAYLIGHT
BEGIN:STANDARD
TZOFFSETFROM:-0400
TZOFFSETTO:-0500
TZNAME:EST
DTSTART:20271107T060000
END:STANDARD
END:VTIMEZONE
BEGIN:VEVENT
DTSTART;TZID=America/New_York:20260108T090000
DTEND;TZID=America/New_York:20260108T120000
DTSTAMP:20260419T234749
CREATED:20251203T143807Z
LAST-MODIFIED:20260224T162622Z
UID:10003922-1767862800-1767873600@mdfbasques.com
SUMMARY:Espace famille
DESCRIPTION:Milieu de vie ouvert! \nTu as le goût de sortir de la maison et aller à la rencontre de d’autres familles ?  Viens jouer librement dans la salle de jeux\, la salle de psychomotricité ou notre parc extérieur. \nPas besoin de réservation\, nous sommes là pour vous accueillir. \nGratuit pour les membres.
URL:https://mdfbasques.com/evenement/espace-famille-6/2026-01-08/
LOCATION:Maison de la Famille des Basques\, 340\, rue Jean Rioux\, Trois-Pistoles\, Québec\, G0L 4K0\, Canada
CATEGORIES:Espace Famille
ATTACH;FMTTYPE=image/png:https://mdfbasques.com/wp-content/uploads/2025/07/Espace-famille-20246.png
END:VEVENT
BEGIN:VEVENT
DTSTART;TZID=America/New_York:20260109T090000
DTEND;TZID=America/New_York:20260109T120000
DTSTAMP:20260419T234749
CREATED:20251203T144259Z
LAST-MODIFIED:20260115T164752Z
UID:10003986-1767949200-1767960000@mdfbasques.com
SUMMARY:Espace famille
DESCRIPTION:Milieu de vie ouvert! \nTu as le goût de sortir de la maison et aller à la rencontre de d’autres familles ?  Viens jouer librement dans la salle de jeux\, la salle de psychomotricité ou notre parc extérieur. \nPas besoin de réservation\, nous sommes là pour vous accueillir. \nGratuit pour les membres.
URL:https://mdfbasques.com/evenement/espace-famille-7/2026-01-09/
LOCATION:Maison de la Famille des Basques\, 340\, rue Jean Rioux\, Trois-Pistoles\, Québec\, G0L 4K0\, Canada
CATEGORIES:Espace Famille
ATTACH;FMTTYPE=image/png:https://mdfbasques.com/wp-content/uploads/2025/07/Espace-famille-20246.png
END:VEVENT
BEGIN:VEVENT
DTSTART;TZID=America/New_York:20260110T090000
DTEND;TZID=America/New_York:20260110T120000
DTSTAMP:20260419T234749
CREATED:20251203T144509Z
LAST-MODIFIED:20251203T145331Z
UID:10004050-1768035600-1768046400@mdfbasques.com
SUMMARY:Espace famille
DESCRIPTION:Milieu de vie ouvert! \nTu as le goût de sortir de la maison et aller à la rencontre de d’autres familles ?  Viens jouer librement dans la salle de jeux\, la salle de psychomotricité ou notre parc extérieur. \nPas besoin de réservation\, nous sommes là pour vous accueillir. \nGratuit pour les membres.
URL:https://mdfbasques.com/evenement/espace-famille-8/2026-01-10/
LOCATION:Maison de la Famille des Basques\, 340\, rue Jean Rioux\, Trois-Pistoles\, Québec\, G0L 4K0\, Canada
CATEGORIES:Espace Famille
ATTACH;FMTTYPE=image/png:https://mdfbasques.com/wp-content/uploads/2025/07/Espace-famille-20246.png
END:VEVENT
BEGIN:VEVENT
DTSTART;TZID=America/New_York:20260115T090000
DTEND;TZID=America/New_York:20260115T120000
DTSTAMP:20260419T234749
CREATED:20251203T143807Z
LAST-MODIFIED:20260224T162622Z
UID:10003923-1768467600-1768478400@mdfbasques.com
SUMMARY:Espace famille
DESCRIPTION:Milieu de vie ouvert! \nTu as le goût de sortir de la maison et aller à la rencontre de d’autres familles ?  Viens jouer librement dans la salle de jeux\, la salle de psychomotricité ou notre parc extérieur. \nPas besoin de réservation\, nous sommes là pour vous accueillir. \nGratuit pour les membres.
URL:https://mdfbasques.com/evenement/espace-famille-6/2026-01-15/
LOCATION:Maison de la Famille des Basques\, 340\, rue Jean Rioux\, Trois-Pistoles\, Québec\, G0L 4K0\, Canada
CATEGORIES:Espace Famille
ATTACH;FMTTYPE=image/png:https://mdfbasques.com/wp-content/uploads/2025/07/Espace-famille-20246.png
END:VEVENT
BEGIN:VEVENT
DTSTART;TZID=America/New_York:20260116T090000
DTEND;TZID=America/New_York:20260116T120000
DTSTAMP:20260419T234749
CREATED:20251203T144259Z
LAST-MODIFIED:20260115T164752Z
UID:10003987-1768554000-1768564800@mdfbasques.com
SUMMARY:Espace famille
DESCRIPTION:Milieu de vie ouvert! \nTu as le goût de sortir de la maison et aller à la rencontre de d’autres familles ?  Viens jouer librement dans la salle de jeux\, la salle de psychomotricité ou notre parc extérieur. \nPas besoin de réservation\, nous sommes là pour vous accueillir. \nGratuit pour les membres.
URL:https://mdfbasques.com/evenement/espace-famille-7/2026-01-16/
LOCATION:Maison de la Famille des Basques\, 340\, rue Jean Rioux\, Trois-Pistoles\, Québec\, G0L 4K0\, Canada
CATEGORIES:Espace Famille
ATTACH;FMTTYPE=image/png:https://mdfbasques.com/wp-content/uploads/2025/07/Espace-famille-20246.png
END:VEVENT
BEGIN:VEVENT
DTSTART;TZID=America/New_York:20260117T090000
DTEND;TZID=America/New_York:20260117T120000
DTSTAMP:20260419T234749
CREATED:20251203T144509Z
LAST-MODIFIED:20251203T145331Z
UID:10004051-1768640400-1768651200@mdfbasques.com
SUMMARY:Espace famille
DESCRIPTION:Milieu de vie ouvert! \nTu as le goût de sortir de la maison et aller à la rencontre de d’autres familles ?  Viens jouer librement dans la salle de jeux\, la salle de psychomotricité ou notre parc extérieur. \nPas besoin de réservation\, nous sommes là pour vous accueillir. \nGratuit pour les membres.
URL:https://mdfbasques.com/evenement/espace-famille-8/2026-01-17/
LOCATION:Maison de la Famille des Basques\, 340\, rue Jean Rioux\, Trois-Pistoles\, Québec\, G0L 4K0\, Canada
CATEGORIES:Espace Famille
ATTACH;FMTTYPE=image/png:https://mdfbasques.com/wp-content/uploads/2025/07/Espace-famille-20246.png
END:VEVENT
BEGIN:VEVENT
DTSTART;TZID=America/New_York:20260122T090000
DTEND;TZID=America/New_York:20260122T120000
DTSTAMP:20260419T234749
CREATED:20251203T143807Z
LAST-MODIFIED:20260224T162622Z
UID:10003924-1769072400-1769083200@mdfbasques.com
SUMMARY:Espace famille
DESCRIPTION:Milieu de vie ouvert! \nTu as le goût de sortir de la maison et aller à la rencontre de d’autres familles ?  Viens jouer librement dans la salle de jeux\, la salle de psychomotricité ou notre parc extérieur. \nPas besoin de réservation\, nous sommes là pour vous accueillir. \nGratuit pour les membres.
URL:https://mdfbasques.com/evenement/espace-famille-6/2026-01-22/
LOCATION:Maison de la Famille des Basques\, 340\, rue Jean Rioux\, Trois-Pistoles\, Québec\, G0L 4K0\, Canada
CATEGORIES:Espace Famille
ATTACH;FMTTYPE=image/png:https://mdfbasques.com/wp-content/uploads/2025/07/Espace-famille-20246.png
END:VEVENT
BEGIN:VEVENT
DTSTART;TZID=America/New_York:20260123T090000
DTEND;TZID=America/New_York:20260123T120000
DTSTAMP:20260419T234749
CREATED:20251203T144259Z
LAST-MODIFIED:20260115T164752Z
UID:10003988-1769158800-1769169600@mdfbasques.com
SUMMARY:Espace famille
DESCRIPTION:Milieu de vie ouvert! \nTu as le goût de sortir de la maison et aller à la rencontre de d’autres familles ?  Viens jouer librement dans la salle de jeux\, la salle de psychomotricité ou notre parc extérieur. \nPas besoin de réservation\, nous sommes là pour vous accueillir. \nGratuit pour les membres.
URL:https://mdfbasques.com/evenement/espace-famille-7/2026-01-23/
LOCATION:Maison de la Famille des Basques\, 340\, rue Jean Rioux\, Trois-Pistoles\, Québec\, G0L 4K0\, Canada
CATEGORIES:Espace Famille
ATTACH;FMTTYPE=image/png:https://mdfbasques.com/wp-content/uploads/2025/07/Espace-famille-20246.png
END:VEVENT
BEGIN:VEVENT
DTSTART;TZID=America/New_York:20260124T090000
DTEND;TZID=America/New_York:20260124T120000
DTSTAMP:20260419T234749
CREATED:20251203T144509Z
LAST-MODIFIED:20251203T145331Z
UID:10004052-1769245200-1769256000@mdfbasques.com
SUMMARY:Espace famille
DESCRIPTION:Milieu de vie ouvert! \nTu as le goût de sortir de la maison et aller à la rencontre de d’autres familles ?  Viens jouer librement dans la salle de jeux\, la salle de psychomotricité ou notre parc extérieur. \nPas besoin de réservation\, nous sommes là pour vous accueillir. \nGratuit pour les membres.
URL:https://mdfbasques.com/evenement/espace-famille-8/2026-01-24/
LOCATION:Maison de la Famille des Basques\, 340\, rue Jean Rioux\, Trois-Pistoles\, Québec\, G0L 4K0\, Canada
CATEGORIES:Espace Famille
ATTACH;FMTTYPE=image/png:https://mdfbasques.com/wp-content/uploads/2025/07/Espace-famille-20246.png
END:VEVENT
BEGIN:VEVENT
DTSTART;TZID=America/New_York:20260129T090000
DTEND;TZID=America/New_York:20260129T120000
DTSTAMP:20260419T234749
CREATED:20251203T143807Z
LAST-MODIFIED:20260224T162622Z
UID:10003925-1769677200-1769688000@mdfbasques.com
SUMMARY:Espace famille
DESCRIPTION:Milieu de vie ouvert! \nTu as le goût de sortir de la maison et aller à la rencontre de d’autres familles ?  Viens jouer librement dans la salle de jeux\, la salle de psychomotricité ou notre parc extérieur. \nPas besoin de réservation\, nous sommes là pour vous accueillir. \nGratuit pour les membres.
URL:https://mdfbasques.com/evenement/espace-famille-6/2026-01-29/
LOCATION:Maison de la Famille des Basques\, 340\, rue Jean Rioux\, Trois-Pistoles\, Québec\, G0L 4K0\, Canada
CATEGORIES:Espace Famille
ATTACH;FMTTYPE=image/png:https://mdfbasques.com/wp-content/uploads/2025/07/Espace-famille-20246.png
END:VEVENT
BEGIN:VEVENT
DTSTART;TZID=America/New_York:20260130T090000
DTEND;TZID=America/New_York:20260130T120000
DTSTAMP:20260419T234749
CREATED:20251203T144259Z
LAST-MODIFIED:20260115T164752Z
UID:10003989-1769763600-1769774400@mdfbasques.com
SUMMARY:Espace famille
DESCRIPTION:Milieu de vie ouvert! \nTu as le goût de sortir de la maison et aller à la rencontre de d’autres familles ?  Viens jouer librement dans la salle de jeux\, la salle de psychomotricité ou notre parc extérieur. \nPas besoin de réservation\, nous sommes là pour vous accueillir. \nGratuit pour les membres.
URL:https://mdfbasques.com/evenement/espace-famille-7/2026-01-30/
LOCATION:Maison de la Famille des Basques\, 340\, rue Jean Rioux\, Trois-Pistoles\, Québec\, G0L 4K0\, Canada
CATEGORIES:Espace Famille
ATTACH;FMTTYPE=image/png:https://mdfbasques.com/wp-content/uploads/2025/07/Espace-famille-20246.png
END:VEVENT
BEGIN:VEVENT
DTSTART;TZID=America/New_York:20260131T090000
DTEND;TZID=America/New_York:20260131T120000
DTSTAMP:20260419T234749
CREATED:20251203T144509Z
LAST-MODIFIED:20251203T145331Z
UID:10004053-1769850000-1769860800@mdfbasques.com
SUMMARY:Espace famille
DESCRIPTION:Milieu de vie ouvert! \nTu as le goût de sortir de la maison et aller à la rencontre de d’autres familles ?  Viens jouer librement dans la salle de jeux\, la salle de psychomotricité ou notre parc extérieur. \nPas besoin de réservation\, nous sommes là pour vous accueillir. \nGratuit pour les membres.
URL:https://mdfbasques.com/evenement/espace-famille-8/2026-01-31/
LOCATION:Maison de la Famille des Basques\, 340\, rue Jean Rioux\, Trois-Pistoles\, Québec\, G0L 4K0\, Canada
CATEGORIES:Espace Famille
ATTACH;FMTTYPE=image/png:https://mdfbasques.com/wp-content/uploads/2025/07/Espace-famille-20246.png
END:VEVENT
END:VCALENDAR