BEGIN:VCALENDAR
VERSION:2.0
PRODID:-//Maison de la Famille des Basques - ECPv6.15.16//NONSGML v1.0//EN
CALSCALE:GREGORIAN
METHOD:PUBLISH
X-WR-CALNAME:Maison de la Famille des Basques
X-ORIGINAL-URL:https://mdfbasques.com
X-WR-CALDESC:Évènements pour Maison de la Famille des Basques
REFRESH-INTERVAL;VALUE=DURATION:PT1H
X-Robots-Tag:noindex
X-PUBLISHED-TTL:PT1H
BEGIN:VTIMEZONE
TZID:America/New_York
BEGIN:DAYLIGHT
TZOFFSETFROM:-0500
TZOFFSETTO:-0400
TZNAME:EDT
DTSTART:20240310T070000
END:DAYLIGHT
BEGIN:STANDARD
TZOFFSETFROM:-0400
TZOFFSETTO:-0500
TZNAME:EST
DTSTART:20241103T060000
END:STANDARD
BEGIN:DAYLIGHT
TZOFFSETFROM:-0500
TZOFFSETTO:-0400
TZNAME:EDT
DTSTART:20250309T070000
END:DAYLIGHT
BEGIN:STANDARD
TZOFFSETFROM:-0400
TZOFFSETTO:-0500
TZNAME:EST
DTSTART:20251102T060000
END:STANDARD
BEGIN:DAYLIGHT
TZOFFSETFROM:-0500
TZOFFSETTO:-0400
TZNAME:EDT
DTSTART:20260308T070000
END:DAYLIGHT
BEGIN:STANDARD
TZOFFSETFROM:-0400
TZOFFSETTO:-0500
TZNAME:EST
DTSTART:20261101T060000
END:STANDARD
END:VTIMEZONE
BEGIN:VEVENT
DTSTART;TZID=America/New_York:20251106T090000
DTEND;TZID=America/New_York:20251106T120000
DTSTAMP:20260420T025407
CREATED:20250704T143450Z
LAST-MODIFIED:20250704T143450Z
UID:10003645-1762419600-1762430400@mdfbasques.com
SUMMARY:Espace famille
DESCRIPTION:Milieu de vie ouvert et salle de psychomotricité \nTu as le goût de sortir de la maison et aller à la rencontre de d’autres familles ?  Viens jouer librement dans la salle de jeux\, la salle de psychomotricité ou notre parc extérieur. \nPas besoin de réservation\, nous sommes là pour vous accueillir. \nGratuit pour les membres.
URL:https://mdfbasques.com/evenement/espace-famille-4/2025-11-06/
LOCATION:Maison de la Famille des Basques\, 340\, rue Jean Rioux\, Trois-Pistoles\, Québec\, G0L 4K0\, Canada
CATEGORIES:Espace Famille
ATTACH;FMTTYPE=image/png:https://mdfbasques.com/wp-content/uploads/2025/07/Espace-famille-20246.png
END:VEVENT
BEGIN:VEVENT
DTSTART;TZID=America/New_York:20251107T090000
DTEND;TZID=America/New_York:20251107T120000
DTSTAMP:20260420T025407
CREATED:20250704T143323Z
LAST-MODIFIED:20250704T143323Z
UID:10003629-1762506000-1762516800@mdfbasques.com
SUMMARY:Espace famille
DESCRIPTION:Milieu de vie ouvert et salle de psychomotricité \nTu as le goût de sortir de la maison et aller à la rencontre de d’autres familles ?  Viens jouer librement dans la salle de jeux\, la salle de psychomotricité ou notre parc extérieur. \nPas besoin de réservation\, nous sommes là pour vous accueillir. \nGratuit pour les membres.
URL:https://mdfbasques.com/evenement/espace-famille-3/2025-11-07/
LOCATION:Maison de la Famille des Basques\, 340\, rue Jean Rioux\, Trois-Pistoles\, Québec\, G0L 4K0\, Canada
CATEGORIES:Espace Famille
ATTACH;FMTTYPE=image/png:https://mdfbasques.com/wp-content/uploads/2025/07/Espace-famille-20246.png
END:VEVENT
BEGIN:VEVENT
DTSTART;TZID=America/New_York:20251108T090000
DTEND;TZID=America/New_York:20251108T120000
DTSTAMP:20260420T025407
CREATED:20250704T143139Z
LAST-MODIFIED:20250704T143139Z
UID:10003613-1762592400-1762603200@mdfbasques.com
SUMMARY:Espace famille
DESCRIPTION:Milieu de vie ouvert et salle de psychomotricité \nTu as le goût de sortir de la maison et aller à la rencontre de d’autres familles ?  Viens jouer librement dans la salle de jeux\, la salle de psychomotricité ou notre parc extérieur. \nPas besoin de réservation\, nous sommes là pour vous accueillir. \nGratuit pour les membres.
URL:https://mdfbasques.com/evenement/espace-famille-2/2025-11-08/
LOCATION:Maison de la Famille des Basques\, 340\, rue Jean Rioux\, Trois-Pistoles\, Québec\, G0L 4K0\, Canada
CATEGORIES:Espace Famille
ATTACH;FMTTYPE=image/png:https://mdfbasques.com/wp-content/uploads/2025/07/Espace-famille-20246.png
END:VEVENT
BEGIN:VEVENT
DTSTART;TZID=America/New_York:20251114T090000
DTEND;TZID=America/New_York:20251114T120000
DTSTAMP:20260420T025407
CREATED:20250704T143323Z
LAST-MODIFIED:20250704T143323Z
UID:10003630-1763110800-1763121600@mdfbasques.com
SUMMARY:Espace famille
DESCRIPTION:Milieu de vie ouvert et salle de psychomotricité \nTu as le goût de sortir de la maison et aller à la rencontre de d’autres familles ?  Viens jouer librement dans la salle de jeux\, la salle de psychomotricité ou notre parc extérieur. \nPas besoin de réservation\, nous sommes là pour vous accueillir. \nGratuit pour les membres.
URL:https://mdfbasques.com/evenement/espace-famille-3/2025-11-14/
LOCATION:Maison de la Famille des Basques\, 340\, rue Jean Rioux\, Trois-Pistoles\, Québec\, G0L 4K0\, Canada
CATEGORIES:Espace Famille
ATTACH;FMTTYPE=image/png:https://mdfbasques.com/wp-content/uploads/2025/07/Espace-famille-20246.png
END:VEVENT
BEGIN:VEVENT
DTSTART;TZID=America/New_York:20251115T090000
DTEND;TZID=America/New_York:20251115T120000
DTSTAMP:20260420T025407
CREATED:20250704T143139Z
LAST-MODIFIED:20250704T143139Z
UID:10003614-1763197200-1763208000@mdfbasques.com
SUMMARY:Espace famille
DESCRIPTION:Milieu de vie ouvert et salle de psychomotricité \nTu as le goût de sortir de la maison et aller à la rencontre de d’autres familles ?  Viens jouer librement dans la salle de jeux\, la salle de psychomotricité ou notre parc extérieur. \nPas besoin de réservation\, nous sommes là pour vous accueillir. \nGratuit pour les membres.
URL:https://mdfbasques.com/evenement/espace-famille-2/2025-11-15/
LOCATION:Maison de la Famille des Basques\, 340\, rue Jean Rioux\, Trois-Pistoles\, Québec\, G0L 4K0\, Canada
CATEGORIES:Espace Famille
ATTACH;FMTTYPE=image/png:https://mdfbasques.com/wp-content/uploads/2025/07/Espace-famille-20246.png
END:VEVENT
BEGIN:VEVENT
DTSTART;TZID=America/New_York:20251121T090000
DTEND;TZID=America/New_York:20251121T120000
DTSTAMP:20260420T025407
CREATED:20250704T143323Z
LAST-MODIFIED:20250704T143323Z
UID:10003631-1763715600-1763726400@mdfbasques.com
SUMMARY:Espace famille
DESCRIPTION:Milieu de vie ouvert et salle de psychomotricité \nTu as le goût de sortir de la maison et aller à la rencontre de d’autres familles ?  Viens jouer librement dans la salle de jeux\, la salle de psychomotricité ou notre parc extérieur. \nPas besoin de réservation\, nous sommes là pour vous accueillir. \nGratuit pour les membres.
URL:https://mdfbasques.com/evenement/espace-famille-3/2025-11-21/
LOCATION:Maison de la Famille des Basques\, 340\, rue Jean Rioux\, Trois-Pistoles\, Québec\, G0L 4K0\, Canada
CATEGORIES:Espace Famille
ATTACH;FMTTYPE=image/png:https://mdfbasques.com/wp-content/uploads/2025/07/Espace-famille-20246.png
END:VEVENT
BEGIN:VEVENT
DTSTART;TZID=America/New_York:20251122T090000
DTEND;TZID=America/New_York:20251122T120000
DTSTAMP:20260420T025407
CREATED:20250704T143139Z
LAST-MODIFIED:20250704T143139Z
UID:10003615-1763802000-1763812800@mdfbasques.com
SUMMARY:Espace famille
DESCRIPTION:Milieu de vie ouvert et salle de psychomotricité \nTu as le goût de sortir de la maison et aller à la rencontre de d’autres familles ?  Viens jouer librement dans la salle de jeux\, la salle de psychomotricité ou notre parc extérieur. \nPas besoin de réservation\, nous sommes là pour vous accueillir. \nGratuit pour les membres.
URL:https://mdfbasques.com/evenement/espace-famille-2/2025-11-22/
LOCATION:Maison de la Famille des Basques\, 340\, rue Jean Rioux\, Trois-Pistoles\, Québec\, G0L 4K0\, Canada
CATEGORIES:Espace Famille
ATTACH;FMTTYPE=image/png:https://mdfbasques.com/wp-content/uploads/2025/07/Espace-famille-20246.png
END:VEVENT
BEGIN:VEVENT
DTSTART;TZID=America/New_York:20251127T090000
DTEND;TZID=America/New_York:20251127T120000
DTSTAMP:20260420T025407
CREATED:20250704T143450Z
LAST-MODIFIED:20250704T143450Z
UID:10003648-1764234000-1764244800@mdfbasques.com
SUMMARY:Espace famille
DESCRIPTION:Milieu de vie ouvert et salle de psychomotricité \nTu as le goût de sortir de la maison et aller à la rencontre de d’autres familles ?  Viens jouer librement dans la salle de jeux\, la salle de psychomotricité ou notre parc extérieur. \nPas besoin de réservation\, nous sommes là pour vous accueillir. \nGratuit pour les membres.
URL:https://mdfbasques.com/evenement/espace-famille-4/2025-11-27/
LOCATION:Maison de la Famille des Basques\, 340\, rue Jean Rioux\, Trois-Pistoles\, Québec\, G0L 4K0\, Canada
CATEGORIES:Espace Famille
ATTACH;FMTTYPE=image/png:https://mdfbasques.com/wp-content/uploads/2025/07/Espace-famille-20246.png
END:VEVENT
BEGIN:VEVENT
DTSTART;TZID=America/New_York:20251128T090000
DTEND;TZID=America/New_York:20251128T120000
DTSTAMP:20260420T025407
CREATED:20250704T143323Z
LAST-MODIFIED:20250704T143323Z
UID:10003632-1764320400-1764331200@mdfbasques.com
SUMMARY:Espace famille
DESCRIPTION:Milieu de vie ouvert et salle de psychomotricité \nTu as le goût de sortir de la maison et aller à la rencontre de d’autres familles ?  Viens jouer librement dans la salle de jeux\, la salle de psychomotricité ou notre parc extérieur. \nPas besoin de réservation\, nous sommes là pour vous accueillir. \nGratuit pour les membres.
URL:https://mdfbasques.com/evenement/espace-famille-3/2025-11-28/
LOCATION:Maison de la Famille des Basques\, 340\, rue Jean Rioux\, Trois-Pistoles\, Québec\, G0L 4K0\, Canada
CATEGORIES:Espace Famille
ATTACH;FMTTYPE=image/png:https://mdfbasques.com/wp-content/uploads/2025/07/Espace-famille-20246.png
END:VEVENT
END:VCALENDAR