BEGIN:VCALENDAR
VERSION:2.0
PRODID:-//Maison de la Famille des Basques - ECPv6.15.16//NONSGML v1.0//EN
CALSCALE:GREGORIAN
METHOD:PUBLISH
X-ORIGINAL-URL:https://mdfbasques.com
X-WR-CALDESC:Évènements pour Maison de la Famille des Basques
REFRESH-INTERVAL;VALUE=DURATION:PT1H
X-Robots-Tag:noindex
X-PUBLISHED-TTL:PT1H
BEGIN:VTIMEZONE
TZID:America/New_York
BEGIN:DAYLIGHT
TZOFFSETFROM:-0500
TZOFFSETTO:-0400
TZNAME:EDT
DTSTART:20240310T070000
END:DAYLIGHT
BEGIN:STANDARD
TZOFFSETFROM:-0400
TZOFFSETTO:-0500
TZNAME:EST
DTSTART:20241103T060000
END:STANDARD
BEGIN:DAYLIGHT
TZOFFSETFROM:-0500
TZOFFSETTO:-0400
TZNAME:EDT
DTSTART:20250309T070000
END:DAYLIGHT
BEGIN:STANDARD
TZOFFSETFROM:-0400
TZOFFSETTO:-0500
TZNAME:EST
DTSTART:20251102T060000
END:STANDARD
BEGIN:DAYLIGHT
TZOFFSETFROM:-0500
TZOFFSETTO:-0400
TZNAME:EDT
DTSTART:20260308T070000
END:DAYLIGHT
BEGIN:STANDARD
TZOFFSETFROM:-0400
TZOFFSETTO:-0500
TZNAME:EST
DTSTART:20261101T060000
END:STANDARD
END:VTIMEZONE
BEGIN:VEVENT
DTSTART;TZID=America/New_York:20250703T130000
DTEND;TZID=America/New_York:20250703T160000
DTSTAMP:20260424T080831
CREATED:20250627T155019Z
LAST-MODIFIED:20250627T155019Z
UID:10003599-1751547600-1751558400@mdfbasques.com
SUMMARY:Milieu de vie au Parc poisson
DESCRIPTION:Viens jouer avec nous au Parc poisson de Trois-Pistoles! \nNous avons hâte de vous voir!
URL:https://mdfbasques.com/evenement/milieu-de-vie-au-parc-poisson/2025-07-03/
LOCATION:Maison de la Famille des Basques\, 340\, rue Jean Rioux\, Trois-Pistoles\, Québec\, G0L 4K0\, Canada
CATEGORIES:Espace Famille
ATTACH;FMTTYPE=image/png:https://mdfbasques.com/wp-content/uploads/2025/06/Milieu-de-vie-Parc-poisson-891-×-747-px.png
END:VEVENT
BEGIN:VEVENT
DTSTART;TZID=America/New_York:20250717T130000
DTEND;TZID=America/New_York:20250717T160000
DTSTAMP:20260424T080831
CREATED:20250627T155019Z
LAST-MODIFIED:20250627T155019Z
UID:10003600-1752757200-1752768000@mdfbasques.com
SUMMARY:Milieu de vie au Parc poisson
DESCRIPTION:Viens jouer avec nous au Parc poisson de Trois-Pistoles! \nNous avons hâte de vous voir!
URL:https://mdfbasques.com/evenement/milieu-de-vie-au-parc-poisson/2025-07-17/
LOCATION:Maison de la Famille des Basques\, 340\, rue Jean Rioux\, Trois-Pistoles\, Québec\, G0L 4K0\, Canada
CATEGORIES:Espace Famille
ATTACH;FMTTYPE=image/png:https://mdfbasques.com/wp-content/uploads/2025/06/Milieu-de-vie-Parc-poisson-891-×-747-px.png
END:VEVENT
END:VCALENDAR