BEGIN:VCALENDAR
VERSION:2.0
PRODID:-//Maison de la Famille des Basques - ECPv6.15.16//NONSGML v1.0//EN
CALSCALE:GREGORIAN
METHOD:PUBLISH
X-WR-CALNAME:Maison de la Famille des Basques
X-ORIGINAL-URL:https://mdfbasques.com
X-WR-CALDESC:Évènements pour Maison de la Famille des Basques
REFRESH-INTERVAL;VALUE=DURATION:PT1H
X-Robots-Tag:noindex
X-PUBLISHED-TTL:PT1H
BEGIN:VTIMEZONE
TZID:America/New_York
BEGIN:DAYLIGHT
TZOFFSETFROM:-0500
TZOFFSETTO:-0400
TZNAME:EDT
DTSTART:20240310T070000
END:DAYLIGHT
BEGIN:STANDARD
TZOFFSETFROM:-0400
TZOFFSETTO:-0500
TZNAME:EST
DTSTART:20241103T060000
END:STANDARD
BEGIN:DAYLIGHT
TZOFFSETFROM:-0500
TZOFFSETTO:-0400
TZNAME:EDT
DTSTART:20250309T070000
END:DAYLIGHT
BEGIN:STANDARD
TZOFFSETFROM:-0400
TZOFFSETTO:-0500
TZNAME:EST
DTSTART:20251102T060000
END:STANDARD
BEGIN:DAYLIGHT
TZOFFSETFROM:-0500
TZOFFSETTO:-0400
TZNAME:EDT
DTSTART:20260308T070000
END:DAYLIGHT
BEGIN:STANDARD
TZOFFSETFROM:-0400
TZOFFSETTO:-0500
TZNAME:EST
DTSTART:20261101T060000
END:STANDARD
END:VTIMEZONE
BEGIN:VEVENT
DTSTART;TZID=America/New_York:20250604T090000
DTEND;TZID=America/New_York:20250604T120000
DTSTAMP:20260424T094857
CREATED:20241022T211421Z
LAST-MODIFIED:20250326T181624Z
UID:10003126-1749027600-1749038400@mdfbasques.com
SUMMARY:Espace famille
DESCRIPTION:Milieu de vie ouvert et salle de psychomotricité \nTu as le goût de sortir de la maison et d’aller à la rencontre de d’autres familles? Viens jouer librement dans la salle de jeux\, dans la salle de psychomotricité et le parc extérieur. \nPas besoin de réservation\, nous sommes là pour vous accueillir. \nGratuit pour les membres
URL:https://mdfbasques.com/evenement/espace-famille-10/2025-06-04/
LOCATION:Maison de la Famille des Basques\, 340\, rue Jean Rioux\, Trois-Pistoles\, Québec\, G0L 4K0\, Canada
CATEGORIES:Espace Famille
ATTACH;FMTTYPE=image/png:https://mdfbasques.com/wp-content/uploads/2024/10/Espace-famille-2024-1.png
END:VEVENT
BEGIN:VEVENT
DTSTART;TZID=America/New_York:20250606T090000
DTEND;TZID=America/New_York:20250606T120000
DTSTAMP:20260424T094857
CREATED:20241022T211820Z
LAST-MODIFIED:20250326T181910Z
UID:10003149-1749200400-1749211200@mdfbasques.com
SUMMARY:Espace famille
DESCRIPTION:Milieu de vie ouvert et salle de psychomotricité \nTu as le goût de sortir de la maison et aller à la rencontre de d’autres familles ?  Viens jouer librement dans la salle de jeux\, la salle de psychomotricité ou notre parc extérieur. \nPas besoin de réservation\, nous sommes là pour vous accueillir. \nGratuit pour les membres.
URL:https://mdfbasques.com/evenement/espace-famille-11/2025-06-06/
LOCATION:Maison de la Famille des Basques\, 340\, rue Jean Rioux\, Trois-Pistoles\, Québec\, G0L 4K0\, Canada
CATEGORIES:Espace Famille
ATTACH;FMTTYPE=image/png:https://mdfbasques.com/wp-content/uploads/2024/10/Espace-famille-2024-1.png
END:VEVENT
BEGIN:VEVENT
DTSTART;TZID=America/New_York:20250611T090000
DTEND;TZID=America/New_York:20250611T120000
DTSTAMP:20260424T094857
CREATED:20241022T211421Z
LAST-MODIFIED:20250326T181624Z
UID:10003127-1749632400-1749643200@mdfbasques.com
SUMMARY:Espace famille
DESCRIPTION:Milieu de vie ouvert et salle de psychomotricité \nTu as le goût de sortir de la maison et d’aller à la rencontre de d’autres familles? Viens jouer librement dans la salle de jeux\, dans la salle de psychomotricité et le parc extérieur. \nPas besoin de réservation\, nous sommes là pour vous accueillir. \nGratuit pour les membres
URL:https://mdfbasques.com/evenement/espace-famille-10/2025-06-11/
LOCATION:Maison de la Famille des Basques\, 340\, rue Jean Rioux\, Trois-Pistoles\, Québec\, G0L 4K0\, Canada
CATEGORIES:Espace Famille
ATTACH;FMTTYPE=image/png:https://mdfbasques.com/wp-content/uploads/2024/10/Espace-famille-2024-1.png
END:VEVENT
BEGIN:VEVENT
DTSTART;TZID=America/New_York:20250613T090000
DTEND;TZID=America/New_York:20250613T120000
DTSTAMP:20260424T094857
CREATED:20241022T211820Z
LAST-MODIFIED:20250326T181910Z
UID:10003150-1749805200-1749816000@mdfbasques.com
SUMMARY:Espace famille
DESCRIPTION:Milieu de vie ouvert et salle de psychomotricité \nTu as le goût de sortir de la maison et aller à la rencontre de d’autres familles ?  Viens jouer librement dans la salle de jeux\, la salle de psychomotricité ou notre parc extérieur. \nPas besoin de réservation\, nous sommes là pour vous accueillir. \nGratuit pour les membres.
URL:https://mdfbasques.com/evenement/espace-famille-11/2025-06-13/
LOCATION:Maison de la Famille des Basques\, 340\, rue Jean Rioux\, Trois-Pistoles\, Québec\, G0L 4K0\, Canada
CATEGORIES:Espace Famille
ATTACH;FMTTYPE=image/png:https://mdfbasques.com/wp-content/uploads/2024/10/Espace-famille-2024-1.png
END:VEVENT
END:VCALENDAR