BEGIN:VCALENDAR
VERSION:2.0
PRODID:-//Maison de la Famille des Basques - ECPv6.15.16//NONSGML v1.0//EN
CALSCALE:GREGORIAN
METHOD:PUBLISH
X-ORIGINAL-URL:https://mdfbasques.com
X-WR-CALDESC:Évènements pour Maison de la Famille des Basques
REFRESH-INTERVAL;VALUE=DURATION:PT1H
X-Robots-Tag:noindex
X-PUBLISHED-TTL:PT1H
BEGIN:VTIMEZONE
TZID:America/New_York
BEGIN:DAYLIGHT
TZOFFSETFROM:-0500
TZOFFSETTO:-0400
TZNAME:EDT
DTSTART:20230312T070000
END:DAYLIGHT
BEGIN:STANDARD
TZOFFSETFROM:-0400
TZOFFSETTO:-0500
TZNAME:EST
DTSTART:20231105T060000
END:STANDARD
BEGIN:DAYLIGHT
TZOFFSETFROM:-0500
TZOFFSETTO:-0400
TZNAME:EDT
DTSTART:20240310T070000
END:DAYLIGHT
BEGIN:STANDARD
TZOFFSETFROM:-0400
TZOFFSETTO:-0500
TZNAME:EST
DTSTART:20241103T060000
END:STANDARD
BEGIN:DAYLIGHT
TZOFFSETFROM:-0500
TZOFFSETTO:-0400
TZNAME:EDT
DTSTART:20250309T070000
END:DAYLIGHT
BEGIN:STANDARD
TZOFFSETFROM:-0400
TZOFFSETTO:-0500
TZNAME:EST
DTSTART:20251102T060000
END:STANDARD
END:VTIMEZONE
BEGIN:VEVENT
DTSTART;TZID=America/New_York:20240605T090000
DTEND;TZID=America/New_York:20240605T120000
DTSTAMP:20260425T080604
CREATED:20230810T012719Z
LAST-MODIFIED:20250326T175607Z
UID:10002282-1717578000-1717588800@mdfbasques.com
SUMMARY:Espace famille
DESCRIPTION:Milieu de vie ouvert et salle de psychomotricité \nTu as le goût de sortir de la maison et aller à la rencontre de d’autres famille. Viens jouer librement dans la salle de jeu\, la salle de psychomotricité ou notre parc extérieur dans nos locaux. Nous sommes ouvert du lundi au samedi de 9h00 à 12h00. \nPas besoin de réserver \, on est là pour vous accueillir. \nGratuit lorsqu’on est membre. \n \n 
URL:https://mdfbasques.com/evenement/espace-famille-6-2__trashed/2024-06-05/
LOCATION:Maison de la Famille des Basques\, 340\, rue Jean Rioux\, Trois-Pistoles\, Québec\, G0L 4K0\, Canada
CATEGORIES:Activités,Espace Famille
ATTACH;FMTTYPE=image/png:https://mdfbasques.com/wp-content/uploads/2023/08/Espace-famille-891-×-747-px-2.png
END:VEVENT
BEGIN:VEVENT
DTSTART;TZID=America/New_York:20240606T090000
DTEND;TZID=America/New_York:20240606T120000
DTSTAMP:20260425T080604
CREATED:20230810T012719Z
LAST-MODIFIED:20250326T175608Z
UID:10002355-1717664400-1717675200@mdfbasques.com
SUMMARY:Espace famille
DESCRIPTION:Milieu de vie ouvert et salle de psychomotricité \nTu as le goût de sortir de la maison et aller à la rencontre de d’autres famille. Viens jouer librement dans la salle de jeu\, la salle de psychomotricité ou notre parc extérieur dans nos locaux. Nous sommes ouvert du lundi au samedi de 9h00 à 12h00. \nPas besoin de réserver \, on est là pour vous accueillir. \nGratuit lorsqu’on est membre. \n \n 
URL:https://mdfbasques.com/evenement/espace-famille-6-3__trashed/2024-06-06/
LOCATION:Maison de la Famille des Basques\, 340\, rue Jean Rioux\, Trois-Pistoles\, Québec\, G0L 4K0\, Canada
CATEGORIES:Activités,Espace Famille
ATTACH;FMTTYPE=image/png:https://mdfbasques.com/wp-content/uploads/2023/08/Espace-famille-891-×-747-px-2.png
END:VEVENT
BEGIN:VEVENT
DTSTART;TZID=America/New_York:20240607T090000
DTEND;TZID=America/New_York:20240607T120000
DTSTAMP:20260425T080604
CREATED:20230810T012719Z
LAST-MODIFIED:20250326T175608Z
UID:10002376-1717750800-1717761600@mdfbasques.com
SUMMARY:Espace famille
DESCRIPTION:Milieu de vie ouvert et salle de psychomotricité \nTu as le goût de sortir de la maison et aller à la rencontre de d’autres famille. Viens jouer librement dans la salle de jeu\, la salle de psychomotricité ou notre parc extérieur dans nos locaux. Nous sommes ouvert du lundi au samedi de 9h00 à 12h00. \nPas besoin de réserver \, on est là pour vous accueillir. \nGratuit lorsqu’on est membre. \n \n 
URL:https://mdfbasques.com/evenement/espace-famille-6-4__trashed/2024-06-07/
LOCATION:Maison de la Famille des Basques\, 340\, rue Jean Rioux\, Trois-Pistoles\, Québec\, G0L 4K0\, Canada
CATEGORIES:Activités,Espace Famille
ATTACH;FMTTYPE=image/png:https://mdfbasques.com/wp-content/uploads/2023/08/Espace-famille-891-×-747-px-2.png
END:VEVENT
BEGIN:VEVENT
DTSTART;TZID=America/New_York:20240608T090000
DTEND;TZID=America/New_York:20240608T120000
DTSTAMP:20260425T080604
CREATED:20230810T012719Z
LAST-MODIFIED:20250326T175607Z
UID:10002398-1717837200-1717848000@mdfbasques.com
SUMMARY:Espace famille
DESCRIPTION:Milieu de vie ouvert et salle de psychomotricité \nTu as le goût de sortir de la maison et aller à la rencontre de d’autres famille. Viens jouer librement dans la salle de jeu\, la salle de psychomotricité ou notre parc extérieur dans nos locaux. Nous sommes ouvert du lundi au samedi de 9h00 à 12h00. \nPas besoin de réserver \, on est là pour vous accueillir. \nGratuit lorsqu’on est membre. \n \n 
URL:https://mdfbasques.com/evenement/espace-famille-6-5__trashed/2024-06-08/
LOCATION:Maison de la Famille des Basques\, 340\, rue Jean Rioux\, Trois-Pistoles\, Québec\, G0L 4K0\, Canada
CATEGORIES:Activités,Espace Famille
ATTACH;FMTTYPE=image/png:https://mdfbasques.com/wp-content/uploads/2023/08/Espace-famille-891-×-747-px-2.png
END:VEVENT
BEGIN:VEVENT
DTSTART;TZID=America/New_York:20240612T090000
DTEND;TZID=America/New_York:20240612T120000
DTSTAMP:20260425T080604
CREATED:20230810T012719Z
LAST-MODIFIED:20250326T175607Z
UID:10002283-1718182800-1718193600@mdfbasques.com
SUMMARY:Espace famille
DESCRIPTION:Milieu de vie ouvert et salle de psychomotricité \nTu as le goût de sortir de la maison et aller à la rencontre de d’autres famille. Viens jouer librement dans la salle de jeu\, la salle de psychomotricité ou notre parc extérieur dans nos locaux. Nous sommes ouvert du lundi au samedi de 9h00 à 12h00. \nPas besoin de réserver \, on est là pour vous accueillir. \nGratuit lorsqu’on est membre. \n \n 
URL:https://mdfbasques.com/evenement/espace-famille-6-2__trashed/2024-06-12/
LOCATION:Maison de la Famille des Basques\, 340\, rue Jean Rioux\, Trois-Pistoles\, Québec\, G0L 4K0\, Canada
CATEGORIES:Activités,Espace Famille
ATTACH;FMTTYPE=image/png:https://mdfbasques.com/wp-content/uploads/2023/08/Espace-famille-891-×-747-px-2.png
END:VEVENT
BEGIN:VEVENT
DTSTART;TZID=America/New_York:20240613T090000
DTEND;TZID=America/New_York:20240613T120000
DTSTAMP:20260425T080604
CREATED:20230810T012719Z
LAST-MODIFIED:20250326T175608Z
UID:10002356-1718269200-1718280000@mdfbasques.com
SUMMARY:Espace famille
DESCRIPTION:Milieu de vie ouvert et salle de psychomotricité \nTu as le goût de sortir de la maison et aller à la rencontre de d’autres famille. Viens jouer librement dans la salle de jeu\, la salle de psychomotricité ou notre parc extérieur dans nos locaux. Nous sommes ouvert du lundi au samedi de 9h00 à 12h00. \nPas besoin de réserver \, on est là pour vous accueillir. \nGratuit lorsqu’on est membre. \n \n 
URL:https://mdfbasques.com/evenement/espace-famille-6-3__trashed/2024-06-13/
LOCATION:Maison de la Famille des Basques\, 340\, rue Jean Rioux\, Trois-Pistoles\, Québec\, G0L 4K0\, Canada
CATEGORIES:Activités,Espace Famille
ATTACH;FMTTYPE=image/png:https://mdfbasques.com/wp-content/uploads/2023/08/Espace-famille-891-×-747-px-2.png
END:VEVENT
BEGIN:VEVENT
DTSTART;TZID=America/New_York:20240614T090000
DTEND;TZID=America/New_York:20240614T120000
DTSTAMP:20260425T080604
CREATED:20230810T012719Z
LAST-MODIFIED:20250326T175608Z
UID:10002377-1718355600-1718366400@mdfbasques.com
SUMMARY:Espace famille
DESCRIPTION:Milieu de vie ouvert et salle de psychomotricité \nTu as le goût de sortir de la maison et aller à la rencontre de d’autres famille. Viens jouer librement dans la salle de jeu\, la salle de psychomotricité ou notre parc extérieur dans nos locaux. Nous sommes ouvert du lundi au samedi de 9h00 à 12h00. \nPas besoin de réserver \, on est là pour vous accueillir. \nGratuit lorsqu’on est membre. \n \n 
URL:https://mdfbasques.com/evenement/espace-famille-6-4__trashed/2024-06-14/
LOCATION:Maison de la Famille des Basques\, 340\, rue Jean Rioux\, Trois-Pistoles\, Québec\, G0L 4K0\, Canada
CATEGORIES:Activités,Espace Famille
ATTACH;FMTTYPE=image/png:https://mdfbasques.com/wp-content/uploads/2023/08/Espace-famille-891-×-747-px-2.png
END:VEVENT
BEGIN:VEVENT
DTSTART;TZID=America/New_York:20240615T090000
DTEND;TZID=America/New_York:20240615T120000
DTSTAMP:20260425T080604
CREATED:20230810T012719Z
LAST-MODIFIED:20250326T175607Z
UID:10002399-1718442000-1718452800@mdfbasques.com
SUMMARY:Espace famille
DESCRIPTION:Milieu de vie ouvert et salle de psychomotricité \nTu as le goût de sortir de la maison et aller à la rencontre de d’autres famille. Viens jouer librement dans la salle de jeu\, la salle de psychomotricité ou notre parc extérieur dans nos locaux. Nous sommes ouvert du lundi au samedi de 9h00 à 12h00. \nPas besoin de réserver \, on est là pour vous accueillir. \nGratuit lorsqu’on est membre. \n \n 
URL:https://mdfbasques.com/evenement/espace-famille-6-5__trashed/2024-06-15/
LOCATION:Maison de la Famille des Basques\, 340\, rue Jean Rioux\, Trois-Pistoles\, Québec\, G0L 4K0\, Canada
CATEGORIES:Activités,Espace Famille
ATTACH;FMTTYPE=image/png:https://mdfbasques.com/wp-content/uploads/2023/08/Espace-famille-891-×-747-px-2.png
END:VEVENT
END:VCALENDAR