BEGIN:VCALENDAR
VERSION:2.0
PRODID:-//Maison de la Famille des Basques - ECPv6.15.16//NONSGML v1.0//EN
CALSCALE:GREGORIAN
METHOD:PUBLISH
X-WR-CALNAME:Maison de la Famille des Basques
X-ORIGINAL-URL:https://mdfbasques.com
X-WR-CALDESC:Évènements pour Maison de la Famille des Basques
REFRESH-INTERVAL;VALUE=DURATION:PT1H
X-Robots-Tag:noindex
X-PUBLISHED-TTL:PT1H
BEGIN:VTIMEZONE
TZID:America/New_York
BEGIN:DAYLIGHT
TZOFFSETFROM:-0500
TZOFFSETTO:-0400
TZNAME:EDT
DTSTART:20230312T070000
END:DAYLIGHT
BEGIN:STANDARD
TZOFFSETFROM:-0400
TZOFFSETTO:-0500
TZNAME:EST
DTSTART:20231105T060000
END:STANDARD
BEGIN:DAYLIGHT
TZOFFSETFROM:-0500
TZOFFSETTO:-0400
TZNAME:EDT
DTSTART:20240310T070000
END:DAYLIGHT
BEGIN:STANDARD
TZOFFSETFROM:-0400
TZOFFSETTO:-0500
TZNAME:EST
DTSTART:20241103T060000
END:STANDARD
BEGIN:DAYLIGHT
TZOFFSETFROM:-0500
TZOFFSETTO:-0400
TZNAME:EDT
DTSTART:20250309T070000
END:DAYLIGHT
BEGIN:STANDARD
TZOFFSETFROM:-0400
TZOFFSETTO:-0500
TZNAME:EST
DTSTART:20251102T060000
END:STANDARD
END:VTIMEZONE
BEGIN:VEVENT
DTSTART;TZID=America/New_York:20240201T090000
DTEND;TZID=America/New_York:20240201T120000
DTSTAMP:20260425T150231
CREATED:20230810T012719Z
LAST-MODIFIED:20250326T175608Z
UID:10002338-1706778000-1706788800@mdfbasques.com
SUMMARY:Espace famille
DESCRIPTION:Milieu de vie ouvert et salle de psychomotricité \nTu as le goût de sortir de la maison et aller à la rencontre de d’autres famille. Viens jouer librement dans la salle de jeu\, la salle de psychomotricité ou notre parc extérieur dans nos locaux. Nous sommes ouvert du lundi au samedi de 9h00 à 12h00. \nPas besoin de réserver \, on est là pour vous accueillir. \nGratuit lorsqu’on est membre. \n \n 
URL:https://mdfbasques.com/evenement/espace-famille-6-3__trashed/2024-02-01/
LOCATION:Maison de la Famille des Basques\, 340\, rue Jean Rioux\, Trois-Pistoles\, Québec\, G0L 4K0\, Canada
CATEGORIES:Activités,Espace Famille
ATTACH;FMTTYPE=image/png:https://mdfbasques.com/wp-content/uploads/2023/08/Espace-famille-891-×-747-px-2.png
END:VEVENT
BEGIN:VEVENT
DTSTART;TZID=America/New_York:20240202T090000
DTEND;TZID=America/New_York:20240202T120000
DTSTAMP:20260425T150231
CREATED:20230810T012719Z
LAST-MODIFIED:20250326T175608Z
UID:10002359-1706864400-1706875200@mdfbasques.com
SUMMARY:Espace famille
DESCRIPTION:Milieu de vie ouvert et salle de psychomotricité \nTu as le goût de sortir de la maison et aller à la rencontre de d’autres famille. Viens jouer librement dans la salle de jeu\, la salle de psychomotricité ou notre parc extérieur dans nos locaux. Nous sommes ouvert du lundi au samedi de 9h00 à 12h00. \nPas besoin de réserver \, on est là pour vous accueillir. \nGratuit lorsqu’on est membre. \n \n 
URL:https://mdfbasques.com/evenement/espace-famille-6-4__trashed/2024-02-02/
LOCATION:Maison de la Famille des Basques\, 340\, rue Jean Rioux\, Trois-Pistoles\, Québec\, G0L 4K0\, Canada
CATEGORIES:Activités,Espace Famille
ATTACH;FMTTYPE=image/png:https://mdfbasques.com/wp-content/uploads/2023/08/Espace-famille-891-×-747-px-2.png
END:VEVENT
BEGIN:VEVENT
DTSTART;TZID=America/New_York:20240203T090000
DTEND;TZID=America/New_York:20240203T120000
DTSTAMP:20260425T150231
CREATED:20230810T012719Z
LAST-MODIFIED:20250326T175607Z
UID:10002380-1706950800-1706961600@mdfbasques.com
SUMMARY:Espace famille
DESCRIPTION:Milieu de vie ouvert et salle de psychomotricité \nTu as le goût de sortir de la maison et aller à la rencontre de d’autres famille. Viens jouer librement dans la salle de jeu\, la salle de psychomotricité ou notre parc extérieur dans nos locaux. Nous sommes ouvert du lundi au samedi de 9h00 à 12h00. \nPas besoin de réserver \, on est là pour vous accueillir. \nGratuit lorsqu’on est membre. \n \n 
URL:https://mdfbasques.com/evenement/espace-famille-6-5__trashed/2024-02-03/
LOCATION:Maison de la Famille des Basques\, 340\, rue Jean Rioux\, Trois-Pistoles\, Québec\, G0L 4K0\, Canada
CATEGORIES:Activités,Espace Famille
ATTACH;FMTTYPE=image/png:https://mdfbasques.com/wp-content/uploads/2023/08/Espace-famille-891-×-747-px-2.png
END:VEVENT
BEGIN:VEVENT
DTSTART;TZID=America/New_York:20240207T090000
DTEND;TZID=America/New_York:20240207T120000
DTSTAMP:20260425T150231
CREATED:20230810T012719Z
LAST-MODIFIED:20250326T175607Z
UID:10002266-1707296400-1707307200@mdfbasques.com
SUMMARY:Espace famille
DESCRIPTION:Milieu de vie ouvert et salle de psychomotricité \nTu as le goût de sortir de la maison et aller à la rencontre de d’autres famille. Viens jouer librement dans la salle de jeu\, la salle de psychomotricité ou notre parc extérieur dans nos locaux. Nous sommes ouvert du lundi au samedi de 9h00 à 12h00. \nPas besoin de réserver \, on est là pour vous accueillir. \nGratuit lorsqu’on est membre. \n \n 
URL:https://mdfbasques.com/evenement/espace-famille-6-2__trashed/2024-02-07/
LOCATION:Maison de la Famille des Basques\, 340\, rue Jean Rioux\, Trois-Pistoles\, Québec\, G0L 4K0\, Canada
CATEGORIES:Activités,Espace Famille
ATTACH;FMTTYPE=image/png:https://mdfbasques.com/wp-content/uploads/2023/08/Espace-famille-891-×-747-px-2.png
END:VEVENT
BEGIN:VEVENT
DTSTART;TZID=America/New_York:20240208T090000
DTEND;TZID=America/New_York:20240208T120000
DTSTAMP:20260425T150231
CREATED:20230810T012719Z
LAST-MODIFIED:20250326T175608Z
UID:10002339-1707382800-1707393600@mdfbasques.com
SUMMARY:Espace famille
DESCRIPTION:Milieu de vie ouvert et salle de psychomotricité \nTu as le goût de sortir de la maison et aller à la rencontre de d’autres famille. Viens jouer librement dans la salle de jeu\, la salle de psychomotricité ou notre parc extérieur dans nos locaux. Nous sommes ouvert du lundi au samedi de 9h00 à 12h00. \nPas besoin de réserver \, on est là pour vous accueillir. \nGratuit lorsqu’on est membre. \n \n 
URL:https://mdfbasques.com/evenement/espace-famille-6-3__trashed/2024-02-08/
LOCATION:Maison de la Famille des Basques\, 340\, rue Jean Rioux\, Trois-Pistoles\, Québec\, G0L 4K0\, Canada
CATEGORIES:Activités,Espace Famille
ATTACH;FMTTYPE=image/png:https://mdfbasques.com/wp-content/uploads/2023/08/Espace-famille-891-×-747-px-2.png
END:VEVENT
BEGIN:VEVENT
DTSTART;TZID=America/New_York:20240209T090000
DTEND;TZID=America/New_York:20240209T120000
DTSTAMP:20260425T150231
CREATED:20230810T012719Z
LAST-MODIFIED:20250326T175608Z
UID:10002360-1707469200-1707480000@mdfbasques.com
SUMMARY:Espace famille
DESCRIPTION:Milieu de vie ouvert et salle de psychomotricité \nTu as le goût de sortir de la maison et aller à la rencontre de d’autres famille. Viens jouer librement dans la salle de jeu\, la salle de psychomotricité ou notre parc extérieur dans nos locaux. Nous sommes ouvert du lundi au samedi de 9h00 à 12h00. \nPas besoin de réserver \, on est là pour vous accueillir. \nGratuit lorsqu’on est membre. \n \n 
URL:https://mdfbasques.com/evenement/espace-famille-6-4__trashed/2024-02-09/
LOCATION:Maison de la Famille des Basques\, 340\, rue Jean Rioux\, Trois-Pistoles\, Québec\, G0L 4K0\, Canada
CATEGORIES:Activités,Espace Famille
ATTACH;FMTTYPE=image/png:https://mdfbasques.com/wp-content/uploads/2023/08/Espace-famille-891-×-747-px-2.png
END:VEVENT
BEGIN:VEVENT
DTSTART;TZID=America/New_York:20240210T090000
DTEND;TZID=America/New_York:20240210T120000
DTSTAMP:20260425T150231
CREATED:20230810T012719Z
LAST-MODIFIED:20250326T175607Z
UID:10002381-1707555600-1707566400@mdfbasques.com
SUMMARY:Espace famille
DESCRIPTION:Milieu de vie ouvert et salle de psychomotricité \nTu as le goût de sortir de la maison et aller à la rencontre de d’autres famille. Viens jouer librement dans la salle de jeu\, la salle de psychomotricité ou notre parc extérieur dans nos locaux. Nous sommes ouvert du lundi au samedi de 9h00 à 12h00. \nPas besoin de réserver \, on est là pour vous accueillir. \nGratuit lorsqu’on est membre. \n \n 
URL:https://mdfbasques.com/evenement/espace-famille-6-5__trashed/2024-02-10/
LOCATION:Maison de la Famille des Basques\, 340\, rue Jean Rioux\, Trois-Pistoles\, Québec\, G0L 4K0\, Canada
CATEGORIES:Activités,Espace Famille
ATTACH;FMTTYPE=image/png:https://mdfbasques.com/wp-content/uploads/2023/08/Espace-famille-891-×-747-px-2.png
END:VEVENT
BEGIN:VEVENT
DTSTART;TZID=America/New_York:20240214T090000
DTEND;TZID=America/New_York:20240214T120000
DTSTAMP:20260425T150231
CREATED:20230810T012719Z
LAST-MODIFIED:20250326T175607Z
UID:10002267-1707901200-1707912000@mdfbasques.com
SUMMARY:Espace famille
DESCRIPTION:Milieu de vie ouvert et salle de psychomotricité \nTu as le goût de sortir de la maison et aller à la rencontre de d’autres famille. Viens jouer librement dans la salle de jeu\, la salle de psychomotricité ou notre parc extérieur dans nos locaux. Nous sommes ouvert du lundi au samedi de 9h00 à 12h00. \nPas besoin de réserver \, on est là pour vous accueillir. \nGratuit lorsqu’on est membre. \n \n 
URL:https://mdfbasques.com/evenement/espace-famille-6-2__trashed/2024-02-14/
LOCATION:Maison de la Famille des Basques\, 340\, rue Jean Rioux\, Trois-Pistoles\, Québec\, G0L 4K0\, Canada
CATEGORIES:Activités,Espace Famille
ATTACH;FMTTYPE=image/png:https://mdfbasques.com/wp-content/uploads/2023/08/Espace-famille-891-×-747-px-2.png
END:VEVENT
BEGIN:VEVENT
DTSTART;TZID=America/New_York:20240215T090000
DTEND;TZID=America/New_York:20240215T120000
DTSTAMP:20260425T150231
CREATED:20230810T012719Z
LAST-MODIFIED:20250326T175608Z
UID:10002340-1707987600-1707998400@mdfbasques.com
SUMMARY:Espace famille
DESCRIPTION:Milieu de vie ouvert et salle de psychomotricité \nTu as le goût de sortir de la maison et aller à la rencontre de d’autres famille. Viens jouer librement dans la salle de jeu\, la salle de psychomotricité ou notre parc extérieur dans nos locaux. Nous sommes ouvert du lundi au samedi de 9h00 à 12h00. \nPas besoin de réserver \, on est là pour vous accueillir. \nGratuit lorsqu’on est membre. \n \n 
URL:https://mdfbasques.com/evenement/espace-famille-6-3__trashed/2024-02-15/
LOCATION:Maison de la Famille des Basques\, 340\, rue Jean Rioux\, Trois-Pistoles\, Québec\, G0L 4K0\, Canada
CATEGORIES:Activités,Espace Famille
ATTACH;FMTTYPE=image/png:https://mdfbasques.com/wp-content/uploads/2023/08/Espace-famille-891-×-747-px-2.png
END:VEVENT
BEGIN:VEVENT
DTSTART;TZID=America/New_York:20240216T090000
DTEND;TZID=America/New_York:20240216T120000
DTSTAMP:20260425T150231
CREATED:20230810T012719Z
LAST-MODIFIED:20250326T175608Z
UID:10002361-1708074000-1708084800@mdfbasques.com
SUMMARY:Espace famille
DESCRIPTION:Milieu de vie ouvert et salle de psychomotricité \nTu as le goût de sortir de la maison et aller à la rencontre de d’autres famille. Viens jouer librement dans la salle de jeu\, la salle de psychomotricité ou notre parc extérieur dans nos locaux. Nous sommes ouvert du lundi au samedi de 9h00 à 12h00. \nPas besoin de réserver \, on est là pour vous accueillir. \nGratuit lorsqu’on est membre. \n \n 
URL:https://mdfbasques.com/evenement/espace-famille-6-4__trashed/2024-02-16/
LOCATION:Maison de la Famille des Basques\, 340\, rue Jean Rioux\, Trois-Pistoles\, Québec\, G0L 4K0\, Canada
CATEGORIES:Activités,Espace Famille
ATTACH;FMTTYPE=image/png:https://mdfbasques.com/wp-content/uploads/2023/08/Espace-famille-891-×-747-px-2.png
END:VEVENT
BEGIN:VEVENT
DTSTART;TZID=America/New_York:20240217T090000
DTEND;TZID=America/New_York:20240217T120000
DTSTAMP:20260425T150231
CREATED:20230810T012719Z
LAST-MODIFIED:20250326T175607Z
UID:10002382-1708160400-1708171200@mdfbasques.com
SUMMARY:Espace famille
DESCRIPTION:Milieu de vie ouvert et salle de psychomotricité \nTu as le goût de sortir de la maison et aller à la rencontre de d’autres famille. Viens jouer librement dans la salle de jeu\, la salle de psychomotricité ou notre parc extérieur dans nos locaux. Nous sommes ouvert du lundi au samedi de 9h00 à 12h00. \nPas besoin de réserver \, on est là pour vous accueillir. \nGratuit lorsqu’on est membre. \n \n 
URL:https://mdfbasques.com/evenement/espace-famille-6-5__trashed/2024-02-17/
LOCATION:Maison de la Famille des Basques\, 340\, rue Jean Rioux\, Trois-Pistoles\, Québec\, G0L 4K0\, Canada
CATEGORIES:Activités,Espace Famille
ATTACH;FMTTYPE=image/png:https://mdfbasques.com/wp-content/uploads/2023/08/Espace-famille-891-×-747-px-2.png
END:VEVENT
BEGIN:VEVENT
DTSTART;TZID=America/New_York:20240221T090000
DTEND;TZID=America/New_York:20240221T120000
DTSTAMP:20260425T150231
CREATED:20230810T012719Z
LAST-MODIFIED:20250326T175607Z
UID:10002268-1708506000-1708516800@mdfbasques.com
SUMMARY:Espace famille
DESCRIPTION:Milieu de vie ouvert et salle de psychomotricité \nTu as le goût de sortir de la maison et aller à la rencontre de d’autres famille. Viens jouer librement dans la salle de jeu\, la salle de psychomotricité ou notre parc extérieur dans nos locaux. Nous sommes ouvert du lundi au samedi de 9h00 à 12h00. \nPas besoin de réserver \, on est là pour vous accueillir. \nGratuit lorsqu’on est membre. \n \n 
URL:https://mdfbasques.com/evenement/espace-famille-6-2__trashed/2024-02-21/
LOCATION:Maison de la Famille des Basques\, 340\, rue Jean Rioux\, Trois-Pistoles\, Québec\, G0L 4K0\, Canada
CATEGORIES:Activités,Espace Famille
ATTACH;FMTTYPE=image/png:https://mdfbasques.com/wp-content/uploads/2023/08/Espace-famille-891-×-747-px-2.png
END:VEVENT
BEGIN:VEVENT
DTSTART;TZID=America/New_York:20240222T090000
DTEND;TZID=America/New_York:20240222T120000
DTSTAMP:20260425T150231
CREATED:20230810T012719Z
LAST-MODIFIED:20250326T175608Z
UID:10002341-1708592400-1708603200@mdfbasques.com
SUMMARY:Espace famille
DESCRIPTION:Milieu de vie ouvert et salle de psychomotricité \nTu as le goût de sortir de la maison et aller à la rencontre de d’autres famille. Viens jouer librement dans la salle de jeu\, la salle de psychomotricité ou notre parc extérieur dans nos locaux. Nous sommes ouvert du lundi au samedi de 9h00 à 12h00. \nPas besoin de réserver \, on est là pour vous accueillir. \nGratuit lorsqu’on est membre. \n \n 
URL:https://mdfbasques.com/evenement/espace-famille-6-3__trashed/2024-02-22/
LOCATION:Maison de la Famille des Basques\, 340\, rue Jean Rioux\, Trois-Pistoles\, Québec\, G0L 4K0\, Canada
CATEGORIES:Activités,Espace Famille
ATTACH;FMTTYPE=image/png:https://mdfbasques.com/wp-content/uploads/2023/08/Espace-famille-891-×-747-px-2.png
END:VEVENT
BEGIN:VEVENT
DTSTART;TZID=America/New_York:20240223T090000
DTEND;TZID=America/New_York:20240223T120000
DTSTAMP:20260425T150231
CREATED:20230810T012719Z
LAST-MODIFIED:20250326T175608Z
UID:10002362-1708678800-1708689600@mdfbasques.com
SUMMARY:Espace famille
DESCRIPTION:Milieu de vie ouvert et salle de psychomotricité \nTu as le goût de sortir de la maison et aller à la rencontre de d’autres famille. Viens jouer librement dans la salle de jeu\, la salle de psychomotricité ou notre parc extérieur dans nos locaux. Nous sommes ouvert du lundi au samedi de 9h00 à 12h00. \nPas besoin de réserver \, on est là pour vous accueillir. \nGratuit lorsqu’on est membre. \n \n 
URL:https://mdfbasques.com/evenement/espace-famille-6-4__trashed/2024-02-23/
LOCATION:Maison de la Famille des Basques\, 340\, rue Jean Rioux\, Trois-Pistoles\, Québec\, G0L 4K0\, Canada
CATEGORIES:Activités,Espace Famille
ATTACH;FMTTYPE=image/png:https://mdfbasques.com/wp-content/uploads/2023/08/Espace-famille-891-×-747-px-2.png
END:VEVENT
BEGIN:VEVENT
DTSTART;TZID=America/New_York:20240224T090000
DTEND;TZID=America/New_York:20240224T120000
DTSTAMP:20260425T150231
CREATED:20230810T012719Z
LAST-MODIFIED:20250326T175607Z
UID:10002383-1708765200-1708776000@mdfbasques.com
SUMMARY:Espace famille
DESCRIPTION:Milieu de vie ouvert et salle de psychomotricité \nTu as le goût de sortir de la maison et aller à la rencontre de d’autres famille. Viens jouer librement dans la salle de jeu\, la salle de psychomotricité ou notre parc extérieur dans nos locaux. Nous sommes ouvert du lundi au samedi de 9h00 à 12h00. \nPas besoin de réserver \, on est là pour vous accueillir. \nGratuit lorsqu’on est membre. \n \n 
URL:https://mdfbasques.com/evenement/espace-famille-6-5__trashed/2024-02-24/
LOCATION:Maison de la Famille des Basques\, 340\, rue Jean Rioux\, Trois-Pistoles\, Québec\, G0L 4K0\, Canada
CATEGORIES:Activités,Espace Famille
ATTACH;FMTTYPE=image/png:https://mdfbasques.com/wp-content/uploads/2023/08/Espace-famille-891-×-747-px-2.png
END:VEVENT
BEGIN:VEVENT
DTSTART;TZID=America/New_York:20240228T090000
DTEND;TZID=America/New_York:20240228T120000
DTSTAMP:20260425T150231
CREATED:20230810T012719Z
LAST-MODIFIED:20250326T175607Z
UID:10002269-1709110800-1709121600@mdfbasques.com
SUMMARY:Espace famille
DESCRIPTION:Milieu de vie ouvert et salle de psychomotricité \nTu as le goût de sortir de la maison et aller à la rencontre de d’autres famille. Viens jouer librement dans la salle de jeu\, la salle de psychomotricité ou notre parc extérieur dans nos locaux. Nous sommes ouvert du lundi au samedi de 9h00 à 12h00. \nPas besoin de réserver \, on est là pour vous accueillir. \nGratuit lorsqu’on est membre. \n \n 
URL:https://mdfbasques.com/evenement/espace-famille-6-2__trashed/2024-02-28/
LOCATION:Maison de la Famille des Basques\, 340\, rue Jean Rioux\, Trois-Pistoles\, Québec\, G0L 4K0\, Canada
CATEGORIES:Activités,Espace Famille
ATTACH;FMTTYPE=image/png:https://mdfbasques.com/wp-content/uploads/2023/08/Espace-famille-891-×-747-px-2.png
END:VEVENT
BEGIN:VEVENT
DTSTART;TZID=America/New_York:20240229T090000
DTEND;TZID=America/New_York:20240229T120000
DTSTAMP:20260425T150231
CREATED:20230810T012719Z
LAST-MODIFIED:20250326T175608Z
UID:10002342-1709197200-1709208000@mdfbasques.com
SUMMARY:Espace famille
DESCRIPTION:Milieu de vie ouvert et salle de psychomotricité \nTu as le goût de sortir de la maison et aller à la rencontre de d’autres famille. Viens jouer librement dans la salle de jeu\, la salle de psychomotricité ou notre parc extérieur dans nos locaux. Nous sommes ouvert du lundi au samedi de 9h00 à 12h00. \nPas besoin de réserver \, on est là pour vous accueillir. \nGratuit lorsqu’on est membre. \n \n 
URL:https://mdfbasques.com/evenement/espace-famille-6-3__trashed/2024-02-29/
LOCATION:Maison de la Famille des Basques\, 340\, rue Jean Rioux\, Trois-Pistoles\, Québec\, G0L 4K0\, Canada
CATEGORIES:Activités,Espace Famille
ATTACH;FMTTYPE=image/png:https://mdfbasques.com/wp-content/uploads/2023/08/Espace-famille-891-×-747-px-2.png
END:VEVENT
END:VCALENDAR