BEGIN:VCALENDAR
VERSION:2.0
PRODID:-//Maison de la Famille des Basques - ECPv6.15.16//NONSGML v1.0//EN
CALSCALE:GREGORIAN
METHOD:PUBLISH
X-ORIGINAL-URL:https://mdfbasques.com
X-WR-CALDESC:Évènements pour Maison de la Famille des Basques
REFRESH-INTERVAL;VALUE=DURATION:PT1H
X-Robots-Tag:noindex
X-PUBLISHED-TTL:PT1H
BEGIN:VTIMEZONE
TZID:America/New_York
BEGIN:DAYLIGHT
TZOFFSETFROM:-0500
TZOFFSETTO:-0400
TZNAME:EDT
DTSTART:20230312T070000
END:DAYLIGHT
BEGIN:STANDARD
TZOFFSETFROM:-0400
TZOFFSETTO:-0500
TZNAME:EST
DTSTART:20231105T060000
END:STANDARD
BEGIN:DAYLIGHT
TZOFFSETFROM:-0500
TZOFFSETTO:-0400
TZNAME:EDT
DTSTART:20240310T070000
END:DAYLIGHT
BEGIN:STANDARD
TZOFFSETFROM:-0400
TZOFFSETTO:-0500
TZNAME:EST
DTSTART:20241103T060000
END:STANDARD
BEGIN:DAYLIGHT
TZOFFSETFROM:-0500
TZOFFSETTO:-0400
TZNAME:EDT
DTSTART:20250309T070000
END:DAYLIGHT
BEGIN:STANDARD
TZOFFSETFROM:-0400
TZOFFSETTO:-0500
TZNAME:EST
DTSTART:20251102T060000
END:STANDARD
END:VTIMEZONE
BEGIN:VEVENT
DTSTART;TZID=America/New_York:20240106T090000
DTEND;TZID=America/New_York:20240106T120000
DTSTAMP:20260425T165322
CREATED:20230810T012719Z
LAST-MODIFIED:20250326T175607Z
UID:10002463-1704531600-1704542400@mdfbasques.com
SUMMARY:Espace famille
DESCRIPTION:Milieu de vie ouvert et salle de psychomotricité \nTu as le goût de sortir de la maison et aller à la rencontre de d’autres famille. Viens jouer librement dans la salle de jeu\, la salle de psychomotricité ou notre parc extérieur dans nos locaux. Nous sommes ouvert du lundi au samedi de 9h00 à 12h00. \nPas besoin de réserver \, on est là pour vous accueillir. \nGratuit lorsqu’on est membre. \n \n 
URL:https://mdfbasques.com/evenement/espace-famille-6-5__trashed/2024-01-06/
LOCATION:Maison de la Famille des Basques\, 340\, rue Jean Rioux\, Trois-Pistoles\, Québec\, G0L 4K0\, Canada
CATEGORIES:Activités,Espace Famille
ATTACH;FMTTYPE=image/png:https://mdfbasques.com/wp-content/uploads/2023/08/Espace-famille-891-×-747-px-2.png
END:VEVENT
BEGIN:VEVENT
DTSTART;TZID=America/New_York:20240110T090000
DTEND;TZID=America/New_York:20240110T120000
DTSTAMP:20260425T165322
CREATED:20230810T012719Z
LAST-MODIFIED:20250326T175607Z
UID:10002191-1704877200-1704888000@mdfbasques.com
SUMMARY:Espace famille
DESCRIPTION:Milieu de vie ouvert et salle de psychomotricité \nTu as le goût de sortir de la maison et aller à la rencontre de d’autres famille. Viens jouer librement dans la salle de jeu\, la salle de psychomotricité ou notre parc extérieur dans nos locaux. Nous sommes ouvert du lundi au samedi de 9h00 à 12h00. \nPas besoin de réserver \, on est là pour vous accueillir. \nGratuit lorsqu’on est membre. \n \n 
URL:https://mdfbasques.com/evenement/espace-famille-6-2__trashed/2024-01-10/
LOCATION:Maison de la Famille des Basques\, 340\, rue Jean Rioux\, Trois-Pistoles\, Québec\, G0L 4K0\, Canada
CATEGORIES:Activités,Espace Famille
ATTACH;FMTTYPE=image/png:https://mdfbasques.com/wp-content/uploads/2023/08/Espace-famille-891-×-747-px-2.png
END:VEVENT
BEGIN:VEVENT
DTSTART;TZID=America/New_York:20240111T090000
DTEND;TZID=America/New_York:20240111T120000
DTSTAMP:20260425T165322
CREATED:20230810T012719Z
LAST-MODIFIED:20250326T175608Z
UID:10002204-1704963600-1704974400@mdfbasques.com
SUMMARY:Espace famille
DESCRIPTION:Milieu de vie ouvert et salle de psychomotricité \nTu as le goût de sortir de la maison et aller à la rencontre de d’autres famille. Viens jouer librement dans la salle de jeu\, la salle de psychomotricité ou notre parc extérieur dans nos locaux. Nous sommes ouvert du lundi au samedi de 9h00 à 12h00. \nPas besoin de réserver \, on est là pour vous accueillir. \nGratuit lorsqu’on est membre. \n \n 
URL:https://mdfbasques.com/evenement/espace-famille-6-3__trashed/2024-01-11/
LOCATION:Maison de la Famille des Basques\, 340\, rue Jean Rioux\, Trois-Pistoles\, Québec\, G0L 4K0\, Canada
CATEGORIES:Activités,Espace Famille
ATTACH;FMTTYPE=image/png:https://mdfbasques.com/wp-content/uploads/2023/08/Espace-famille-891-×-747-px-2.png
END:VEVENT
BEGIN:VEVENT
DTSTART;TZID=America/New_York:20240112T090000
DTEND;TZID=America/New_York:20240112T120000
DTSTAMP:20260425T165322
CREATED:20230810T012719Z
LAST-MODIFIED:20250326T175608Z
UID:10002232-1705050000-1705060800@mdfbasques.com
SUMMARY:Espace famille
DESCRIPTION:Milieu de vie ouvert et salle de psychomotricité \nTu as le goût de sortir de la maison et aller à la rencontre de d’autres famille. Viens jouer librement dans la salle de jeu\, la salle de psychomotricité ou notre parc extérieur dans nos locaux. Nous sommes ouvert du lundi au samedi de 9h00 à 12h00. \nPas besoin de réserver \, on est là pour vous accueillir. \nGratuit lorsqu’on est membre. \n \n 
URL:https://mdfbasques.com/evenement/espace-famille-6-4__trashed/2024-01-12/
LOCATION:Maison de la Famille des Basques\, 340\, rue Jean Rioux\, Trois-Pistoles\, Québec\, G0L 4K0\, Canada
CATEGORIES:Activités,Espace Famille
ATTACH;FMTTYPE=image/png:https://mdfbasques.com/wp-content/uploads/2023/08/Espace-famille-891-×-747-px-2.png
END:VEVENT
BEGIN:VEVENT
DTSTART;TZID=America/New_York:20240113T090000
DTEND;TZID=America/New_York:20240113T120000
DTSTAMP:20260425T165322
CREATED:20230810T012719Z
LAST-MODIFIED:20250326T175607Z
UID:10002259-1705136400-1705147200@mdfbasques.com
SUMMARY:Espace famille
DESCRIPTION:Milieu de vie ouvert et salle de psychomotricité \nTu as le goût de sortir de la maison et aller à la rencontre de d’autres famille. Viens jouer librement dans la salle de jeu\, la salle de psychomotricité ou notre parc extérieur dans nos locaux. Nous sommes ouvert du lundi au samedi de 9h00 à 12h00. \nPas besoin de réserver \, on est là pour vous accueillir. \nGratuit lorsqu’on est membre. \n \n 
URL:https://mdfbasques.com/evenement/espace-famille-6-5__trashed/2024-01-13/
LOCATION:Maison de la Famille des Basques\, 340\, rue Jean Rioux\, Trois-Pistoles\, Québec\, G0L 4K0\, Canada
CATEGORIES:Activités,Espace Famille
ATTACH;FMTTYPE=image/png:https://mdfbasques.com/wp-content/uploads/2023/08/Espace-famille-891-×-747-px-2.png
END:VEVENT
BEGIN:VEVENT
DTSTART;TZID=America/New_York:20240117T090000
DTEND;TZID=America/New_York:20240117T120000
DTSTAMP:20260425T165322
CREATED:20230810T012719Z
LAST-MODIFIED:20250326T175607Z
UID:10002263-1705482000-1705492800@mdfbasques.com
SUMMARY:Espace famille
DESCRIPTION:Milieu de vie ouvert et salle de psychomotricité \nTu as le goût de sortir de la maison et aller à la rencontre de d’autres famille. Viens jouer librement dans la salle de jeu\, la salle de psychomotricité ou notre parc extérieur dans nos locaux. Nous sommes ouvert du lundi au samedi de 9h00 à 12h00. \nPas besoin de réserver \, on est là pour vous accueillir. \nGratuit lorsqu’on est membre. \n \n 
URL:https://mdfbasques.com/evenement/espace-famille-6-2__trashed/2024-01-17/
LOCATION:Maison de la Famille des Basques\, 340\, rue Jean Rioux\, Trois-Pistoles\, Québec\, G0L 4K0\, Canada
CATEGORIES:Activités,Espace Famille
ATTACH;FMTTYPE=image/png:https://mdfbasques.com/wp-content/uploads/2023/08/Espace-famille-891-×-747-px-2.png
END:VEVENT
BEGIN:VEVENT
DTSTART;TZID=America/New_York:20240118T090000
DTEND;TZID=America/New_York:20240118T120000
DTSTAMP:20260425T165322
CREATED:20230810T012719Z
LAST-MODIFIED:20250326T175608Z
UID:10002336-1705568400-1705579200@mdfbasques.com
SUMMARY:Espace famille
DESCRIPTION:Milieu de vie ouvert et salle de psychomotricité \nTu as le goût de sortir de la maison et aller à la rencontre de d’autres famille. Viens jouer librement dans la salle de jeu\, la salle de psychomotricité ou notre parc extérieur dans nos locaux. Nous sommes ouvert du lundi au samedi de 9h00 à 12h00. \nPas besoin de réserver \, on est là pour vous accueillir. \nGratuit lorsqu’on est membre. \n \n 
URL:https://mdfbasques.com/evenement/espace-famille-6-3__trashed/2024-01-18/
LOCATION:Maison de la Famille des Basques\, 340\, rue Jean Rioux\, Trois-Pistoles\, Québec\, G0L 4K0\, Canada
CATEGORIES:Activités,Espace Famille
ATTACH;FMTTYPE=image/png:https://mdfbasques.com/wp-content/uploads/2023/08/Espace-famille-891-×-747-px-2.png
END:VEVENT
BEGIN:VEVENT
DTSTART;TZID=America/New_York:20240119T090000
DTEND;TZID=America/New_York:20240119T120000
DTSTAMP:20260425T165322
CREATED:20230810T012719Z
LAST-MODIFIED:20250326T175608Z
UID:10002357-1705654800-1705665600@mdfbasques.com
SUMMARY:Espace famille
DESCRIPTION:Milieu de vie ouvert et salle de psychomotricité \nTu as le goût de sortir de la maison et aller à la rencontre de d’autres famille. Viens jouer librement dans la salle de jeu\, la salle de psychomotricité ou notre parc extérieur dans nos locaux. Nous sommes ouvert du lundi au samedi de 9h00 à 12h00. \nPas besoin de réserver \, on est là pour vous accueillir. \nGratuit lorsqu’on est membre. \n \n 
URL:https://mdfbasques.com/evenement/espace-famille-6-4__trashed/2024-01-19/
LOCATION:Maison de la Famille des Basques\, 340\, rue Jean Rioux\, Trois-Pistoles\, Québec\, G0L 4K0\, Canada
CATEGORIES:Activités,Espace Famille
ATTACH;FMTTYPE=image/png:https://mdfbasques.com/wp-content/uploads/2023/08/Espace-famille-891-×-747-px-2.png
END:VEVENT
BEGIN:VEVENT
DTSTART;TZID=America/New_York:20240120T090000
DTEND;TZID=America/New_York:20240120T120000
DTSTAMP:20260425T165322
CREATED:20230810T012719Z
LAST-MODIFIED:20250326T175607Z
UID:10002378-1705741200-1705752000@mdfbasques.com
SUMMARY:Espace famille
DESCRIPTION:Milieu de vie ouvert et salle de psychomotricité \nTu as le goût de sortir de la maison et aller à la rencontre de d’autres famille. Viens jouer librement dans la salle de jeu\, la salle de psychomotricité ou notre parc extérieur dans nos locaux. Nous sommes ouvert du lundi au samedi de 9h00 à 12h00. \nPas besoin de réserver \, on est là pour vous accueillir. \nGratuit lorsqu’on est membre. \n \n 
URL:https://mdfbasques.com/evenement/espace-famille-6-5__trashed/2024-01-20/
LOCATION:Maison de la Famille des Basques\, 340\, rue Jean Rioux\, Trois-Pistoles\, Québec\, G0L 4K0\, Canada
CATEGORIES:Activités,Espace Famille
ATTACH;FMTTYPE=image/png:https://mdfbasques.com/wp-content/uploads/2023/08/Espace-famille-891-×-747-px-2.png
END:VEVENT
BEGIN:VEVENT
DTSTART;TZID=America/New_York:20240124T090000
DTEND;TZID=America/New_York:20240124T120000
DTSTAMP:20260425T165322
CREATED:20230810T012719Z
LAST-MODIFIED:20250326T175607Z
UID:10002264-1706086800-1706097600@mdfbasques.com
SUMMARY:Espace famille
DESCRIPTION:Milieu de vie ouvert et salle de psychomotricité \nTu as le goût de sortir de la maison et aller à la rencontre de d’autres famille. Viens jouer librement dans la salle de jeu\, la salle de psychomotricité ou notre parc extérieur dans nos locaux. Nous sommes ouvert du lundi au samedi de 9h00 à 12h00. \nPas besoin de réserver \, on est là pour vous accueillir. \nGratuit lorsqu’on est membre. \n \n 
URL:https://mdfbasques.com/evenement/espace-famille-6-2__trashed/2024-01-24/
LOCATION:Maison de la Famille des Basques\, 340\, rue Jean Rioux\, Trois-Pistoles\, Québec\, G0L 4K0\, Canada
CATEGORIES:Activités,Espace Famille
ATTACH;FMTTYPE=image/png:https://mdfbasques.com/wp-content/uploads/2023/08/Espace-famille-891-×-747-px-2.png
END:VEVENT
BEGIN:VEVENT
DTSTART;TZID=America/New_York:20240125T090000
DTEND;TZID=America/New_York:20240125T120000
DTSTAMP:20260425T165322
CREATED:20230810T012719Z
LAST-MODIFIED:20250326T175608Z
UID:10002337-1706173200-1706184000@mdfbasques.com
SUMMARY:Espace famille
DESCRIPTION:Milieu de vie ouvert et salle de psychomotricité \nTu as le goût de sortir de la maison et aller à la rencontre de d’autres famille. Viens jouer librement dans la salle de jeu\, la salle de psychomotricité ou notre parc extérieur dans nos locaux. Nous sommes ouvert du lundi au samedi de 9h00 à 12h00. \nPas besoin de réserver \, on est là pour vous accueillir. \nGratuit lorsqu’on est membre. \n \n 
URL:https://mdfbasques.com/evenement/espace-famille-6-3__trashed/2024-01-25/
LOCATION:Maison de la Famille des Basques\, 340\, rue Jean Rioux\, Trois-Pistoles\, Québec\, G0L 4K0\, Canada
CATEGORIES:Activités,Espace Famille
ATTACH;FMTTYPE=image/png:https://mdfbasques.com/wp-content/uploads/2023/08/Espace-famille-891-×-747-px-2.png
END:VEVENT
BEGIN:VEVENT
DTSTART;TZID=America/New_York:20240126T090000
DTEND;TZID=America/New_York:20240126T120000
DTSTAMP:20260425T165322
CREATED:20230810T012719Z
LAST-MODIFIED:20250326T175608Z
UID:10002358-1706259600-1706270400@mdfbasques.com
SUMMARY:Espace famille
DESCRIPTION:Milieu de vie ouvert et salle de psychomotricité \nTu as le goût de sortir de la maison et aller à la rencontre de d’autres famille. Viens jouer librement dans la salle de jeu\, la salle de psychomotricité ou notre parc extérieur dans nos locaux. Nous sommes ouvert du lundi au samedi de 9h00 à 12h00. \nPas besoin de réserver \, on est là pour vous accueillir. \nGratuit lorsqu’on est membre. \n \n 
URL:https://mdfbasques.com/evenement/espace-famille-6-4__trashed/2024-01-26/
LOCATION:Maison de la Famille des Basques\, 340\, rue Jean Rioux\, Trois-Pistoles\, Québec\, G0L 4K0\, Canada
CATEGORIES:Activités,Espace Famille
ATTACH;FMTTYPE=image/png:https://mdfbasques.com/wp-content/uploads/2023/08/Espace-famille-891-×-747-px-2.png
END:VEVENT
BEGIN:VEVENT
DTSTART;TZID=America/New_York:20240127T090000
DTEND;TZID=America/New_York:20240127T120000
DTSTAMP:20260425T165322
CREATED:20230810T012719Z
LAST-MODIFIED:20250326T175607Z
UID:10002379-1706346000-1706356800@mdfbasques.com
SUMMARY:Espace famille
DESCRIPTION:Milieu de vie ouvert et salle de psychomotricité \nTu as le goût de sortir de la maison et aller à la rencontre de d’autres famille. Viens jouer librement dans la salle de jeu\, la salle de psychomotricité ou notre parc extérieur dans nos locaux. Nous sommes ouvert du lundi au samedi de 9h00 à 12h00. \nPas besoin de réserver \, on est là pour vous accueillir. \nGratuit lorsqu’on est membre. \n \n 
URL:https://mdfbasques.com/evenement/espace-famille-6-5__trashed/2024-01-27/
LOCATION:Maison de la Famille des Basques\, 340\, rue Jean Rioux\, Trois-Pistoles\, Québec\, G0L 4K0\, Canada
CATEGORIES:Activités,Espace Famille
ATTACH;FMTTYPE=image/png:https://mdfbasques.com/wp-content/uploads/2023/08/Espace-famille-891-×-747-px-2.png
END:VEVENT
BEGIN:VEVENT
DTSTART;TZID=America/New_York:20240131T090000
DTEND;TZID=America/New_York:20240131T120000
DTSTAMP:20260425T165322
CREATED:20230810T012719Z
LAST-MODIFIED:20250326T175607Z
UID:10002265-1706691600-1706702400@mdfbasques.com
SUMMARY:Espace famille
DESCRIPTION:Milieu de vie ouvert et salle de psychomotricité \nTu as le goût de sortir de la maison et aller à la rencontre de d’autres famille. Viens jouer librement dans la salle de jeu\, la salle de psychomotricité ou notre parc extérieur dans nos locaux. Nous sommes ouvert du lundi au samedi de 9h00 à 12h00. \nPas besoin de réserver \, on est là pour vous accueillir. \nGratuit lorsqu’on est membre. \n \n 
URL:https://mdfbasques.com/evenement/espace-famille-6-2__trashed/2024-01-31/
LOCATION:Maison de la Famille des Basques\, 340\, rue Jean Rioux\, Trois-Pistoles\, Québec\, G0L 4K0\, Canada
CATEGORIES:Activités,Espace Famille
ATTACH;FMTTYPE=image/png:https://mdfbasques.com/wp-content/uploads/2023/08/Espace-famille-891-×-747-px-2.png
END:VEVENT
END:VCALENDAR