BEGIN:VCALENDAR
VERSION:2.0
PRODID:-//Maison de la Famille des Basques - ECPv6.15.16//NONSGML v1.0//EN
CALSCALE:GREGORIAN
METHOD:PUBLISH
X-ORIGINAL-URL:https://mdfbasques.com
X-WR-CALDESC:Évènements pour Maison de la Famille des Basques
REFRESH-INTERVAL;VALUE=DURATION:PT1H
X-Robots-Tag:noindex
X-PUBLISHED-TTL:PT1H
BEGIN:VTIMEZONE
TZID:America/New_York
BEGIN:DAYLIGHT
TZOFFSETFROM:-0500
TZOFFSETTO:-0400
TZNAME:EDT
DTSTART:20220313T070000
END:DAYLIGHT
BEGIN:STANDARD
TZOFFSETFROM:-0400
TZOFFSETTO:-0500
TZNAME:EST
DTSTART:20221106T060000
END:STANDARD
BEGIN:DAYLIGHT
TZOFFSETFROM:-0500
TZOFFSETTO:-0400
TZNAME:EDT
DTSTART:20230312T070000
END:DAYLIGHT
BEGIN:STANDARD
TZOFFSETFROM:-0400
TZOFFSETTO:-0500
TZNAME:EST
DTSTART:20231105T060000
END:STANDARD
BEGIN:DAYLIGHT
TZOFFSETFROM:-0500
TZOFFSETTO:-0400
TZNAME:EDT
DTSTART:20240310T070000
END:DAYLIGHT
BEGIN:STANDARD
TZOFFSETFROM:-0400
TZOFFSETTO:-0500
TZNAME:EST
DTSTART:20241103T060000
END:STANDARD
END:VTIMEZONE
BEGIN:VEVENT
DTSTART;TZID=America/New_York:20231004T090000
DTEND;TZID=America/New_York:20231004T120000
DTSTAMP:20260426T002656
CREATED:20230810T012719Z
LAST-MODIFIED:20250326T175554Z
UID:10001671-1696410000-1696420800@mdfbasques.com
SUMMARY:Espace famille
DESCRIPTION:Milieu de vie ouvert et salle de psychomotricité \nTu as le goût de sortir de la maison et aller à la rencontre de d’autres famille. Viens jouer librement dans la salle de jeu\, la salle de psychomotricité ou notre parc extérieur dans nos locaux. Nous sommes ouvert du lundi au samedi de 9h00 à 12h00. \nPas besoin de réserver \, on est là pour vous accueillir. \nGratuit lorsqu’on est membre. \n \n 
URL:https://mdfbasques.com/evenement/espace-famille-6__trashed/2023-10-04/
LOCATION:Maison de la Famille des Basques\, 340\, rue Jean Rioux\, Trois-Pistoles\, Québec\, G0L 4K0\, Canada
CATEGORIES:Activités,Espace Famille
ATTACH;FMTTYPE=image/png:https://mdfbasques.com/wp-content/uploads/2023/08/Espace-famille-891-×-747-px-2.png
END:VEVENT
BEGIN:VEVENT
DTSTART;TZID=America/New_York:20231005T090000
DTEND;TZID=America/New_York:20231005T120000
DTSTAMP:20260426T002656
CREATED:20230810T012719Z
LAST-MODIFIED:20250326T175554Z
UID:10001672-1696496400-1696507200@mdfbasques.com
SUMMARY:Espace famille
DESCRIPTION:Milieu de vie ouvert et salle de psychomotricité \nTu as le goût de sortir de la maison et aller à la rencontre de d’autres famille. Viens jouer librement dans la salle de jeu\, la salle de psychomotricité ou notre parc extérieur dans nos locaux. Nous sommes ouvert du lundi au samedi de 9h00 à 12h00. \nPas besoin de réserver \, on est là pour vous accueillir. \nGratuit lorsqu’on est membre. \n \n 
URL:https://mdfbasques.com/evenement/espace-famille-6__trashed/2023-10-05/
LOCATION:Maison de la Famille des Basques\, 340\, rue Jean Rioux\, Trois-Pistoles\, Québec\, G0L 4K0\, Canada
CATEGORIES:Activités,Espace Famille
ATTACH;FMTTYPE=image/png:https://mdfbasques.com/wp-content/uploads/2023/08/Espace-famille-891-×-747-px-2.png
END:VEVENT
BEGIN:VEVENT
DTSTART;TZID=America/New_York:20231006T090000
DTEND;TZID=America/New_York:20231006T120000
DTSTAMP:20260426T002656
CREATED:20230810T012719Z
LAST-MODIFIED:20250326T175554Z
UID:10001673-1696582800-1696593600@mdfbasques.com
SUMMARY:Espace famille
DESCRIPTION:Milieu de vie ouvert et salle de psychomotricité \nTu as le goût de sortir de la maison et aller à la rencontre de d’autres famille. Viens jouer librement dans la salle de jeu\, la salle de psychomotricité ou notre parc extérieur dans nos locaux. Nous sommes ouvert du lundi au samedi de 9h00 à 12h00. \nPas besoin de réserver \, on est là pour vous accueillir. \nGratuit lorsqu’on est membre. \n \n 
URL:https://mdfbasques.com/evenement/espace-famille-6__trashed/2023-10-06/
LOCATION:Maison de la Famille des Basques\, 340\, rue Jean Rioux\, Trois-Pistoles\, Québec\, G0L 4K0\, Canada
CATEGORIES:Activités,Espace Famille
ATTACH;FMTTYPE=image/png:https://mdfbasques.com/wp-content/uploads/2023/08/Espace-famille-891-×-747-px-2.png
END:VEVENT
BEGIN:VEVENT
DTSTART;TZID=America/New_York:20231011T090000
DTEND;TZID=America/New_York:20231011T120000
DTSTAMP:20260426T002656
CREATED:20230810T012719Z
LAST-MODIFIED:20250326T175554Z
UID:10001676-1697014800-1697025600@mdfbasques.com
SUMMARY:Espace famille
DESCRIPTION:Milieu de vie ouvert et salle de psychomotricité \nTu as le goût de sortir de la maison et aller à la rencontre de d’autres famille. Viens jouer librement dans la salle de jeu\, la salle de psychomotricité ou notre parc extérieur dans nos locaux. Nous sommes ouvert du lundi au samedi de 9h00 à 12h00. \nPas besoin de réserver \, on est là pour vous accueillir. \nGratuit lorsqu’on est membre. \n \n 
URL:https://mdfbasques.com/evenement/espace-famille-6__trashed/2023-10-11/
LOCATION:Maison de la Famille des Basques\, 340\, rue Jean Rioux\, Trois-Pistoles\, Québec\, G0L 4K0\, Canada
CATEGORIES:Activités,Espace Famille
ATTACH;FMTTYPE=image/png:https://mdfbasques.com/wp-content/uploads/2023/08/Espace-famille-891-×-747-px-2.png
END:VEVENT
BEGIN:VEVENT
DTSTART;TZID=America/New_York:20231012T090000
DTEND;TZID=America/New_York:20231012T120000
DTSTAMP:20260426T002656
CREATED:20230810T012719Z
LAST-MODIFIED:20250326T175554Z
UID:10001677-1697101200-1697112000@mdfbasques.com
SUMMARY:Espace famille
DESCRIPTION:Milieu de vie ouvert et salle de psychomotricité \nTu as le goût de sortir de la maison et aller à la rencontre de d’autres famille. Viens jouer librement dans la salle de jeu\, la salle de psychomotricité ou notre parc extérieur dans nos locaux. Nous sommes ouvert du lundi au samedi de 9h00 à 12h00. \nPas besoin de réserver \, on est là pour vous accueillir. \nGratuit lorsqu’on est membre. \n \n 
URL:https://mdfbasques.com/evenement/espace-famille-6__trashed/2023-10-12/
LOCATION:Maison de la Famille des Basques\, 340\, rue Jean Rioux\, Trois-Pistoles\, Québec\, G0L 4K0\, Canada
CATEGORIES:Activités,Espace Famille
ATTACH;FMTTYPE=image/png:https://mdfbasques.com/wp-content/uploads/2023/08/Espace-famille-891-×-747-px-2.png
END:VEVENT
BEGIN:VEVENT
DTSTART;TZID=America/New_York:20231013T090000
DTEND;TZID=America/New_York:20231013T120000
DTSTAMP:20260426T002656
CREATED:20230810T012719Z
LAST-MODIFIED:20250326T175554Z
UID:10001678-1697187600-1697198400@mdfbasques.com
SUMMARY:Espace famille
DESCRIPTION:Milieu de vie ouvert et salle de psychomotricité \nTu as le goût de sortir de la maison et aller à la rencontre de d’autres famille. Viens jouer librement dans la salle de jeu\, la salle de psychomotricité ou notre parc extérieur dans nos locaux. Nous sommes ouvert du lundi au samedi de 9h00 à 12h00. \nPas besoin de réserver \, on est là pour vous accueillir. \nGratuit lorsqu’on est membre. \n \n 
URL:https://mdfbasques.com/evenement/espace-famille-6__trashed/2023-10-13/
LOCATION:Maison de la Famille des Basques\, 340\, rue Jean Rioux\, Trois-Pistoles\, Québec\, G0L 4K0\, Canada
CATEGORIES:Activités,Espace Famille
ATTACH;FMTTYPE=image/png:https://mdfbasques.com/wp-content/uploads/2023/08/Espace-famille-891-×-747-px-2.png
END:VEVENT
BEGIN:VEVENT
DTSTART;TZID=America/New_York:20231014T090000
DTEND;TZID=America/New_York:20231014T120000
DTSTAMP:20260426T002656
CREATED:20230810T012719Z
LAST-MODIFIED:20250326T175554Z
UID:10001679-1697274000-1697284800@mdfbasques.com
SUMMARY:Espace famille
DESCRIPTION:Milieu de vie ouvert et salle de psychomotricité \nTu as le goût de sortir de la maison et aller à la rencontre de d’autres famille. Viens jouer librement dans la salle de jeu\, la salle de psychomotricité ou notre parc extérieur dans nos locaux. Nous sommes ouvert du lundi au samedi de 9h00 à 12h00. \nPas besoin de réserver \, on est là pour vous accueillir. \nGratuit lorsqu’on est membre. \n \n 
URL:https://mdfbasques.com/evenement/espace-famille-6__trashed/2023-10-14/
LOCATION:Maison de la Famille des Basques\, 340\, rue Jean Rioux\, Trois-Pistoles\, Québec\, G0L 4K0\, Canada
CATEGORIES:Activités,Espace Famille
ATTACH;FMTTYPE=image/png:https://mdfbasques.com/wp-content/uploads/2023/08/Espace-famille-891-×-747-px-2.png
END:VEVENT
BEGIN:VEVENT
DTSTART;TZID=America/New_York:20231018T090000
DTEND;TZID=America/New_York:20231018T120000
DTSTAMP:20260426T002656
CREATED:20230810T012719Z
LAST-MODIFIED:20250326T175554Z
UID:10001682-1697619600-1697630400@mdfbasques.com
SUMMARY:Espace famille
DESCRIPTION:Milieu de vie ouvert et salle de psychomotricité \nTu as le goût de sortir de la maison et aller à la rencontre de d’autres famille. Viens jouer librement dans la salle de jeu\, la salle de psychomotricité ou notre parc extérieur dans nos locaux. Nous sommes ouvert du lundi au samedi de 9h00 à 12h00. \nPas besoin de réserver \, on est là pour vous accueillir. \nGratuit lorsqu’on est membre. \n \n 
URL:https://mdfbasques.com/evenement/espace-famille-6__trashed/2023-10-18/
LOCATION:Maison de la Famille des Basques\, 340\, rue Jean Rioux\, Trois-Pistoles\, Québec\, G0L 4K0\, Canada
CATEGORIES:Activités,Espace Famille
ATTACH;FMTTYPE=image/png:https://mdfbasques.com/wp-content/uploads/2023/08/Espace-famille-891-×-747-px-2.png
END:VEVENT
BEGIN:VEVENT
DTSTART;TZID=America/New_York:20231019T090000
DTEND;TZID=America/New_York:20231019T120000
DTSTAMP:20260426T002656
CREATED:20230810T012719Z
LAST-MODIFIED:20250326T175554Z
UID:10001683-1697706000-1697716800@mdfbasques.com
SUMMARY:Espace famille
DESCRIPTION:Milieu de vie ouvert et salle de psychomotricité \nTu as le goût de sortir de la maison et aller à la rencontre de d’autres famille. Viens jouer librement dans la salle de jeu\, la salle de psychomotricité ou notre parc extérieur dans nos locaux. Nous sommes ouvert du lundi au samedi de 9h00 à 12h00. \nPas besoin de réserver \, on est là pour vous accueillir. \nGratuit lorsqu’on est membre. \n \n 
URL:https://mdfbasques.com/evenement/espace-famille-6__trashed/2023-10-19/
LOCATION:Maison de la Famille des Basques\, 340\, rue Jean Rioux\, Trois-Pistoles\, Québec\, G0L 4K0\, Canada
CATEGORIES:Activités,Espace Famille
ATTACH;FMTTYPE=image/png:https://mdfbasques.com/wp-content/uploads/2023/08/Espace-famille-891-×-747-px-2.png
END:VEVENT
BEGIN:VEVENT
DTSTART;TZID=America/New_York:20231020T090000
DTEND;TZID=America/New_York:20231020T120000
DTSTAMP:20260426T002656
CREATED:20230810T012719Z
LAST-MODIFIED:20250326T175554Z
UID:10001684-1697792400-1697803200@mdfbasques.com
SUMMARY:Espace famille
DESCRIPTION:Milieu de vie ouvert et salle de psychomotricité \nTu as le goût de sortir de la maison et aller à la rencontre de d’autres famille. Viens jouer librement dans la salle de jeu\, la salle de psychomotricité ou notre parc extérieur dans nos locaux. Nous sommes ouvert du lundi au samedi de 9h00 à 12h00. \nPas besoin de réserver \, on est là pour vous accueillir. \nGratuit lorsqu’on est membre. \n \n 
URL:https://mdfbasques.com/evenement/espace-famille-6__trashed/2023-10-20/
LOCATION:Maison de la Famille des Basques\, 340\, rue Jean Rioux\, Trois-Pistoles\, Québec\, G0L 4K0\, Canada
CATEGORIES:Activités,Espace Famille
ATTACH;FMTTYPE=image/png:https://mdfbasques.com/wp-content/uploads/2023/08/Espace-famille-891-×-747-px-2.png
END:VEVENT
BEGIN:VEVENT
DTSTART;TZID=America/New_York:20231021T090000
DTEND;TZID=America/New_York:20231021T120000
DTSTAMP:20260426T002656
CREATED:20230810T012719Z
LAST-MODIFIED:20250326T175554Z
UID:10001685-1697878800-1697889600@mdfbasques.com
SUMMARY:Espace famille
DESCRIPTION:Milieu de vie ouvert et salle de psychomotricité \nTu as le goût de sortir de la maison et aller à la rencontre de d’autres famille. Viens jouer librement dans la salle de jeu\, la salle de psychomotricité ou notre parc extérieur dans nos locaux. Nous sommes ouvert du lundi au samedi de 9h00 à 12h00. \nPas besoin de réserver \, on est là pour vous accueillir. \nGratuit lorsqu’on est membre. \n \n 
URL:https://mdfbasques.com/evenement/espace-famille-6__trashed/2023-10-21/
LOCATION:Maison de la Famille des Basques\, 340\, rue Jean Rioux\, Trois-Pistoles\, Québec\, G0L 4K0\, Canada
CATEGORIES:Activités,Espace Famille
ATTACH;FMTTYPE=image/png:https://mdfbasques.com/wp-content/uploads/2023/08/Espace-famille-891-×-747-px-2.png
END:VEVENT
BEGIN:VEVENT
DTSTART;TZID=America/New_York:20231025T090000
DTEND;TZID=America/New_York:20231025T120000
DTSTAMP:20260426T002656
CREATED:20230810T012719Z
LAST-MODIFIED:20250326T175554Z
UID:10001688-1698224400-1698235200@mdfbasques.com
SUMMARY:Espace famille
DESCRIPTION:Milieu de vie ouvert et salle de psychomotricité \nTu as le goût de sortir de la maison et aller à la rencontre de d’autres famille. Viens jouer librement dans la salle de jeu\, la salle de psychomotricité ou notre parc extérieur dans nos locaux. Nous sommes ouvert du lundi au samedi de 9h00 à 12h00. \nPas besoin de réserver \, on est là pour vous accueillir. \nGratuit lorsqu’on est membre. \n \n 
URL:https://mdfbasques.com/evenement/espace-famille-6__trashed/2023-10-25/
LOCATION:Maison de la Famille des Basques\, 340\, rue Jean Rioux\, Trois-Pistoles\, Québec\, G0L 4K0\, Canada
CATEGORIES:Activités,Espace Famille
ATTACH;FMTTYPE=image/png:https://mdfbasques.com/wp-content/uploads/2023/08/Espace-famille-891-×-747-px-2.png
END:VEVENT
BEGIN:VEVENT
DTSTART;TZID=America/New_York:20231026T090000
DTEND;TZID=America/New_York:20231026T120000
DTSTAMP:20260426T002656
CREATED:20230810T012719Z
LAST-MODIFIED:20250326T175554Z
UID:10001689-1698310800-1698321600@mdfbasques.com
SUMMARY:Espace famille
DESCRIPTION:Milieu de vie ouvert et salle de psychomotricité \nTu as le goût de sortir de la maison et aller à la rencontre de d’autres famille. Viens jouer librement dans la salle de jeu\, la salle de psychomotricité ou notre parc extérieur dans nos locaux. Nous sommes ouvert du lundi au samedi de 9h00 à 12h00. \nPas besoin de réserver \, on est là pour vous accueillir. \nGratuit lorsqu’on est membre. \n \n 
URL:https://mdfbasques.com/evenement/espace-famille-6__trashed/2023-10-26/
LOCATION:Maison de la Famille des Basques\, 340\, rue Jean Rioux\, Trois-Pistoles\, Québec\, G0L 4K0\, Canada
CATEGORIES:Activités,Espace Famille
ATTACH;FMTTYPE=image/png:https://mdfbasques.com/wp-content/uploads/2023/08/Espace-famille-891-×-747-px-2.png
END:VEVENT
END:VCALENDAR