BEGIN:VCALENDAR
VERSION:2.0
PRODID:-//Maison de la Famille des Basques - ECPv6.15.16//NONSGML v1.0//EN
CALSCALE:GREGORIAN
METHOD:PUBLISH
X-WR-CALNAME:Maison de la Famille des Basques
X-ORIGINAL-URL:https://mdfbasques.com
X-WR-CALDESC:Évènements pour Maison de la Famille des Basques
REFRESH-INTERVAL;VALUE=DURATION:PT1H
X-Robots-Tag:noindex
X-PUBLISHED-TTL:PT1H
BEGIN:VTIMEZONE
TZID:America/New_York
BEGIN:DAYLIGHT
TZOFFSETFROM:-0500
TZOFFSETTO:-0400
TZNAME:EDT
DTSTART:20250309T070000
END:DAYLIGHT
BEGIN:STANDARD
TZOFFSETFROM:-0400
TZOFFSETTO:-0500
TZNAME:EST
DTSTART:20251102T060000
END:STANDARD
BEGIN:DAYLIGHT
TZOFFSETFROM:-0500
TZOFFSETTO:-0400
TZNAME:EDT
DTSTART:20260308T070000
END:DAYLIGHT
BEGIN:STANDARD
TZOFFSETFROM:-0400
TZOFFSETTO:-0500
TZNAME:EST
DTSTART:20261101T060000
END:STANDARD
BEGIN:DAYLIGHT
TZOFFSETFROM:-0500
TZOFFSETTO:-0400
TZNAME:EDT
DTSTART:20270314T070000
END:DAYLIGHT
BEGIN:STANDARD
TZOFFSETFROM:-0400
TZOFFSETTO:-0500
TZNAME:EST
DTSTART:20271107T060000
END:STANDARD
END:VTIMEZONE
BEGIN:VEVENT
DTSTART;TZID=America/New_York:20260424T090000
DTEND;TZID=America/New_York:20260424T120000
DTSTAMP:20260424T061905
CREATED:20260224T161345Z
LAST-MODIFIED:20260224T161809Z
UID:10004242-1777021200-1777032000@mdfbasques.com
SUMMARY:Espace famille
DESCRIPTION:Milieu de vie ouvert! \nTu as le goût de sortir de la maison et aller à la rencontre de d’autres familles ?  Viens jouer librement dans la salle de jeux\, la salle de psychomotricité ou notre parc extérieur. \nPas besoin de réservation\, nous sommes là pour vous accueillir. \nGratuit pour les membres.
URL:https://mdfbasques.com/evenement/espace-famille-7-2/2026-04-24/
LOCATION:Maison de la Famille des Basques\, 340\, rue Jean Rioux\, Trois-Pistoles\, Québec\, G0L 4K0\, Canada
CATEGORIES:Espace Famille
ATTACH;FMTTYPE=image/png:https://mdfbasques.com/wp-content/uploads/2025/07/Espace-famille-20246.png
END:VEVENT
BEGIN:VEVENT
DTSTART;TZID=America/New_York:20260424T093000
DTEND;TZID=America/New_York:20260424T110000
DTSTAMP:20260424T061905
CREATED:20260403T182544Z
LAST-MODIFIED:20260403T182654Z
UID:10004311-1777023000-1777028400@mdfbasques.com
SUMMARY:Bien-être numérique des parents en présence de leurs enfants
DESCRIPTION:Vous vous questionnez sur votre utilisation des écrans lorsque vous êtes en présence de vos enfants ?\nVenez à cet atelier de groupe animé par Marie Caron\, stagiaire en techniques de travail social. \nL’atelier se déroule de 9h30 à 11h.\nInscrivez-vous dès maintenant! \nPour toutes questions\, contactez Marie au poste 301.
URL:https://mdfbasques.com/evenement/bien-etre-numerique-des-parents-en-presence-de-leurs-enfants/
LOCATION:Maison de la Famille des Basques\, 340\, rue Jean Rioux\, Trois-Pistoles\, Québec\, G0L 4K0\, Canada
ATTACH;FMTTYPE=image/png:https://mdfbasques.com/wp-content/uploads/2026/04/Atelier-Marie-24-avril.png
END:VEVENT
BEGIN:VEVENT
DTSTART;TZID=America/New_York:20260424T173000
DTEND;TZID=America/New_York:20260424T203000
DTSTAMP:20260424T061905
CREATED:20260305T021401Z
LAST-MODIFIED:20260305T021401Z
UID:10004294-1777051800-1777062600@mdfbasques.com
SUMMARY:Halte-garderie
DESCRIPTION:Vous avez besoin d’un moment de répit pour vous reposer? Vous voulez aller à un rendez-vous ? Vous aimeriez que votre enfant socialise avec d’autres enfants? La halte-garderie est disponible pour vous! \nApportez ce que votre enfant aura besoin (par exemple\, couches\, lingettes\, repas\, collations\, objets de réconfort\, etc.). \n3$ de l’heure\n7$ pour la demi-journée\n15$ pour la journée complète\nVeuillez noter qu’il faut être membre pour utiliser le service. \nPour réserver une place\, inscrivez-vous sur le site web. Si vous avez des questions\, vous pouvez nous joindre sur Facebook (Messenger) ou par téléphone au 418-851-2662 poste 308 ou poste 303.
URL:https://mdfbasques.com/evenement/halte-garderie-188/
LOCATION:Maison de la Famille des Basques\, 340\, rue Jean Rioux\, Trois-Pistoles\, Québec\, G0L 4K0\, Canada
CATEGORIES:Halte-garderie
ATTACH;FMTTYPE=image/png:https://mdfbasques.com/wp-content/uploads/2024/09/halte-fds-1.png
END:VEVENT
END:VCALENDAR