BEGIN:VCALENDAR
VERSION:2.0
PRODID:-//Maison de la Famille des Basques - ECPv6.15.16//NONSGML v1.0//EN
CALSCALE:GREGORIAN
METHOD:PUBLISH
X-WR-CALNAME:Maison de la Famille des Basques
X-ORIGINAL-URL:https://mdfbasques.com
X-WR-CALDESC:Évènements pour Maison de la Famille des Basques
REFRESH-INTERVAL;VALUE=DURATION:PT1H
X-Robots-Tag:noindex
X-PUBLISHED-TTL:PT1H
BEGIN:VTIMEZONE
TZID:America/New_York
BEGIN:DAYLIGHT
TZOFFSETFROM:-0500
TZOFFSETTO:-0400
TZNAME:EDT
DTSTART:20250309T070000
END:DAYLIGHT
BEGIN:STANDARD
TZOFFSETFROM:-0400
TZOFFSETTO:-0500
TZNAME:EST
DTSTART:20251102T060000
END:STANDARD
BEGIN:DAYLIGHT
TZOFFSETFROM:-0500
TZOFFSETTO:-0400
TZNAME:EDT
DTSTART:20260308T070000
END:DAYLIGHT
BEGIN:STANDARD
TZOFFSETFROM:-0400
TZOFFSETTO:-0500
TZNAME:EST
DTSTART:20261101T060000
END:STANDARD
BEGIN:DAYLIGHT
TZOFFSETFROM:-0500
TZOFFSETTO:-0400
TZNAME:EDT
DTSTART:20270314T070000
END:DAYLIGHT
BEGIN:STANDARD
TZOFFSETFROM:-0400
TZOFFSETTO:-0500
TZNAME:EST
DTSTART:20271107T060000
END:STANDARD
END:VTIMEZONE
BEGIN:VEVENT
DTSTART;TZID=America/New_York:20260420T090000
DTEND;TZID=America/New_York:20260420T150000
DTSTAMP:20260420T014057
CREATED:20260305T015914Z
LAST-MODIFIED:20260305T015914Z
UID:10004291-1776675600-1776697200@mdfbasques.com
SUMMARY:Halte-garderie
DESCRIPTION:Vous avez besoin d’un moment de répit pour vous reposer? Vous voulez aller à un rendez-vous ? Vous aimeriez que votre enfant socialise avec d’autres enfants? La halte-garderie est disponible pour vous! \nApportez ce que votre enfant aura besoin (par exemple\, couches\, lingettes\, repas\, collations\, objets de réconfort\, etc.). \n3$ de l’heure\n7$ pour la demi-journée\n15$ pour la journée complète\nVeuillez noter qu’il faut être membre pour utiliser le service. \nPour réserver une place\, inscrivez-vous sur le site web. Si vous avez des questions\, vous pouvez nous joindre sur Facebook (Messenger) ou par téléphone au 418-851-2662 poste 308 ou poste 303.
URL:https://mdfbasques.com/evenement/halte-garderie-185/
LOCATION:Maison de la Famille des Basques\, 340\, rue Jean Rioux\, Trois-Pistoles\, Québec\, G0L 4K0\, Canada
CATEGORIES:Halte-garderie
ATTACH;FMTTYPE=image/png:https://mdfbasques.com/wp-content/uploads/2025/10/Billet-halte-garderie.png
END:VEVENT
BEGIN:VEVENT
DTSTART;TZID=America/New_York:20260420T093000
DTEND;TZID=America/New_York:20260420T110000
DTSTAMP:20260420T014057
CREATED:20260403T183639Z
LAST-MODIFIED:20260409T122911Z
UID:10004314-1776677400-1776682800@mdfbasques.com
SUMMARY:Halte-bébé - Atelier interactif : pose toutes tes questions\, partage tes expériences et mises en situation
DESCRIPTION:L’occasion parfaite pour sortir de la maison\, rencontrer d’autres parents et discuter de divers sujets en lien avec la parentalité. Cathie Morin\, infirmière en périnatalité est présente un atelier sur deux pour répondre à vos questionnements\, pour peser bébé ou autres selon vos besoins! \n9h30 à 11h00. \nSujet : Atelier interactif : pose toutes tes questions\, partage tes expériences et mises en situation\, avec Cathie Morin\, infirmière en périnatalité \nPour plus d’informations : 418-851-2662 poste 306 (Vicky)
URL:https://mdfbasques.com/evenement/halte-bebe-sujet-a-venir/
LOCATION:Maison de la Famille des Basques\, 340\, rue Jean Rioux\, Trois-Pistoles\, Québec\, G0L 4K0\, Canada
CATEGORIES:Halte-Bébé
ATTACH;FMTTYPE=image/png:https://mdfbasques.com/wp-content/uploads/2026/04/Halte-bebe-20-avril.png
END:VEVENT
END:VCALENDAR